BEGIN:VCALENDAR
VERSION:2.0
PRODID:-//Amici - ECPv6.14.0//NONSGML v1.0//EN
CALSCALE:GREGORIAN
METHOD:PUBLISH
X-WR-CALNAME:Amici
X-ORIGINAL-URL:https://amicirestaurant.org
X-WR-CALDESC:Events for Amici
REFRESH-INTERVAL;VALUE=DURATION:PT1H
X-Robots-Tag:noindex
X-PUBLISHED-TTL:PT1H
BEGIN:VTIMEZONE
TZID:America/New_York
BEGIN:DAYLIGHT
TZOFFSETFROM:-0500
TZOFFSETTO:-0400
TZNAME:EDT
DTSTART:20220313T070000
END:DAYLIGHT
BEGIN:STANDARD
TZOFFSETFROM:-0400
TZOFFSETTO:-0500
TZNAME:EST
DTSTART:20221106T060000
END:STANDARD
BEGIN:DAYLIGHT
TZOFFSETFROM:-0500
TZOFFSETTO:-0400
TZNAME:EDT
DTSTART:20230312T070000
END:DAYLIGHT
BEGIN:STANDARD
TZOFFSETFROM:-0400
TZOFFSETTO:-0500
TZNAME:EST
DTSTART:20231105T060000
END:STANDARD
END:VTIMEZONE
BEGIN:VEVENT
DTSTART;TZID=America/New_York:20230126T183000
DTEND;TZID=America/New_York:20230126T203000
DTSTAMP:20260421T014517
CREATED:20221020T161224Z
LAST-MODIFIED:20240104T171846Z
UID:10000179-1674757800-1674765000@amicirestaurant.org
SUMMARY:Trivia Night!
DESCRIPTION:Join us for Trivia Night at Amici! \nStarting at 6:30 \nAppetizer specials
URL:https://amicirestaurant.org/event/trivia-night/2023-01-26/
LOCATION:Amici Restaurant\, 304 Rt 25A\, Mt Sinai\, NY\, 11766\, United States
ATTACH;FMTTYPE=image/jpeg:https://amicirestaurant.org/wp-content/uploads/2022/10/trivia-night.jpg
END:VEVENT
BEGIN:VEVENT
DTSTART;TZID=America/New_York:20230121T180000
DTEND;TZID=America/New_York:20230121T210000
DTSTAMP:20260421T014517
CREATED:20230109T210438Z
LAST-MODIFIED:20230109T210438Z
UID:10000254-1674324000-1674334800@amicirestaurant.org
SUMMARY:Toni Ann's Soul Sessions
DESCRIPTION:I am so excited to make my debut at Amici! I specialize in performing well know songs from yesterday and today\, guaranteeing ALL will feel moved….from your head to your soul! You will hear everything from Patsy Cline to Stevie Nicks to Melissa Etheridge and so much more! \n631-473-2400\, please call for details
URL:https://amicirestaurant.org/event/toni_ann_012123/
LOCATION:Amici Restaurant\, 304 Rt 25A\, Mt Sinai\, NY\, 11766\, United States
ATTACH;FMTTYPE=image/jpeg:https://amicirestaurant.org/wp-content/uploads/2023/01/toni_ann.jpg
END:VEVENT
BEGIN:VEVENT
DTSTART;TZID=America/New_York:20230120T180000
DTEND;TZID=America/New_York:20230120T210000
DTSTAMP:20260421T014517
CREATED:20230105T032105Z
LAST-MODIFIED:20230105T032105Z
UID:10000251-1674237600-1674248400@amicirestaurant.org
SUMMARY:Chuck Evans Band
DESCRIPTION:Chuck Evans Band… in the words of one fan\, “it’s a bottomless barrel of musical ear candy”. Fans tell the band\, time and time again\, that they loved dancing\, stomping\, singing along to every song!! \nA great laundry list of songs\, new and old\, that patrons of all ages can enjoy!  Chuck Evans Band Electrifying “ One of a kind” With love. \nhttps://www.facebook.com/chuckevansband \nhttps://www.chuckevans.net \n631-473-2400\, please call for details
URL:https://amicirestaurant.org/event/chuck-evans-band-8/
LOCATION:Amici Restaurant\, 304 Rt 25A\, Mt Sinai\, NY\, 11766\, United States
ATTACH;FMTTYPE=image/jpeg:https://amicirestaurant.org/wp-content/uploads/2021/07/chuck_evans.jpg
END:VEVENT
BEGIN:VEVENT
DTSTART;TZID=America/New_York:20230119T183000
DTEND;TZID=America/New_York:20230119T203000
DTSTAMP:20260421T014517
CREATED:20221020T161224Z
LAST-MODIFIED:20240104T171846Z
UID:10000178-1674153000-1674160200@amicirestaurant.org
SUMMARY:Trivia Night!
DESCRIPTION:Join us for Trivia Night at Amici! \nStarting at 6:30 \nAppetizer specials
URL:https://amicirestaurant.org/event/trivia-night/2023-01-19/
LOCATION:Amici Restaurant\, 304 Rt 25A\, Mt Sinai\, NY\, 11766\, United States
ATTACH;FMTTYPE=image/jpeg:https://amicirestaurant.org/wp-content/uploads/2022/10/trivia-night.jpg
END:VEVENT
BEGIN:VEVENT
DTSTART;TZID=America/New_York:20230114T180000
DTEND;TZID=America/New_York:20230114T210000
DTSTAMP:20260421T014517
CREATED:20230105T032327Z
LAST-MODIFIED:20230105T032327Z
UID:10000253-1673719200-1673730000@amicirestaurant.org
SUMMARY:DNA
DESCRIPTION:DNA (Danny and Alexis) singing all your favorite songs from yesterday and today! From Dean Martin to Garth Brooks and Rosemary Clooney to Meghan Trainor. A great mix of genres for all tastes! \nhttps://instagram.com/dna_vocal_duo \nhttps://www.facebook.com/powervocalduo/  \n 
URL:https://amicirestaurant.org/event/dna-11/
LOCATION:Amici Restaurant\, 304 Rt 25A\, Mt Sinai\, NY\, 11766\, United States
ATTACH;FMTTYPE=image/jpeg:https://amicirestaurant.org/wp-content/uploads/2021/04/DNA-1.jpg
END:VEVENT
BEGIN:VEVENT
DTSTART;TZID=America/New_York:20230113T180000
DTEND;TZID=America/New_York:20230113T210000
DTSTAMP:20260421T014517
CREATED:20230105T032112Z
LAST-MODIFIED:20230105T032112Z
UID:10000252-1673632800-1673643600@amicirestaurant.org
SUMMARY:Gina Mingoia
DESCRIPTION:Gina Mingoia has been performing live around Long Island for the last decade. She began singing alongside her father at age 12 and has been performing ever since. In 2018\, she opened for Brett Eldredge at the Brookhaven Amphitheatre\, and in 2019\, she opened for Michael Ray. Gina has recorded several singles in Nashville. \n  \nInstagram: \ninstagram.com/ginamingoia \nFacebook Page \nfacebook.com/ginamingoiamusic \n 
URL:https://amicirestaurant.org/event/gina-mingoia-7/
LOCATION:Amici Restaurant\, 304 Rt 25A\, Mt Sinai\, NY\, 11766\, United States
ATTACH;FMTTYPE=image/jpeg:https://amicirestaurant.org/wp-content/uploads/2021/08/gina_mingoia.jpg
END:VEVENT
BEGIN:VEVENT
DTSTART;TZID=America/New_York:20230112T183000
DTEND;TZID=America/New_York:20230112T203000
DTSTAMP:20260421T014517
CREATED:20221020T161224Z
LAST-MODIFIED:20240104T171846Z
UID:10000177-1673548200-1673555400@amicirestaurant.org
SUMMARY:Trivia Night!
DESCRIPTION:Join us for Trivia Night at Amici! \nStarting at 6:30 \nAppetizer specials
URL:https://amicirestaurant.org/event/trivia-night/2023-01-12/
LOCATION:Amici Restaurant\, 304 Rt 25A\, Mt Sinai\, NY\, 11766\, United States
ATTACH;FMTTYPE=image/jpeg:https://amicirestaurant.org/wp-content/uploads/2022/10/trivia-night.jpg
END:VEVENT
BEGIN:VEVENT
DTSTART;TZID=America/New_York:20230107T180000
DTEND;TZID=America/New_York:20230107T210000
DTSTAMP:20260421T014517
CREATED:20230105T032034Z
LAST-MODIFIED:20230105T032034Z
UID:10000248-1673114400-1673125200@amicirestaurant.org
SUMMARY:Vinny and Lexi
DESCRIPTION:Vinny and Lexi are two new\, aspiring musicians who play a variety of music including pop\, soft rock\, country\, and more. They have played at various venues and are looking forward to performing again showcasing their talent and love for music. You certainly won’t be disappointed listening to the music of this amazing duo. \n631-473-2400\, please call for details
URL:https://amicirestaurant.org/event/vinny-and-lexi-010723/
LOCATION:Amici Restaurant\, 304 Rt 25A\, Mt Sinai\, NY\, 11766\, United States
ATTACH;FMTTYPE=image/jpeg:https://amicirestaurant.org/wp-content/uploads/2023/01/lexi_vinny2.jpg
END:VEVENT
BEGIN:VEVENT
DTSTART;TZID=America/New_York:20230106T180000
DTEND;TZID=America/New_York:20230106T210000
DTSTAMP:20260421T014517
CREATED:20230105T032054Z
LAST-MODIFIED:20230105T032054Z
UID:10000250-1673028000-1673038800@amicirestaurant.org
SUMMARY:DNA
DESCRIPTION:DNA (Danny and Alexis) singing all your favorite songs from yesterday and today! From Dean Martin to Garth Brooks and Rosemary Clooney to Meghan Trainor. A great mix of genres for all tastes! \nhttps://instagram.com/dna_vocal_duo \nhttps://www.facebook.com/powervocalduo/  \n 
URL:https://amicirestaurant.org/event/dna-10/
LOCATION:Amici Restaurant\, 304 Rt 25A\, Mt Sinai\, NY\, 11766\, United States
ATTACH;FMTTYPE=image/jpeg:https://amicirestaurant.org/wp-content/uploads/2021/04/DNA-1.jpg
END:VEVENT
BEGIN:VEVENT
DTSTART;TZID=America/New_York:20230105T183000
DTEND;TZID=America/New_York:20230105T203000
DTSTAMP:20260421T014517
CREATED:20221020T161224Z
LAST-MODIFIED:20240104T171846Z
UID:10000176-1672943400-1672950600@amicirestaurant.org
SUMMARY:Trivia Night!
DESCRIPTION:Join us for Trivia Night at Amici! \nStarting at 6:30 \nAppetizer specials
URL:https://amicirestaurant.org/event/trivia-night/2023-01-05/
LOCATION:Amici Restaurant\, 304 Rt 25A\, Mt Sinai\, NY\, 11766\, United States
ATTACH;FMTTYPE=image/jpeg:https://amicirestaurant.org/wp-content/uploads/2022/10/trivia-night.jpg
END:VEVENT
BEGIN:VEVENT
DTSTART;TZID=America/New_York:20221230T180000
DTEND;TZID=America/New_York:20221230T210000
DTSTAMP:20260421T014517
CREATED:20221126T165016Z
LAST-MODIFIED:20221126T165016Z
UID:10000246-1672423200-1672434000@amicirestaurant.org
SUMMARY:Vinny and Lexi
DESCRIPTION:Vinny and Lexi are two new\, aspiring musicians who play a variety of music including pop\, soft rock\, country\, and more. They have played at various venues and are looking forward to performing again showcasing their talent and love for music. You certainly won’t be disappointed listening to the music of this amazing duo \n631-473-2400\, please call for details
URL:https://amicirestaurant.org/event/vinny-and-lexi/
LOCATION:Amici Restaurant\, 304 Rt 25A\, Mt Sinai\, NY\, 11766\, United States
ATTACH;FMTTYPE=image/jpeg:https://amicirestaurant.org/wp-content/uploads/2021/10/lexi_vinny.jpg
END:VEVENT
BEGIN:VEVENT
DTSTART;TZID=America/New_York:20221229T183000
DTEND;TZID=America/New_York:20221229T203000
DTSTAMP:20260421T014517
CREATED:20221020T161224Z
LAST-MODIFIED:20240104T171846Z
UID:10000175-1672338600-1672345800@amicirestaurant.org
SUMMARY:Trivia Night!
DESCRIPTION:Join us for Trivia Night at Amici! \nStarting at 6:30 \nAppetizer specials
URL:https://amicirestaurant.org/event/trivia-night/2022-12-29/
LOCATION:Amici Restaurant\, 304 Rt 25A\, Mt Sinai\, NY\, 11766\, United States
ATTACH;FMTTYPE=image/jpeg:https://amicirestaurant.org/wp-content/uploads/2022/10/trivia-night.jpg
END:VEVENT
BEGIN:VEVENT
DTSTART;TZID=America/New_York:20221223T180000
DTEND;TZID=America/New_York:20221223T210000
DTSTAMP:20260421T014517
CREATED:20221126T164924Z
LAST-MODIFIED:20221126T164924Z
UID:10000241-1671818400-1671829200@amicirestaurant.org
SUMMARY:Damaged Goods
DESCRIPTION:Come on down and get damaged with us! \nGreat food \, drinks and open outdoor atmosphere \, so come join us! \n631-473-2400\, please call for details
URL:https://amicirestaurant.org/event/damaged-goods-8/
LOCATION:Amici Restaurant\, 304 Rt 25A\, Mt Sinai\, NY\, 11766\, United States
ATTACH;FMTTYPE=image/jpeg:https://amicirestaurant.org/wp-content/uploads/2021/09/damaged_goods.jpg
END:VEVENT
BEGIN:VEVENT
DTSTART;TZID=America/New_York:20221222T183000
DTEND;TZID=America/New_York:20221222T203000
DTSTAMP:20260421T014517
CREATED:20221020T161224Z
LAST-MODIFIED:20240104T171846Z
UID:10000174-1671733800-1671741000@amicirestaurant.org
SUMMARY:Trivia Night!
DESCRIPTION:Join us for Trivia Night at Amici! \nStarting at 6:30 \nAppetizer specials
URL:https://amicirestaurant.org/event/trivia-night/2022-12-22/
LOCATION:Amici Restaurant\, 304 Rt 25A\, Mt Sinai\, NY\, 11766\, United States
ATTACH;FMTTYPE=image/jpeg:https://amicirestaurant.org/wp-content/uploads/2022/10/trivia-night.jpg
END:VEVENT
BEGIN:VEVENT
DTSTART;TZID=America/New_York:20221217T180000
DTEND;TZID=America/New_York:20221217T210000
DTSTAMP:20260421T014517
CREATED:20221126T164906Z
LAST-MODIFIED:20221126T164906Z
UID:10000239-1671300000-1671310800@amicirestaurant.org
SUMMARY:DNA
DESCRIPTION:DNA (Danny and Alexis) singing all your favorite songs from yesterday and today! From Dean Martin to Garth Brooks and Rosemary Clooney to Meghan Trainor. A great mix of genres for all tastes! \nhttps://instagram.com/dna_vocal_duo \nhttps://www.facebook.com/powervocalduo/  \n 
URL:https://amicirestaurant.org/event/dna-9/
LOCATION:Amici Restaurant\, 304 Rt 25A\, Mt Sinai\, NY\, 11766\, United States
ATTACH;FMTTYPE=image/jpeg:https://amicirestaurant.org/wp-content/uploads/2021/04/DNA-1.jpg
END:VEVENT
BEGIN:VEVENT
DTSTART;TZID=America/New_York:20221216T180000
DTEND;TZID=America/New_York:20221216T210000
DTSTAMP:20260421T014517
CREATED:20221205T191854Z
LAST-MODIFIED:20221205T191854Z
UID:10000247-1671213600-1671224400@amicirestaurant.org
SUMMARY:Acoustic Soul
DESCRIPTION:Acoustic Soul consists of acclaimed lead vocalist Thomas Doscher and versatile guitarist Rob Wisotzky. \nTogether\, they have performed at some of the finest venues in Long Island including featured performances on the North Fork Winery circuit. Acoustic Soul specializes in classic rock but also has an extensive song list covering many genres. They are sure to provide an entertaining and lively evening! \n631-473-2400\, please call for details
URL:https://amicirestaurant.org/event/acoustic-soul-7/
LOCATION:Amici Restaurant\, 304 Rt 25A\, Mt Sinai\, NY\, 11766\, United States
ATTACH;FMTTYPE=image/jpeg:https://amicirestaurant.org/wp-content/uploads/2022/03/acoustic_soul.jpg
END:VEVENT
BEGIN:VEVENT
DTSTART;TZID=America/New_York:20221215T183000
DTEND;TZID=America/New_York:20221215T203000
DTSTAMP:20260421T014517
CREATED:20221020T161224Z
LAST-MODIFIED:20240104T171846Z
UID:10000173-1671129000-1671136200@amicirestaurant.org
SUMMARY:Trivia Night!
DESCRIPTION:Join us for Trivia Night at Amici! \nStarting at 6:30 \nAppetizer specials
URL:https://amicirestaurant.org/event/trivia-night/2022-12-15/
LOCATION:Amici Restaurant\, 304 Rt 25A\, Mt Sinai\, NY\, 11766\, United States
ATTACH;FMTTYPE=image/jpeg:https://amicirestaurant.org/wp-content/uploads/2022/10/trivia-night.jpg
END:VEVENT
BEGIN:VEVENT
DTSTART;TZID=America/New_York:20221210T180000
DTEND;TZID=America/New_York:20221210T210000
DTSTAMP:20260421T014517
CREATED:20221126T165001Z
LAST-MODIFIED:20221126T165001Z
UID:10000245-1670695200-1670706000@amicirestaurant.org
SUMMARY:Solo Joe Boomer Band
DESCRIPTION:THE SOLO JOE “BOOMER BAND”! \nTons of Classic Rock\, Mellow Rock\, Outlaw Country\, Big Band\, Swing\, Grunge\, Dance…All the hits\, all the time! “Everything\, from Sinatra to Nirvana”\, 40’s through 2021! A diverse solo performer that sounds like a full band without any of the excessive volume issues that can sometimes destroy a performance in smaller venues. \nBoasting a state of the art sound system and a catalogue of over 1000 songs chosen from widely varying genres\, Solo Joe is a long time favorite at Country Clubs\, Casinos\, PAC’s\,  High end restaurants\, Corporate/Municipal events as well as many other types of live music venues in the Northeast\, across the USA and around the world. \nAs a veteran of the United States Army elite 82nd Airborne division\, Solo Joe has had the  privilege of having  toured internationally w/Navy Entertainment (Sigonella NAS 2\, Navy Base at Naples Italy\, Guantanamo Bay Cuba\, Abu Dhabi UAE). He’s entertained 1000’s of American armed service people around the globe for the past 30 years. \nHaving fulfilled  multiple contracts as lounge entertainment with various major cruise lines and casinos globally\, his act is highly polished\, personable and engaging. Always taking requests and playing dedications  he’s performed everything from “The Wheels On The Bus go ‘round and ‘round” for toddlers at family friendly events to “Born to be wild” and “This Life” at Sturgis bike week for cast members from  “Sons of Anarchy”. \nHearing his occasional between song banter and anecdotal humor\, it quickly becomes evident that he thoroughly enjoys his job as much as the audience enjoys his performance. \nSolo Joe has been a featured performer at Orlando FL Walt Disney World’s EPCOT Theme park on the American Garden Stage for 8 years in a row performing week-long runs with the “Sounds Like Summer” concert series. \nWhen you see a Solo Joe Show\, you’ll feel as though you’re sitting in your living room listening to the original artist performing some of your favorite tunes just the way you remember hearing them! \n631-473-2400\, please call for details
URL:https://amicirestaurant.org/event/solo-joe-boomer-band-4/
LOCATION:Amici Restaurant\, 304 Rt 25A\, Mt Sinai\, NY\, 11766\, United States
ATTACH;FMTTYPE=image/jpeg:https://amicirestaurant.org/wp-content/uploads/2021/10/solo_joe.jpg
END:VEVENT
BEGIN:VEVENT
DTSTART;TZID=America/New_York:20221209T180000
DTEND;TZID=America/New_York:20221209T210000
DTSTAMP:20260421T014517
CREATED:20221126T164941Z
LAST-MODIFIED:20221205T191838Z
UID:10000243-1670608800-1670619600@amicirestaurant.org
SUMMARY:Chuck Evans Band
DESCRIPTION:Chuck Evans Band… in the words of one fan\, “it’s a bottomless barrel of musical ear candy”. Fans tell the band\, time and time again\, that they loved dancing\, stomping\, singing along to every song!! \nA great laundry list of songs\, new and old\, that patrons of all ages can enjoy!  Chuck Evans Band Electrifying “ One of a kind” With love. \nhttps://www.facebook.com/chuckevansband \nhttps://www.chuckevans.net \n631-473-2400\, please call for details
URL:https://amicirestaurant.org/event/chuck-evans-band-7/
LOCATION:Amici Restaurant\, 304 Rt 25A\, Mt Sinai\, NY\, 11766\, United States
ATTACH;FMTTYPE=image/jpeg:https://amicirestaurant.org/wp-content/uploads/2021/07/chuck_evans.jpg
END:VEVENT
BEGIN:VEVENT
DTSTART;TZID=America/New_York:20221208T183000
DTEND;TZID=America/New_York:20221208T203000
DTSTAMP:20260421T014517
CREATED:20221020T161224Z
LAST-MODIFIED:20240104T171846Z
UID:10000172-1670524200-1670531400@amicirestaurant.org
SUMMARY:Trivia Night!
DESCRIPTION:Join us for Trivia Night at Amici! \nStarting at 6:30 \nAppetizer specials
URL:https://amicirestaurant.org/event/trivia-night/2022-12-08/
LOCATION:Amici Restaurant\, 304 Rt 25A\, Mt Sinai\, NY\, 11766\, United States
ATTACH;FMTTYPE=image/jpeg:https://amicirestaurant.org/wp-content/uploads/2022/10/trivia-night.jpg
END:VEVENT
BEGIN:VEVENT
DTSTART;TZID=America/New_York:20221203T180000
DTEND;TZID=America/New_York:20221203T210000
DTSTAMP:20260421T014517
CREATED:20221126T164915Z
LAST-MODIFIED:20221126T164915Z
UID:10000240-1670090400-1670101200@amicirestaurant.org
SUMMARY:Steven Rodriguez
DESCRIPTION:Come see Steven Rodriguez perform live music from all decades! \n631-473-2400\, please call for details
URL:https://amicirestaurant.org/event/steven-rodriguez-8/
LOCATION:Amici Restaurant\, 304 Rt 25A\, Mt Sinai\, NY\, 11766\, United States
ATTACH;FMTTYPE=image/jpeg:https://amicirestaurant.org/wp-content/uploads/2021/09/steven_rodriguez.jpg
END:VEVENT
BEGIN:VEVENT
DTSTART;TZID=America/New_York:20221202T180000
DTEND;TZID=America/New_York:20221202T210000
DTSTAMP:20260421T014517
CREATED:20221126T164949Z
LAST-MODIFIED:20221126T164949Z
UID:10000244-1670004000-1670014800@amicirestaurant.org
SUMMARY:Acoustic Soul
DESCRIPTION:Acoustic Soul consists of acclaimed lead vocalist Thomas Doscher and versatile guitarist Rob Wisotzky. \nTogether\, they have performed at some of the finest venues in Long Island including featured performances on the North Fork Winery circuit. Acoustic Soul specializes in classic rock but also has an extensive song list covering many genres. They are sure to provide an entertaining and lively evening! \n631-473-2400\, please call for details
URL:https://amicirestaurant.org/event/acoustic-soul-6/
LOCATION:Amici Restaurant\, 304 Rt 25A\, Mt Sinai\, NY\, 11766\, United States
ATTACH;FMTTYPE=image/jpeg:https://amicirestaurant.org/wp-content/uploads/2022/03/acoustic_soul.jpg
END:VEVENT
BEGIN:VEVENT
DTSTART;TZID=America/New_York:20221201T183000
DTEND;TZID=America/New_York:20221201T203000
DTSTAMP:20260421T014517
CREATED:20221020T161224Z
LAST-MODIFIED:20240104T171846Z
UID:10000171-1669919400-1669926600@amicirestaurant.org
SUMMARY:Trivia Night!
DESCRIPTION:Join us for Trivia Night at Amici! \nStarting at 6:30 \nAppetizer specials
URL:https://amicirestaurant.org/event/trivia-night/2022-12-01/
LOCATION:Amici Restaurant\, 304 Rt 25A\, Mt Sinai\, NY\, 11766\, United States
ATTACH;FMTTYPE=image/jpeg:https://amicirestaurant.org/wp-content/uploads/2022/10/trivia-night.jpg
END:VEVENT
BEGIN:VEVENT
DTSTART;TZID=America/New_York:20221126T180000
DTEND;TZID=America/New_York:20221126T210000
DTSTAMP:20260421T014517
CREATED:20221103T144253Z
LAST-MODIFIED:20221103T144253Z
UID:10000230-1669485600-1669496400@amicirestaurant.org
SUMMARY:Gina Mingoia
DESCRIPTION:Gina Mingoia has been performing live around Long Island for the last decade. She began singing alongside her father at age 12 and has been performing ever since. In 2018\, she opened for Brett Eldredge at the Brookhaven Amphitheatre\, and in 2019\, she opened for Michael Ray. Gina has recorded several singles in Nashville. \n  \nInstagram: \ninstagram.com/ginamingoia \nFacebook Page \nfacebook.com/ginamingoiamusic \n 
URL:https://amicirestaurant.org/event/gina-mingoia-6/
LOCATION:Amici Restaurant\, 304 Rt 25A\, Mt Sinai\, NY\, 11766\, United States
ATTACH;FMTTYPE=image/jpeg:https://amicirestaurant.org/wp-content/uploads/2021/08/gina_mingoia.jpg
END:VEVENT
BEGIN:VEVENT
DTSTART;TZID=America/New_York:20221125T180000
DTEND;TZID=America/New_York:20221125T210000
DTSTAMP:20260421T014517
CREATED:20221103T144420Z
LAST-MODIFIED:20221103T144420Z
UID:10000235-1669399200-1669410000@amicirestaurant.org
SUMMARY:DNA
DESCRIPTION:DNA (Danny and Alexis) singing all your favorite songs from yesterday and today! From Dean Martin to Garth Brooks and Rosemary Clooney to Meghan Trainor. A great mix of genres for all tastes! \nhttps://instagram.com/dna_vocal_duo \nhttps://www.facebook.com/powervocalduo/  \n 
URL:https://amicirestaurant.org/event/dna-8/
LOCATION:Amici Restaurant\, 304 Rt 25A\, Mt Sinai\, NY\, 11766\, United States
ATTACH;FMTTYPE=image/jpeg:https://amicirestaurant.org/wp-content/uploads/2021/04/DNA-1.jpg
END:VEVENT
BEGIN:VEVENT
DTSTART;TZID=America/New_York:20221119T180000
DTEND;TZID=America/New_York:20221119T210000
DTSTAMP:20260421T014517
CREATED:20221103T144330Z
LAST-MODIFIED:20221103T144330Z
UID:10000231-1668880800-1668891600@amicirestaurant.org
SUMMARY:Steven Rodriguez
DESCRIPTION:Come see Steven Rodriguez perform live music from all decades! \n631-473-2400\, please call for details
URL:https://amicirestaurant.org/event/steven-rodriguez-7/
LOCATION:Amici Restaurant\, 304 Rt 25A\, Mt Sinai\, NY\, 11766\, United States
ATTACH;FMTTYPE=image/jpeg:https://amicirestaurant.org/wp-content/uploads/2021/09/steven_rodriguez.jpg
END:VEVENT
BEGIN:VEVENT
DTSTART;TZID=America/New_York:20221118T180000
DTEND;TZID=America/New_York:20221118T210000
DTSTAMP:20260421T014517
CREATED:20221103T144339Z
LAST-MODIFIED:20221103T144339Z
UID:10000232-1668794400-1668805200@amicirestaurant.org
SUMMARY:Damaged Goods
DESCRIPTION:Come on down and get damaged with us! \nGreat food \, drinks and open outdoor atmosphere \, so come join us! \n631-473-2400\, please call for details
URL:https://amicirestaurant.org/event/damaged-goods-7/
LOCATION:Amici Restaurant\, 304 Rt 25A\, Mt Sinai\, NY\, 11766\, United States
ATTACH;FMTTYPE=image/jpeg:https://amicirestaurant.org/wp-content/uploads/2021/09/damaged_goods.jpg
END:VEVENT
BEGIN:VEVENT
DTSTART;TZID=America/New_York:20221117T183000
DTEND;TZID=America/New_York:20221117T203000
DTSTAMP:20260421T014517
CREATED:20221020T161224Z
LAST-MODIFIED:20240104T171846Z
UID:10000169-1668709800-1668717000@amicirestaurant.org
SUMMARY:Trivia Night!
DESCRIPTION:Join us for Trivia Night at Amici! \nStarting at 6:30 \nAppetizer specials
URL:https://amicirestaurant.org/event/trivia-night/2022-11-17/
LOCATION:Amici Restaurant\, 304 Rt 25A\, Mt Sinai\, NY\, 11766\, United States
ATTACH;FMTTYPE=image/jpeg:https://amicirestaurant.org/wp-content/uploads/2022/10/trivia-night.jpg
END:VEVENT
BEGIN:VEVENT
DTSTART;TZID=America/New_York:20221112T180000
DTEND;TZID=America/New_York:20221112T210000
DTSTAMP:20260421T014517
CREATED:20221031T184827Z
LAST-MODIFIED:20221109T161615Z
UID:10000229-1668276000-1668286800@amicirestaurant.org
SUMMARY:Paul Mahos & Friends
DESCRIPTION:The fun continues at Amici with Paul Mahos & Friends \nDon’t miss out on the great food and awesome entertainment! \npaul-mahos.com \ninstagram.com/paul_mahos \nfacebook.com/NewLifeCrisis/ \n  \n \n631-473-2400\, please call for details
URL:https://amicirestaurant.org/event/paul-mahos-jay-shepard/
LOCATION:Amici Restaurant\, 304 Rt 25A\, Mt Sinai\, NY\, 11766\, United States
ATTACH;FMTTYPE=image/jpeg:https://amicirestaurant.org/wp-content/uploads/2022/10/paul_mahos12.jpg
END:VEVENT
BEGIN:VEVENT
DTSTART;TZID=America/New_York:20221111T180000
DTEND;TZID=America/New_York:20221111T210000
DTSTAMP:20260421T014517
CREATED:20221103T144346Z
LAST-MODIFIED:20221103T144346Z
UID:10000233-1668189600-1668200400@amicirestaurant.org
SUMMARY:Chuck Evans Band
DESCRIPTION:Chuck Evans Band… in the words of one fan\, “it’s a bottomless barrel of musical ear candy”. Fans tell the band\, time and time again\, that they loved dancing\, stomping\, singing along to every song!! \nA great laundry list of songs\, new and old\, that patrons of all ages can enjoy!  Chuck Evans Band Electrifying “ One of a kind” With love. \nhttps://www.facebook.com/chuckevansband \nhttps://www.chuckevans.net \n631-473-2400\, please call for details
URL:https://amicirestaurant.org/event/chuck-evans-band-6/
LOCATION:Amici Restaurant\, 304 Rt 25A\, Mt Sinai\, NY\, 11766\, United States
ATTACH;FMTTYPE=image/jpeg:https://amicirestaurant.org/wp-content/uploads/2021/07/chuck_evans.jpg
END:VEVENT
END:VCALENDAR