BEGIN:VCALENDAR
VERSION:2.0
PRODID:-//Amici - ECPv6.14.0//NONSGML v1.0//EN
CALSCALE:GREGORIAN
METHOD:PUBLISH
X-WR-CALNAME:Amici
X-ORIGINAL-URL:https://amicirestaurant.org
X-WR-CALDESC:Events for Amici
REFRESH-INTERVAL;VALUE=DURATION:PT1H
X-Robots-Tag:noindex
X-PUBLISHED-TTL:PT1H
BEGIN:VTIMEZONE
TZID:America/New_York
BEGIN:DAYLIGHT
TZOFFSETFROM:-0500
TZOFFSETTO:-0400
TZNAME:EDT
DTSTART:20260308T070000
END:DAYLIGHT
BEGIN:STANDARD
TZOFFSETFROM:-0400
TZOFFSETTO:-0500
TZNAME:EST
DTSTART:20261101T060000
END:STANDARD
END:VTIMEZONE
BEGIN:VEVENT
DTSTART;TZID=America/New_York:20260424T183000
DTEND;TZID=America/New_York:20260424T213000
DTSTAMP:20260422T184902
CREATED:20260401T163543Z
LAST-MODIFIED:20260401T163543Z
UID:10001544-1777055400-1777066200@amicirestaurant.org
SUMMARY:Last Call
DESCRIPTION:Last Call is an acoustic group with an eclectic set list that includes Country\, 80’s\, R&B\, Rock\, and everything in between. Perfect for all occasions.\n \nhttps://www.instagram.com/lastcalllongislandhttps://www.facebook.com/share/1C4yxo7td8\n631-473-2400\, please call for details\n 
URL:https://amicirestaurant.org/event/last-call-3/
LOCATION:Amici Restaurant\, 304 Rt 25A\, Mt Sinai\, NY\, 11766\, United States
ATTACH;FMTTYPE=image/jpeg:https://amicirestaurant.org/wp-content/uploads/2026/01/last-call.jpg
END:VEVENT
BEGIN:VEVENT
DTSTART;TZID=America/New_York:20260425T183000
DTEND;TZID=America/New_York:20260425T213000
DTSTAMP:20260422T184902
CREATED:20260401T163554Z
LAST-MODIFIED:20260401T163554Z
UID:10001545-1777141800-1777152600@amicirestaurant.org
SUMMARY:Lexi B
DESCRIPTION:Lexi is acoustic singer and guitarist who plays music across decades and genres including rock\, pop\, country\, and more. She has played at various venues on Long Island and is excited to showcase her talent and live for music to you! \n631-473-2400\, please call for details
URL:https://amicirestaurant.org/event/lexi-b-2/
LOCATION:Amici Restaurant\, 304 Rt 25A\, Mt Sinai\, NY\, 11766\, United States
ATTACH;FMTTYPE=image/jpeg:https://amicirestaurant.org/wp-content/uploads/2026/01/lexi-b.jpg
END:VEVENT
END:VCALENDAR