BEGIN:VCALENDAR
VERSION:2.0
PRODID:-//Amici - ECPv6.14.0//NONSGML v1.0//EN
CALSCALE:GREGORIAN
METHOD:PUBLISH
X-ORIGINAL-URL:https://amicirestaurant.org
X-WR-CALDESC:Events for Amici
REFRESH-INTERVAL;VALUE=DURATION:PT1H
X-Robots-Tag:noindex
X-PUBLISHED-TTL:PT1H
BEGIN:VTIMEZONE
TZID:America/New_York
BEGIN:DAYLIGHT
TZOFFSETFROM:-0500
TZOFFSETTO:-0400
TZNAME:EDT
DTSTART:20240310T070000
END:DAYLIGHT
BEGIN:STANDARD
TZOFFSETFROM:-0400
TZOFFSETTO:-0500
TZNAME:EST
DTSTART:20241103T060000
END:STANDARD
END:VTIMEZONE
BEGIN:VEVENT
DTSTART;TZID=America/New_York:20240518T180000
DTEND;TZID=America/New_York:20240518T210000
DTSTAMP:20260419T211636
CREATED:20240502T042005Z
LAST-MODIFIED:20240502T042005Z
UID:10000567-1716055200-1716066000@amicirestaurant.org
SUMMARY:Gina Mingoia
DESCRIPTION:Gina Mingoia has been performing live around Long Island for the last decade. She began singing alongside her father at age 12 and has been performing ever since. In 2018\, she opened for Brett Eldredge at the Brookhaven Amphitheatre\, and in 2019\, she opened for Michael Ray. Gina has recorded several singles in Nashville. \n  \nInstagram: \ninstagram.com/ginamingoia \nFacebook Page \nfacebook.com/ginamingoiamusic \n 
URL:https://amicirestaurant.org/event/gina-mingoia-15/
LOCATION:Amici Restaurant\, 304 Rt 25A\, Mt Sinai\, NY\, 11766\, United States
ATTACH;FMTTYPE=image/jpeg:https://amicirestaurant.org/wp-content/uploads/2021/08/gina_mingoia.jpg
END:VEVENT
BEGIN:VEVENT
DTSTART;TZID=America/New_York:20240523T183000
DTEND;TZID=America/New_York:20240523T203000
DTSTAMP:20260419T211636
CREATED:20221020T161224Z
LAST-MODIFIED:20240104T171846Z
UID:10000380-1716489000-1716496200@amicirestaurant.org
SUMMARY:Trivia Night!
DESCRIPTION:Join us for Trivia Night at Amici! \nStarting at 6:30 \nAppetizer specials
URL:https://amicirestaurant.org/event/trivia-night/2024-05-23/
LOCATION:Amici Restaurant\, 304 Rt 25A\, Mt Sinai\, NY\, 11766\, United States
ATTACH;FMTTYPE=image/jpeg:https://amicirestaurant.org/wp-content/uploads/2022/10/trivia-night.jpg
END:VEVENT
BEGIN:VEVENT
DTSTART;TZID=America/New_York:20240524T180000
DTEND;TZID=America/New_York:20240524T210000
DTSTAMP:20260419T211636
CREATED:20240502T041955Z
LAST-MODIFIED:20240502T041955Z
UID:10000566-1716573600-1716584400@amicirestaurant.org
SUMMARY:Carolyn Benson in the Lounge!
DESCRIPTION:Carolyn Benson\, a versatile songstress\, dazzles audiences with her dynamic renditions of Broadway classics\, nostalgic hits from the 60s\, 70s\, and 80s\, and electrifying disco covers. As the frontwoman of a celebrated Linda Ronstadt tribute band\, Carolyn’s captivating performances breathe new life into timeless tunes\, ensuring a memorable experience for music lovers of all ages \nhttps://www.facebook.com/CarolynBensonOfficial \nhttps://carolynbenson.us
URL:https://amicirestaurant.org/event/carolyn-benson-in-the-lounge/
LOCATION:Amici Restaurant\, 304 Rt 25A\, Mt Sinai\, NY\, 11766\, United States
ATTACH;FMTTYPE=image/jpeg:https://amicirestaurant.org/wp-content/uploads/2023/11/carolyn_benson.jpg
END:VEVENT
BEGIN:VEVENT
DTSTART;TZID=America/New_York:20240525T180000
DTEND;TZID=America/New_York:20240525T210000
DTSTAMP:20260419T211636
CREATED:20240502T041931Z
LAST-MODIFIED:20240502T041931Z
UID:10000564-1716660000-1716670800@amicirestaurant.org
SUMMARY:DNA
DESCRIPTION:DNA (Danny and Alexis) singing all your favorite songs from yesterday and today! From Dean Martin to Garth Brooks and Rosemary Clooney to Meghan Trainor. A great mix of genres for all tastes! \nhttps://instagram.com/dna_vocal_duo \nhttps://www.facebook.com/powervocalduo/  \n 
URL:https://amicirestaurant.org/event/dna-44/
LOCATION:Amici Restaurant\, 304 Rt 25A\, Mt Sinai\, NY\, 11766\, United States
ATTACH;FMTTYPE=image/jpeg:https://amicirestaurant.org/wp-content/uploads/2021/04/DNA-1.jpg
END:VEVENT
BEGIN:VEVENT
DTSTART;TZID=America/New_York:20240529T183000
DTEND;TZID=America/New_York:20240529T210000
DTSTAMP:20260419T211636
CREATED:20240502T042116Z
LAST-MODIFIED:20240502T042116Z
UID:10000561-1717007400-1717016400@amicirestaurant.org
SUMMARY:Musical Bingo Night!
DESCRIPTION:Join us for Musical Bingo Night at Amici! \nStarting at 6:30 \nAppetizer specials
URL:https://amicirestaurant.org/event/musical-bingo-night/
LOCATION:Amici Restaurant\, 304 Rt 25A\, Mt Sinai\, NY\, 11766\, United States
ATTACH;FMTTYPE=image/jpeg:https://amicirestaurant.org/wp-content/uploads/2024/03/bingo-night-1.jpg
END:VEVENT
BEGIN:VEVENT
DTSTART;TZID=America/New_York:20240530T183000
DTEND;TZID=America/New_York:20240530T203000
DTSTAMP:20260419T211636
CREATED:20221020T161224Z
LAST-MODIFIED:20240104T171846Z
UID:10000381-1717093800-1717101000@amicirestaurant.org
SUMMARY:Trivia Night!
DESCRIPTION:Join us for Trivia Night at Amici! \nStarting at 6:30 \nAppetizer specials
URL:https://amicirestaurant.org/event/trivia-night/2024-05-30/
LOCATION:Amici Restaurant\, 304 Rt 25A\, Mt Sinai\, NY\, 11766\, United States
ATTACH;FMTTYPE=image/jpeg:https://amicirestaurant.org/wp-content/uploads/2022/10/trivia-night.jpg
END:VEVENT
BEGIN:VEVENT
DTSTART;TZID=America/New_York:20240531T180000
DTEND;TZID=America/New_York:20240531T210000
DTSTAMP:20260419T211636
CREATED:20240502T041905Z
LAST-MODIFIED:20240502T041905Z
UID:10000560-1717178400-1717189200@amicirestaurant.org
SUMMARY:Vinny and Lexi
DESCRIPTION:Vinny and Lexi are two new\, aspiring musicians who play a variety of music including pop\, soft rock\, country\, and more. They have played at various venues and are looking forward to performing again showcasing their talent and love for music. You certainly won’t be disappointed listening to the music of this amazing duo \n631-473-2400\, please call for details
URL:https://amicirestaurant.org/event/vinny-and-lexi-13/
LOCATION:Amici Restaurant\, 304 Rt 25A\, Mt Sinai\, NY\, 11766\, United States
ATTACH;FMTTYPE=image/jpeg:https://amicirestaurant.org/wp-content/uploads/2023/10/lexi_vinny2.jpg
END:VEVENT
BEGIN:VEVENT
DTSTART;TZID=America/New_York:20240601T180000
DTEND;TZID=America/New_York:20240601T210000
DTSTAMP:20260419T211636
CREATED:20240529T235753Z
LAST-MODIFIED:20240529T235753Z
UID:10000578-1717264800-1717275600@amicirestaurant.org
SUMMARY:Joe Spina and The MilesRoad Band
DESCRIPTION:Joe Spina and the MilesRoad Band rock out to the best music ever written. \nYou’ll sing to every song we play. \nWe play the music  of the Beatles\, Stones\, Van Morrison\, Tom Petty\, SRV\, Counting Crows\, Queen\, 60’s through today! Let’s Rock! \nwww.instagram.com/joe.spina \nwww.facebook.com/jspina1 \nwww.joespinamusic.com \n631-473-2400\, please call for details
URL:https://amicirestaurant.org/event/joe-spina-and-the-milesroad-band-5/
LOCATION:Amici Restaurant\, 304 Rt 25A\, Mt Sinai\, NY\, 11766\, United States
ATTACH;FMTTYPE=image/jpeg:https://amicirestaurant.org/wp-content/uploads/2023/05/joe_spina_milesroad3.jpg
END:VEVENT
BEGIN:VEVENT
DTSTART;TZID=America/New_York:20240606T183000
DTEND;TZID=America/New_York:20240606T203000
DTSTAMP:20260419T211636
CREATED:20221020T161224Z
LAST-MODIFIED:20240104T171846Z
UID:10000382-1717698600-1717705800@amicirestaurant.org
SUMMARY:Trivia Night!
DESCRIPTION:Join us for Trivia Night at Amici! \nStarting at 6:30 \nAppetizer specials
URL:https://amicirestaurant.org/event/trivia-night/2024-06-06/
LOCATION:Amici Restaurant\, 304 Rt 25A\, Mt Sinai\, NY\, 11766\, United States
ATTACH;FMTTYPE=image/jpeg:https://amicirestaurant.org/wp-content/uploads/2022/10/trivia-night.jpg
END:VEVENT
BEGIN:VEVENT
DTSTART;TZID=America/New_York:20240607T180000
DTEND;TZID=America/New_York:20240607T210000
DTSTAMP:20260419T211636
CREATED:20240529T235532Z
LAST-MODIFIED:20240529T235532Z
UID:10000571-1717783200-1717794000@amicirestaurant.org
SUMMARY:Damaged Goods
DESCRIPTION:Come on down and get damaged with us! \nGreat food and drinks\, so come join us! \n631-473-2400\, please call for details
URL:https://amicirestaurant.org/event/damaged-goods-20/
LOCATION:Amici Restaurant\, 304 Rt 25A\, Mt Sinai\, NY\, 11766\, United States
ATTACH;FMTTYPE=image/jpeg:https://amicirestaurant.org/wp-content/uploads/2021/09/damaged_goods.jpg
END:VEVENT
BEGIN:VEVENT
DTSTART;TZID=America/New_York:20240608T180000
DTEND;TZID=America/New_York:20240608T210000
DTSTAMP:20260419T211636
CREATED:20240529T235540Z
LAST-MODIFIED:20240529T235540Z
UID:10000572-1717869600-1717880400@amicirestaurant.org
SUMMARY:DNA
DESCRIPTION:DNA (Danny and Alexis) singing all your favorite songs from yesterday and today! From Dean Martin to Garth Brooks and Rosemary Clooney to Meghan Trainor. A great mix of genres for all tastes! \nhttps://instagram.com/dna_vocal_duo \nhttps://www.facebook.com/powervocalduo/  \n 
URL:https://amicirestaurant.org/event/dna-45/
LOCATION:Amici Restaurant\, 304 Rt 25A\, Mt Sinai\, NY\, 11766\, United States
ATTACH;FMTTYPE=image/jpeg:https://amicirestaurant.org/wp-content/uploads/2021/04/DNA-1.jpg
END:VEVENT
BEGIN:VEVENT
DTSTART;TZID=America/New_York:20240613T183000
DTEND;TZID=America/New_York:20240613T203000
DTSTAMP:20260419T211636
CREATED:20221020T161224Z
LAST-MODIFIED:20240104T171846Z
UID:10000383-1718303400-1718310600@amicirestaurant.org
SUMMARY:Trivia Night!
DESCRIPTION:Join us for Trivia Night at Amici! \nStarting at 6:30 \nAppetizer specials
URL:https://amicirestaurant.org/event/trivia-night/2024-06-13/
LOCATION:Amici Restaurant\, 304 Rt 25A\, Mt Sinai\, NY\, 11766\, United States
ATTACH;FMTTYPE=image/jpeg:https://amicirestaurant.org/wp-content/uploads/2022/10/trivia-night.jpg
END:VEVENT
BEGIN:VEVENT
DTSTART;TZID=America/New_York:20240614T180000
DTEND;TZID=America/New_York:20240614T210000
DTSTAMP:20260419T211636
CREATED:20240529T235550Z
LAST-MODIFIED:20240529T235550Z
UID:10000573-1718388000-1718398800@amicirestaurant.org
SUMMARY:Vinnie & Linda\, The VinLin Show
DESCRIPTION:Linda – LuLu – and I doing a Duo \nLive Music in the lounge! \n631-473-2400\, please call for details
URL:https://amicirestaurant.org/event/vinnie-linda-the-vinlin-show-12/
LOCATION:Amici Restaurant\, 304 Rt 25A\, Mt Sinai\, NY\, 11766\, United States
ATTACH;FMTTYPE=image/jpeg:https://amicirestaurant.org/wp-content/uploads/2022/01/vinny_linda.jpg
END:VEVENT
BEGIN:VEVENT
DTSTART;TZID=America/New_York:20240615T180000
DTEND;TZID=America/New_York:20240615T210000
DTSTAMP:20260419T211636
CREATED:20240529T235557Z
LAST-MODIFIED:20240529T235557Z
UID:10000574-1718474400-1718485200@amicirestaurant.org
SUMMARY:MaryAnne and The Man
DESCRIPTION:Join MaryAnne and The Man for a night of classic rock acoustic favorites featuring a wide variety of artists!
URL:https://amicirestaurant.org/event/maryanne-and-the-man-2/
LOCATION:Amici Restaurant\, 304 Rt 25A\, Mt Sinai\, NY\, 11766\, United States
ATTACH;FMTTYPE=image/jpeg:https://amicirestaurant.org/wp-content/uploads/2024/02/maryanne-and-the-man1.jpg
END:VEVENT
BEGIN:VEVENT
DTSTART;TZID=America/New_York:20240620T183000
DTEND;TZID=America/New_York:20240620T203000
DTSTAMP:20260419T211636
CREATED:20221020T161224Z
LAST-MODIFIED:20240104T171846Z
UID:10000384-1718908200-1718915400@amicirestaurant.org
SUMMARY:Trivia Night!
DESCRIPTION:Join us for Trivia Night at Amici! \nStarting at 6:30 \nAppetizer specials
URL:https://amicirestaurant.org/event/trivia-night/2024-06-20/
LOCATION:Amici Restaurant\, 304 Rt 25A\, Mt Sinai\, NY\, 11766\, United States
ATTACH;FMTTYPE=image/jpeg:https://amicirestaurant.org/wp-content/uploads/2022/10/trivia-night.jpg
END:VEVENT
BEGIN:VEVENT
DTSTART;TZID=America/New_York:20240621T180000
DTEND;TZID=America/New_York:20240621T210000
DTSTAMP:20260419T211636
CREATED:20240529T235616Z
LAST-MODIFIED:20240529T235616Z
UID:10000575-1718992800-1719003600@amicirestaurant.org
SUMMARY:DNA
DESCRIPTION:DNA (Danny and Alexis) singing all your favorite songs from yesterday and today! From Dean Martin to Garth Brooks and Rosemary Clooney to Meghan Trainor. A great mix of genres for all tastes! \nhttps://instagram.com/dna_vocal_duo \nhttps://www.facebook.com/powervocalduo/  \n 
URL:https://amicirestaurant.org/event/dna-46/
LOCATION:Amici Restaurant\, 304 Rt 25A\, Mt Sinai\, NY\, 11766\, United States
ATTACH;FMTTYPE=image/jpeg:https://amicirestaurant.org/wp-content/uploads/2021/04/DNA-1.jpg
END:VEVENT
BEGIN:VEVENT
DTSTART;TZID=America/New_York:20240622T180000
DTEND;TZID=America/New_York:20240622T210000
DTSTAMP:20260419T211636
CREATED:20240529T235623Z
LAST-MODIFIED:20240529T235623Z
UID:10000576-1719079200-1719090000@amicirestaurant.org
SUMMARY:Carolyn Benson in the Lounge!
DESCRIPTION:Carolyn Benson\, a versatile songstress\, dazzles audiences with her dynamic renditions of Broadway classics\, nostalgic hits from the 60s\, 70s\, and 80s\, and electrifying disco covers. As the frontwoman of a celebrated Linda Ronstadt tribute band\, Carolyn’s captivating performances breathe new life into timeless tunes\, ensuring a memorable experience for music lovers of all ages \nhttps://www.facebook.com/CarolynBensonOfficial \nhttps://carolynbenson.us
URL:https://amicirestaurant.org/event/carolyn-benson-in-the-lounge-2/
LOCATION:Amici Restaurant\, 304 Rt 25A\, Mt Sinai\, NY\, 11766\, United States
ATTACH;FMTTYPE=image/jpeg:https://amicirestaurant.org/wp-content/uploads/2023/11/carolyn_benson.jpg
END:VEVENT
BEGIN:VEVENT
DTSTART;TZID=America/New_York:20240627T183000
DTEND;TZID=America/New_York:20240627T203000
DTSTAMP:20260419T211636
CREATED:20221020T161224Z
LAST-MODIFIED:20240104T171846Z
UID:10000385-1719513000-1719520200@amicirestaurant.org
SUMMARY:Trivia Night!
DESCRIPTION:Join us for Trivia Night at Amici! \nStarting at 6:30 \nAppetizer specials
URL:https://amicirestaurant.org/event/trivia-night/2024-06-27/
LOCATION:Amici Restaurant\, 304 Rt 25A\, Mt Sinai\, NY\, 11766\, United States
ATTACH;FMTTYPE=image/jpeg:https://amicirestaurant.org/wp-content/uploads/2022/10/trivia-night.jpg
END:VEVENT
BEGIN:VEVENT
DTSTART;TZID=America/New_York:20240628T180000
DTEND;TZID=America/New_York:20240628T210000
DTSTAMP:20260419T211636
CREATED:20240606T190427Z
LAST-MODIFIED:20240606T190427Z
UID:10000579-1719597600-1719608400@amicirestaurant.org
SUMMARY:Gina Mingoia
DESCRIPTION:Gina Mingoia has been performing live around Long Island for the last decade. She began singing alongside her father at age 12 and has been performing ever since. In 2018\, she opened for Brett Eldredge at the Brookhaven Amphitheatre\, and in 2019\, she opened for Michael Ray. Gina has recorded several singles in Nashville. \n  \nInstagram: \ninstagram.com/ginamingoia \nFacebook Page \nfacebook.com/ginamingoiamusic \n 
URL:https://amicirestaurant.org/event/gina-mingoia-16/
LOCATION:Amici Restaurant\, 304 Rt 25A\, Mt Sinai\, NY\, 11766\, United States
ATTACH;FMTTYPE=image/jpeg:https://amicirestaurant.org/wp-content/uploads/2021/08/gina_mingoia.jpg
END:VEVENT
BEGIN:VEVENT
DTSTART;TZID=America/New_York:20240629T180000
DTEND;TZID=America/New_York:20240629T220000
DTSTAMP:20260419T211636
CREATED:20240529T235634Z
LAST-MODIFIED:20240530T000728Z
UID:10000577-1719684000-1719698400@amicirestaurant.org
SUMMARY:Jack Fontana is Back!
DESCRIPTION:One Night Only ! Jack was a favorite at Amici & then moved to North Carolina. He will be visiting Long Island & doing one show. It will be like old times. DON’T MISS IT !!!! \n\n\n631-473-2400\, please call for details
URL:https://amicirestaurant.org/event/jack-fontana-is-back-2/
LOCATION:Amici Restaurant\, 304 Rt 25A\, Mt Sinai\, NY\, 11766\, United States
ATTACH;FMTTYPE=image/jpeg:https://amicirestaurant.org/wp-content/uploads/2021/06/jack_fontana-1.jpg
END:VEVENT
BEGIN:VEVENT
DTSTART;TZID=America/New_York:20240705T180000
DTEND;TZID=America/New_York:20240705T210000
DTSTAMP:20260419T211636
CREATED:20240703T153714Z
LAST-MODIFIED:20240703T153714Z
UID:10000585-1720202400-1720213200@amicirestaurant.org
SUMMARY:Vinny and Lexi
DESCRIPTION:Vinny and Lexi are two new\, aspiring musicians who play a variety of music including pop\, soft rock\, country\, and more. They have played at various venues and are looking forward to performing again showcasing their talent and love for music. You certainly won’t be disappointed listening to the music of this amazing duo \n631-473-2400\, please call for details
URL:https://amicirestaurant.org/event/vinny-and-lexi-14/
LOCATION:Amici Restaurant\, 304 Rt 25A\, Mt Sinai\, NY\, 11766\, United States
ATTACH;FMTTYPE=image/jpeg:https://amicirestaurant.org/wp-content/uploads/2023/10/lexi_vinny2.jpg
END:VEVENT
BEGIN:VEVENT
DTSTART;TZID=America/New_York:20240706T180000
DTEND;TZID=America/New_York:20240706T210000
DTSTAMP:20260419T211636
CREATED:20240703T153657Z
LAST-MODIFIED:20240703T153657Z
UID:10000583-1720288800-1720299600@amicirestaurant.org
SUMMARY:Vinnie & Linda\, The VinLin Show
DESCRIPTION:Linda – LuLu – and I doing a Duo \nLive Music in the lounge! \n631-473-2400\, please call for details
URL:https://amicirestaurant.org/event/vinnie-linda-the-vinlin-show-13/
LOCATION:Amici Restaurant\, 304 Rt 25A\, Mt Sinai\, NY\, 11766\, United States
ATTACH;FMTTYPE=image/jpeg:https://amicirestaurant.org/wp-content/uploads/2022/01/vinny_linda.jpg
END:VEVENT
BEGIN:VEVENT
DTSTART;TZID=America/New_York:20240711T183000
DTEND;TZID=America/New_York:20240711T203000
DTSTAMP:20260419T211636
CREATED:20221020T161224Z
LAST-MODIFIED:20240104T171846Z
UID:10000387-1720722600-1720729800@amicirestaurant.org
SUMMARY:Trivia Night!
DESCRIPTION:Join us for Trivia Night at Amici! \nStarting at 6:30 \nAppetizer specials
URL:https://amicirestaurant.org/event/trivia-night/2024-07-11/
LOCATION:Amici Restaurant\, 304 Rt 25A\, Mt Sinai\, NY\, 11766\, United States
ATTACH;FMTTYPE=image/jpeg:https://amicirestaurant.org/wp-content/uploads/2022/10/trivia-night.jpg
END:VEVENT
BEGIN:VEVENT
DTSTART;TZID=America/New_York:20240712T180000
DTEND;TZID=America/New_York:20240712T210000
DTSTAMP:20260419T211636
CREATED:20240703T153705Z
LAST-MODIFIED:20240703T153705Z
UID:10000584-1720807200-1720818000@amicirestaurant.org
SUMMARY:Joe Spina and The MilesRoad Band
DESCRIPTION:Joe Spina and the MilesRoad Band rock out to the best music ever written. \nYou’ll sing to every song we play. \nWe play the music  of the Beatles\, Stones\, Van Morrison\, Tom Petty\, SRV\, Counting Crows\, Queen\, 60’s through today! Let’s Rock! \nwww.instagram.com/joe.spina \nwww.facebook.com/jspina1 \nwww.joespinamusic.com \n631-473-2400\, please call for details
URL:https://amicirestaurant.org/event/joe-spina-and-the-milesroad-band-6/
LOCATION:Amici Restaurant\, 304 Rt 25A\, Mt Sinai\, NY\, 11766\, United States
ATTACH;FMTTYPE=image/jpeg:https://amicirestaurant.org/wp-content/uploads/2023/05/joe_spina_milesroad3.jpg
END:VEVENT
BEGIN:VEVENT
DTSTART;TZID=America/New_York:20240713T180000
DTEND;TZID=America/New_York:20240713T210000
DTSTAMP:20260419T211636
CREATED:20240703T153637Z
LAST-MODIFIED:20240703T153637Z
UID:10000581-1720893600-1720904400@amicirestaurant.org
SUMMARY:DNA
DESCRIPTION:DNA (Danny and Alexis) singing all your favorite songs from yesterday and today! From Dean Martin to Garth Brooks and Rosemary Clooney to Meghan Trainor. A great mix of genres for all tastes! \nhttps://instagram.com/dna_vocal_duo \nhttps://www.facebook.com/powervocalduo/  \n 
URL:https://amicirestaurant.org/event/dna-47/
LOCATION:Amici Restaurant\, 304 Rt 25A\, Mt Sinai\, NY\, 11766\, United States
ATTACH;FMTTYPE=image/jpeg:https://amicirestaurant.org/wp-content/uploads/2021/04/DNA-1.jpg
END:VEVENT
BEGIN:VEVENT
DTSTART;TZID=America/New_York:20240718T183000
DTEND;TZID=America/New_York:20240718T203000
DTSTAMP:20260419T211636
CREATED:20221020T161224Z
LAST-MODIFIED:20240104T171846Z
UID:10000388-1721327400-1721334600@amicirestaurant.org
SUMMARY:Trivia Night!
DESCRIPTION:Join us for Trivia Night at Amici! \nStarting at 6:30 \nAppetizer specials
URL:https://amicirestaurant.org/event/trivia-night/2024-07-18/
LOCATION:Amici Restaurant\, 304 Rt 25A\, Mt Sinai\, NY\, 11766\, United States
ATTACH;FMTTYPE=image/jpeg:https://amicirestaurant.org/wp-content/uploads/2022/10/trivia-night.jpg
END:VEVENT
BEGIN:VEVENT
DTSTART;TZID=America/New_York:20240719T180000
DTEND;TZID=America/New_York:20240719T210000
DTSTAMP:20260419T211636
CREATED:20240703T153721Z
LAST-MODIFIED:20240703T153721Z
UID:10000586-1721412000-1721422800@amicirestaurant.org
SUMMARY:Steven Rodriguez
DESCRIPTION:Come see Steven Rodriguez perform live music from all decades! \n631-473-2400\, please call for details
URL:https://amicirestaurant.org/event/steven-rodriguez-19/
LOCATION:Amici Restaurant\, 304 Rt 25A\, Mt Sinai\, NY\, 11766\, United States
ATTACH;FMTTYPE=image/jpeg:https://amicirestaurant.org/wp-content/uploads/2021/09/steven_rodriguez.jpg
END:VEVENT
BEGIN:VEVENT
DTSTART;TZID=America/New_York:20240720T180000
DTEND;TZID=America/New_York:20240720T210000
DTSTAMP:20260419T211636
CREATED:20240703T153624Z
LAST-MODIFIED:20240703T153624Z
UID:10000580-1721498400-1721509200@amicirestaurant.org
SUMMARY:Carolyn Benson in the Lounge!
DESCRIPTION:Carolyn Benson\, a versatile songstress\, dazzles audiences with her dynamic renditions of Broadway classics\, nostalgic hits from the 60s\, 70s\, and 80s\, and electrifying disco covers. As the frontwoman of a celebrated Linda Ronstadt tribute band\, Carolyn’s captivating performances breathe new life into timeless tunes\, ensuring a memorable experience for music lovers of all ages \nhttps://www.facebook.com/CarolynBensonOfficial \nhttps://carolynbenson.us
URL:https://amicirestaurant.org/event/carolyn-benson-in-the-lounge-3/
LOCATION:Amici Restaurant\, 304 Rt 25A\, Mt Sinai\, NY\, 11766\, United States
ATTACH;FMTTYPE=image/jpeg:https://amicirestaurant.org/wp-content/uploads/2023/11/carolyn_benson.jpg
END:VEVENT
BEGIN:VEVENT
DTSTART;TZID=America/New_York:20240725T183000
DTEND;TZID=America/New_York:20240725T203000
DTSTAMP:20260419T211636
CREATED:20221020T161224Z
LAST-MODIFIED:20240104T171846Z
UID:10000389-1721932200-1721939400@amicirestaurant.org
SUMMARY:Trivia Night!
DESCRIPTION:Join us for Trivia Night at Amici! \nStarting at 6:30 \nAppetizer specials
URL:https://amicirestaurant.org/event/trivia-night/2024-07-25/
LOCATION:Amici Restaurant\, 304 Rt 25A\, Mt Sinai\, NY\, 11766\, United States
ATTACH;FMTTYPE=image/jpeg:https://amicirestaurant.org/wp-content/uploads/2022/10/trivia-night.jpg
END:VEVENT
BEGIN:VEVENT
DTSTART;TZID=America/New_York:20240726T180000
DTEND;TZID=America/New_York:20240726T220000
DTSTAMP:20260419T211636
CREATED:20240703T153832Z
LAST-MODIFIED:20240703T153832Z
UID:10000587-1722016800-1722031200@amicirestaurant.org
SUMMARY:Cactus & the Kia
DESCRIPTION:We are not your typical duo. We offer a wireless and interactive experience for our audience\, and our music selection is sure to take you back in time to different moments of your life. Our genres consist of indie\, folk\, classic rock\, country\, 80’s etc\, and our instruments include two vocals\, acoustic guitar\, electric violin\, harmonica\, various ukuleles\, and some light percussion. We are truly passionate about what we do and we love to play music that makes people feel different emotions. Come enjoy our unique show! \n\n\nwww.instagram.com/cactusandthekia \n\n631-473-2400\, please call for details
URL:https://amicirestaurant.org/event/cactus-and-the-kia/
LOCATION:Amici Restaurant\, 304 Rt 25A\, Mt Sinai\, NY\, 11766\, United States
ATTACH;FMTTYPE=image/jpeg:https://amicirestaurant.org/wp-content/uploads/2024/07/catus-kia.jpg
END:VEVENT
END:VCALENDAR