BEGIN:VCALENDAR
VERSION:2.0
PRODID:-//Amici - ECPv6.14.0//NONSGML v1.0//EN
CALSCALE:GREGORIAN
METHOD:PUBLISH
X-WR-CALNAME:Amici
X-ORIGINAL-URL:https://amicirestaurant.org
X-WR-CALDESC:Events for Amici
REFRESH-INTERVAL;VALUE=DURATION:PT1H
X-Robots-Tag:noindex
X-PUBLISHED-TTL:PT1H
BEGIN:VTIMEZONE
TZID:America/New_York
BEGIN:DAYLIGHT
TZOFFSETFROM:-0500
TZOFFSETTO:-0400
TZNAME:EDT
DTSTART:20210314T070000
END:DAYLIGHT
BEGIN:STANDARD
TZOFFSETFROM:-0400
TZOFFSETTO:-0500
TZNAME:EST
DTSTART:20211107T060000
END:STANDARD
END:VTIMEZONE
BEGIN:VEVENT
DTSTART;TZID=America/New_York:20210604T180000
DTEND;TZID=America/New_York:20210604T220000
DTSTAMP:20260424T071008
CREATED:20210603T190337Z
LAST-MODIFIED:20210603T190605Z
UID:10000015-1622829600-1622844000@amicirestaurant.org
SUMMARY:Paul Mahos returns to the Backyard at Amici
DESCRIPTION:We’re very excited to have Paul Mahos of New Life Crisis return! \npaul-mahos.com \ninstagram.com/paul_mahos \nfacebook.com/NewLifeCrisis/ \n  \n \nIn accordance with current NYS capacity rules and hoping to make it a fair and safe experience for all\, we will have two seatings for guests joining us to see the bands in the Backyard on Fridays and Saturdays.\n\nFirst seating starts between 5PM & 6PM\, with music playing from 6:15 – 7:30\n\nSecond seating starts between 7:45 & 8:15\, with music playing from 8:30 – 9:45\n\nReservations are required – 631-473-2400\, please call for details
URL:https://amicirestaurant.org/event/paul-mahos-returns-to-the-backyard-at-amici/
LOCATION:Amici Restaurant\, 304 Rt 25A\, Mt Sinai\, NY\, 11766\, United States
ATTACH;FMTTYPE=image/jpeg:https://amicirestaurant.org/wp-content/uploads/2021/06/paul_mahos.jpg
END:VEVENT
BEGIN:VEVENT
DTSTART;TZID=America/New_York:20210605T180000
DTEND;TZID=America/New_York:20210605T220000
DTSTAMP:20260424T071008
CREATED:20210603T190844Z
LAST-MODIFIED:20210604T032853Z
UID:10000017-1622916000-1622930400@amicirestaurant.org
SUMMARY:Panic - Acoustic Trio
DESCRIPTION:Same great songs – acoustically \nPanic plays something for everyone: Pop\, Rock\, Top 40\, R&B\, Country and more! From yesterday’s Classics to today’s hottest hits\, we play it ALL in a style you can feel and dance to! \nPanic is comprised of New York music scene professionals who know how to entertain\, and what people like to hear \n  \npanictheband.com \ninstagram.com/Panicband \nfacebook.com/worldofpanicone \n  \nIn accordance with current NYS capacity rules and hoping to make it a fair and safe experience for all\, we will have two seatings for guests joining us to see the bands in the Backyard on Fridays and Saturdays.\n\nFirst seating starts between 5PM & 6PM\, with music playing from 6:15 – 7:30\n\nSecond seating starts between 7:45 & 8:15\, with music playing from 8:30 – 9:45\n\nReservations are required – 631-473-2400\, please call for details
URL:https://amicirestaurant.org/event/panic-acoustic/
LOCATION:Amici Restaurant\, 304 Rt 25A\, Mt Sinai\, NY\, 11766\, United States
ATTACH;FMTTYPE=image/jpeg:https://amicirestaurant.org/wp-content/uploads/2021/06/panic_acoustic_060521-1.jpg
END:VEVENT
BEGIN:VEVENT
DTSTART;TZID=America/New_York:20210611T180000
DTEND;TZID=America/New_York:20210611T220000
DTSTAMP:20260424T071008
CREATED:20210603T191405Z
LAST-MODIFIED:20210603T191405Z
UID:10000018-1623434400-1623448800@amicirestaurant.org
SUMMARY:The Baytenders
DESCRIPTION:Despite sharing many of the same interests and pastimes\, we all are inspired by different things that lead us to work seamlessly in a creative setting. The final result is just having a good time doing what we love! \nOur music blends Rock\, Jazz\, Classical\, RnB\, Country and many others. Bands Such as Cream\, Eagles\, Steely Dan\, Eric Clapton\, Allman Bros.\, Bob Seeger\, Rolling Stones\, CSNY\, Grateful Dead and much more are the basis for our Song List. \nhttps://www.facebook.com/ny.li.band/ \nwww.thebaytenders.com \nIn accordance with current NYS capacity rules and hoping to make it a fair and safe experience for all\, we will have two seatings for guests joining us to see the bands in the Backyard on Fridays and Saturdays.\n\nFirst seating starts between 5PM & 6PM\, with music playing from 6:15 – 7:30\n\nSecond seating starts between 7:45 & 8:15\, with music playing from 8:30 – 9:45\n\nReservations are required – 631-473-2400\, please call for details
URL:https://amicirestaurant.org/event/the_baytenders_061121/
LOCATION:Amici Restaurant\, 304 Rt 25A\, Mt Sinai\, NY\, 11766\, United States
ATTACH;FMTTYPE=image/jpeg:https://amicirestaurant.org/wp-content/uploads/2021/06/the_baytenders.jpg
END:VEVENT
BEGIN:VEVENT
DTSTART;TZID=America/New_York:20210612T180000
DTEND;TZID=America/New_York:20210612T220000
DTSTAMP:20260424T071008
CREATED:20210610T152800Z
LAST-MODIFIED:20210610T152800Z
UID:10000021-1623520800-1623535200@amicirestaurant.org
SUMMARY:Jim Del
DESCRIPTION:Jim Del\, singer and drummer for The Doobie Brothers\, Sir Elton\, and cover band\, X-Session.  Sings pleasant rock-n-roll as you enjoy dinner. \nJohn Melencamp\, Eagles\, Billy Joel\, Darius Rucker\, U2\, Oasis\, Paul Simon\, R.E.M.\, John Mayer and more .. \n  \nIn accordance with current NYS capacity rules and hoping to make it a fair and safe experience for all\, we will have two seatings for guests joining us to see the bands in the Backyard on Fridays and Saturdays.\n\nFirst seating starts between 5PM & 6PM\, with music playing from 6:15 – 7:30\n\nSecond seating starts between 7:45 & 8:15\, with music playing from 8:30 – 9:45\n\nReservations are required – 631-473-2400\, please call for details
URL:https://amicirestaurant.org/event/jim_del_061021/
LOCATION:Amici Restaurant\, 304 Rt 25A\, Mt Sinai\, NY\, 11766\, United States
ATTACH;FMTTYPE=image/jpeg:https://amicirestaurant.org/wp-content/uploads/2021/06/jim_del.jpg
END:VEVENT
BEGIN:VEVENT
DTSTART;TZID=America/New_York:20210618T180000
DTEND;TZID=America/New_York:20210618T220000
DTSTAMP:20260424T071008
CREATED:20210603T193848Z
LAST-MODIFIED:20210616T154915Z
UID:10000020-1624039200-1624053600@amicirestaurant.org
SUMMARY:Abby Normal
DESCRIPTION:Puttin’ On The Hitz \n\n\nIn accordance with current NYS capacity rules and hoping to make it a fair and safe experience for all\, we will have two seatings for guests joining us to see the bands in the Backyard on Fridays and Saturdays.\n\nFirst seating starts between 5PM & 6PM\, with music playing from 6:15 – 7:30\n\nSecond seating starts between 7:45 & 8:15\, with music playing from 8:30 – 9:45\n\nReservations are required – 631-473-2400\, please call for details
URL:https://amicirestaurant.org/event/abby_normal_061821/
LOCATION:Amici Restaurant\, 304 Rt 25A\, Mt Sinai\, NY\, 11766\, United States
ATTACH;FMTTYPE=image/jpeg:https://amicirestaurant.org/wp-content/uploads/2021/06/abby-normal.jpg
END:VEVENT
BEGIN:VEVENT
DTSTART;TZID=America/New_York:20210619T180000
DTEND;TZID=America/New_York:20210619T220000
DTSTAMP:20260424T071008
CREATED:20210603T191758Z
LAST-MODIFIED:20210604T031640Z
UID:10000019-1624125600-1624140000@amicirestaurant.org
SUMMARY:Jack Fontana is Back!
DESCRIPTION:One Night Only ! Jack was a favorite at Amici & then moved to North Carolina. He will be visiting Long Island & doing one show. It will be like old times. DON’T MISS IT !!!! \n\n\nIn accordance with current NYS capacity rules and hoping to make it a fair and safe experience for all\, we will have two seatings for guests joining us to see the bands in the Backyard on Fridays and Saturdays.\n\nFirst seating starts between 5PM & 6PM\, with music playing from 6:15 – 7:30\n\nSecond seating starts between 7:45 & 8:15\, with music playing from 8:30 – 9:45\n\nReservations are required – 631-473-2400\, please call for details
URL:https://amicirestaurant.org/event/jack-fontana-is-back/
LOCATION:Amici Restaurant\, 304 Rt 25A\, Mt Sinai\, NY\, 11766\, United States
ATTACH;FMTTYPE=image/jpeg:https://amicirestaurant.org/wp-content/uploads/2021/06/jack_fontana-1.jpg
END:VEVENT
BEGIN:VEVENT
DTSTART;TZID=America/New_York:20210625T180000
DTEND;TZID=America/New_York:20210625T220000
DTSTAMP:20260424T071008
CREATED:20210603T190721Z
LAST-MODIFIED:20210630T202847Z
UID:10000016-1624644000-1624658400@amicirestaurant.org
SUMMARY:DNA
DESCRIPTION:DNA (Danny and Alexis) singing all your favorite songs from yesterday and today!\n\nFrom Dean Martin to Garth Brooks and Rosemary Clooney to Meghan Trainor. A great mix of genres for all tastes!\n\nhttps://instagram.com/dna_vocal_duo\n\nhttps://www.facebook.com/powervocalduo/\n\n \n\nIn accordance with current NYS capacity rules and hoping to make it a fair and safe experience for all\, we will have two seatings for guests joining us to see the bands in the Backyard on Fridays and Saturdays.\n\nFirst seating starts between 5PM & 6PM\, with music playing from 6:15 – 7:30\n\nSecond seating starts between 7:45 & 8:15\, with music playing from 8:30 – 9:45\n\nReservations are required – 631-473-2400\, please call for details
URL:https://amicirestaurant.org/event/dna-2/
LOCATION:Amici Restaurant\, 304 Rt 25A\, Mt Sinai\, NY\, 11766\, United States
ATTACH;FMTTYPE=image/jpeg:https://amicirestaurant.org/wp-content/uploads/2021/04/DNA-1.jpg
END:VEVENT
BEGIN:VEVENT
DTSTART;TZID=America/New_York:20210626T180000
DTEND;TZID=America/New_York:20210626T220000
DTSTAMP:20260424T071008
CREATED:20210603T190122Z
LAST-MODIFIED:20210630T202451Z
UID:10000014-1624730400-1624744800@amicirestaurant.org
SUMMARY:Panic
DESCRIPTION:Panic is a 5 piece Rock / Pop / Dance band  Panic plays something for everyone: Pop\, Rock\, Top 40\, R&B\, Country and more! From yesterday’s Classics to today’s hottest hits\, we play it ALL in a style you can feel and dance to!\n\n \n\nPowerful Female and Male Vocalists\, Thunderous Rhythms\, and Slashing Guitar work along with charisma\, stage presence and showmanship create a live act that is simply fun to see and hear.\n\n \n\nPanic is comprised of New York music scene professionals who know how to entertain\, and what people like to hear\n\n \n\npanictheband.com\n\ninstagram.com/Panicband\n\nfacebook.com/worldofpanicone\n\n \nIn accordance with current NYS capacity rules and hoping to make it a fair and safe experience for all\, we will have two seatings for guests joining us to see the bands in the Backyard on Fridays and Saturdays.\n\nFirst seating starts between 5PM & 6PM\, with music playing from 6:15 – 7:30\n\nSecond seating starts between 7:45 & 8:15\, with music playing from 8:30 – 9:45\n\nReservations are required – 631-473-2400\, please call for details
URL:https://amicirestaurant.org/event/panic-3/
LOCATION:Amici Restaurant\, 304 Rt 25A\, Mt Sinai\, NY\, 11766\, United States
ATTACH;FMTTYPE=image/jpeg:https://amicirestaurant.org/wp-content/uploads/2021/06/panic_acoustic_060521.jpg
END:VEVENT
END:VCALENDAR