BEGIN:VCALENDAR
VERSION:2.0
PRODID:-//Amici - ECPv6.14.0//NONSGML v1.0//EN
CALSCALE:GREGORIAN
METHOD:PUBLISH
X-ORIGINAL-URL:https://amicirestaurant.org
X-WR-CALDESC:Events for Amici
REFRESH-INTERVAL;VALUE=DURATION:PT1H
X-Robots-Tag:noindex
X-PUBLISHED-TTL:PT1H
BEGIN:VTIMEZONE
TZID:America/New_York
BEGIN:DAYLIGHT
TZOFFSETFROM:-0500
TZOFFSETTO:-0400
TZNAME:EDT
DTSTART:20210314T070000
END:DAYLIGHT
BEGIN:STANDARD
TZOFFSETFROM:-0400
TZOFFSETTO:-0500
TZNAME:EST
DTSTART:20211107T060000
END:STANDARD
END:VTIMEZONE
BEGIN:VEVENT
DTSTART;TZID=America/New_York:20210805T173000
DTEND;TZID=America/New_York:20210805T210000
DTSTAMP:20260424T031516
CREATED:20210728T174602Z
LAST-MODIFIED:20210728T174602Z
UID:10000039-1628184600-1628197200@amicirestaurant.org
SUMMARY:The Psychic Sisters - Group Spirit Reading & Dinner
DESCRIPTION:The Psychic Sisters are back at Amici for one of their sought after group readings. The evening includes dinner. \nPlease call Amici for details to reserve your spot\, 631-473-2400 \n$70pp plus tax & gratuity
URL:https://amicirestaurant.org/event/psychic-sisters-080521/
LOCATION:Amici Restaurant\, 304 Rt 25A\, Mt Sinai\, NY\, 11766\, United States
ATTACH;FMTTYPE=image/jpeg:https://amicirestaurant.org/wp-content/uploads/2021/07/psychic_sisters.jpg
END:VEVENT
BEGIN:VEVENT
DTSTART;TZID=America/New_York:20210806T180000
DTEND;TZID=America/New_York:20210806T213000
DTSTAMP:20260424T031516
CREATED:20210727T165126Z
LAST-MODIFIED:20210727T165224Z
UID:10000033-1628272800-1628285400@amicirestaurant.org
SUMMARY:Chuck Evans Band
DESCRIPTION:Chuck Evans Band… in the words of one fan\, “it’s a bottomless barrel of musical ear candy”. Fans tell the band\, time and time again\, that they loved dancing\, stomping\, singing along to every song!! \nA great laundry list of songs\, new and old\, that patrons of all ages can enjoy!  Chuck Evans Band Electrifying “ One of a kind” With love. \nhttps://www.facebook.com/chuckevansband \nhttps://www.chuckevans.net \n631-473-2400\, please call for details
URL:https://amicirestaurant.org/event/chuck-evans-band-080621/
LOCATION:Amici Restaurant\, 304 Rt 25A\, Mt Sinai\, NY\, 11766\, United States
ATTACH;FMTTYPE=image/jpeg:https://amicirestaurant.org/wp-content/uploads/2021/07/chuck_evans.jpg
END:VEVENT
BEGIN:VEVENT
DTSTART;TZID=America/New_York:20210807T180000
DTEND;TZID=America/New_York:20210807T213000
DTSTAMP:20260424T031516
CREATED:20210727T165717Z
LAST-MODIFIED:20210727T170503Z
UID:10000034-1628359200-1628371800@amicirestaurant.org
SUMMARY:Kelli Baker
DESCRIPTION:With a powerhouse voice dripping with a haunting sensuality that slips easily into growling old school blues-tones\, Kelli speaks her heart like a beat poet in a late night dive. The kind you only know if you’re in the know. Her music is an amalgamation of authentic blues/rock and heart-on-her-sleeve singer/songwriter pop with folk/gospel roots. \nBorn and raised in Phoenix\, Arizona\, Kelli Baker moved to New York in 2012\, with $500 in cash\, chasing the heels of Hurricane Sandy. \nKelli has been nominated as the  Best Singer from Long Island 2021 by Bethpage’s prestigious “Best of Long Island” award series\, and was named of one Newsday’s Rising Stars of Long Island for 2019. She been featured on Rollin’ With Rob Rush of 94.3 The Shark\, Tedeschi Trucks podcast\, Knock ‘Em Dead Comedy\, UnRated Magazine\, UK Radio’s Don’s Hit List\, Governor’s Radio\, Breaking Sound Radio\, Rising Stars Radio with Rick Eberle\, The Douglas Coleman Show\, OhBaeBee\, DiscoverYou Radio\, The Long Islander\, and The Island Now\, among others. \ninstagram.com/kellibakermusic \nfacebook.com/kellibakermusic \n  \n631-473-2400\, please call for details
URL:https://amicirestaurant.org/event/kelli_baker_080721/
LOCATION:Amici Restaurant\, 304 Rt 25A\, Mt Sinai\, NY\, 11766\, United States
ATTACH;FMTTYPE=image/jpeg:https://amicirestaurant.org/wp-content/uploads/2021/07/kelly_baker.jpg
END:VEVENT
BEGIN:VEVENT
DTSTART;TZID=America/New_York:20210814T180000
DTEND;TZID=America/New_York:20210814T213000
DTSTAMP:20260424T031516
CREATED:20210727T170217Z
LAST-MODIFIED:20210727T170217Z
UID:10000036-1628964000-1628976600@amicirestaurant.org
SUMMARY:The Mutant Kings
DESCRIPTION:The Mutant Kings play the best rock and roll hits from the 50’s\, 60’s and 70’s. \nHear your favorite songs plus a few originals. \nCome have a great time listening to us play decades of ROCK! \nfacebook.com/TheMutantKings \n631-473-2400\, please call for details
URL:https://amicirestaurant.org/event/the-mutant-kings-081421/
LOCATION:Amici Restaurant\, 304 Rt 25A\, Mt Sinai\, NY\, 11766\, United States
ATTACH;FMTTYPE=image/jpeg:https://amicirestaurant.org/wp-content/uploads/2021/07/the_mutant_kings.jpg
END:VEVENT
BEGIN:VEVENT
DTSTART;TZID=America/New_York:20210820T180000
DTEND;TZID=America/New_York:20210820T213000
DTSTAMP:20260424T031516
CREATED:20210818T142207Z
LAST-MODIFIED:20210818T142351Z
UID:10000041-1629482400-1629495000@amicirestaurant.org
SUMMARY:Gina Mingoia
DESCRIPTION:Gina Mingoia has been performing live around Long Island for the last decade. She began singing alongside her father at age 12 and has been performing ever since. In 2018\, she opened for Brett Eldredge at the Brookhaven Amphitheatre\, and in 2019\, she opened for Michael Ray. Gina has recorded several singles in Nashville. \n  \nInstagram: \ninstagram.com/ginamingoia \nFacebook Page \nfacebook.com/ginamingoiamusic \n 
URL:https://amicirestaurant.org/event/gina-mingoia-081821/
LOCATION:Amici Restaurant\, 304 Rt 25A\, Mt Sinai\, NY\, 11766\, United States
ATTACH;FMTTYPE=image/jpeg:https://amicirestaurant.org/wp-content/uploads/2021/08/gina_mingoia.jpg
END:VEVENT
BEGIN:VEVENT
DTSTART;TZID=America/New_York:20210821T180000
DTEND;TZID=America/New_York:20210821T213000
DTSTAMP:20260424T031516
CREATED:20210727T175600Z
LAST-MODIFIED:20210727T175600Z
UID:10000038-1629568800-1629581400@amicirestaurant.org
SUMMARY:Yellowfly
DESCRIPTION:Yellowfly is a unique power trio playing their spin on classic music of every genre. \n\nInstagram: \nhttps://www.instagram.com/erichglaubitz/ \nFacebook Page \nhttps://www.facebook.com/pages/Yellowfly/219527384805406 \nWebsite \nwww.yellowfly.net \n\n\n631-473-2400\, please call for details
URL:https://amicirestaurant.org/event/yellowfly-082121/
LOCATION:Amici Restaurant\, 304 Rt 25A\, Mt Sinai\, NY\, 11766\, United States
ATTACH;FMTTYPE=image/jpeg:https://amicirestaurant.org/wp-content/uploads/2021/07/yellowfly.jpg
END:VEVENT
BEGIN:VEVENT
DTSTART;TZID=America/New_York:20210827T180000
DTEND;TZID=America/New_York:20210827T213000
DTSTAMP:20260424T031516
CREATED:20210826T204941Z
LAST-MODIFIED:20210826T205055Z
UID:10000044-1630087200-1630099800@amicirestaurant.org
SUMMARY:Gina Mingoia
DESCRIPTION:Gina Mingoia has been performing live around Long Island for the last decade. She began singing alongside her father at age 12 and has been performing ever since. In 2018\, she opened for Brett Eldredge at the Brookhaven Amphitheatre\, and in 2019\, she opened for Michael Ray. Gina has recorded several singles in Nashville. \n  \nInstagram: \ninstagram.com/ginamingoia \nFacebook Page \nfacebook.com/ginamingoiamusic \n 
URL:https://amicirestaurant.org/event/gina-mingoia-082721/
LOCATION:Amici Restaurant\, 304 Rt 25A\, Mt Sinai\, NY\, 11766\, United States
ATTACH;FMTTYPE=image/jpeg:https://amicirestaurant.org/wp-content/uploads/2021/08/gina_mingoia.jpg
END:VEVENT
BEGIN:VEVENT
DTSTART;TZID=America/New_York:20210828T180000
DTEND;TZID=America/New_York:20210828T213000
DTSTAMP:20260424T031516
CREATED:20210825T040706Z
LAST-MODIFIED:20210825T040706Z
UID:10000043-1630173600-1630186200@amicirestaurant.org
SUMMARY:Rich Wahl & Corina Rose Acoustic
DESCRIPTION:Come on down to Amici and hang while we play you some tunes! Its gonna be a good time!! \n631-473-2400\, please call for details
URL:https://amicirestaurant.org/event/rich-wahl-corina-rose-acoustic-082821/
LOCATION:Amici Restaurant\, 304 Rt 25A\, Mt Sinai\, NY\, 11766\, United States
ATTACH;FMTTYPE=image/jpeg:https://amicirestaurant.org/wp-content/uploads/2021/07/Rich-Wahl-Acoustic.jpg
END:VEVENT
END:VCALENDAR