BEGIN:VCALENDAR
VERSION:2.0
PRODID:-//Amici - ECPv6.14.0//NONSGML v1.0//EN
CALSCALE:GREGORIAN
METHOD:PUBLISH
X-WR-CALNAME:Amici
X-ORIGINAL-URL:https://amicirestaurant.org
X-WR-CALDESC:Events for Amici
REFRESH-INTERVAL;VALUE=DURATION:PT1H
X-Robots-Tag:noindex
X-PUBLISHED-TTL:PT1H
BEGIN:VTIMEZONE
TZID:America/New_York
BEGIN:DAYLIGHT
TZOFFSETFROM:-0500
TZOFFSETTO:-0400
TZNAME:EDT
DTSTART:20210314T070000
END:DAYLIGHT
BEGIN:STANDARD
TZOFFSETFROM:-0400
TZOFFSETTO:-0500
TZNAME:EST
DTSTART:20211107T060000
END:STANDARD
END:VTIMEZONE
BEGIN:VEVENT
DTSTART;TZID=America/New_York:20210903T180000
DTEND;TZID=America/New_York:20210903T220000
DTSTAMP:20260424T014326
CREATED:20210831T222607Z
LAST-MODIFIED:20210831T222607Z
UID:10000047-1630692000-1630706400@amicirestaurant.org
SUMMARY:Damaged Goods
DESCRIPTION:Come on down to the “ Backyard at Amici “ and get damaged with us! Great food \, drinks and open outdoor atmosphere \, so come join us! \n  \n631-473-2400\, please call for details
URL:https://amicirestaurant.org/event/damaged-goods/
LOCATION:Amici Restaurant\, 304 Rt 25A\, Mt Sinai\, NY\, 11766\, United States
ATTACH;FMTTYPE=image/jpeg:https://amicirestaurant.org/wp-content/uploads/2021/06/damaged_goods.jpg
END:VEVENT
BEGIN:VEVENT
DTSTART;TZID=America/New_York:20210904T180000
DTEND;TZID=America/New_York:20210904T213000
DTSTAMP:20260424T014326
CREATED:20210831T222513Z
LAST-MODIFIED:20210831T222513Z
UID:10000046-1630778400-1630791000@amicirestaurant.org
SUMMARY:Kelli Baker
DESCRIPTION:With a powerhouse voice dripping with a haunting sensuality that slips easily into growling old school blues-tones\, Kelli speaks her heart like a beat poet in a late night dive. The kind you only know if you’re in the know. Her music is an amalgamation of authentic blues/rock and heart-on-her-sleeve singer/songwriter pop with folk/gospel roots. \nBorn and raised in Phoenix\, Arizona\, Kelli Baker moved to New York in 2012\, with $500 in cash\, chasing the heels of Hurricane Sandy. \nKelli has been nominated as the  Best Singer from Long Island 2021 by Bethpage’s prestigious “Best of Long Island” award series\, and was named of one Newsday’s Rising Stars of Long Island for 2019. She been featured on Rollin’ With Rob Rush of 94.3 The Shark\, Tedeschi Trucks podcast\, Knock ‘Em Dead Comedy\, UnRated Magazine\, UK Radio’s Don’s Hit List\, Governor’s Radio\, Breaking Sound Radio\, Rising Stars Radio with Rick Eberle\, The Douglas Coleman Show\, OhBaeBee\, DiscoverYou Radio\, The Long Islander\, and The Island Now\, among others. \ninstagram.com/kellibakermusic \nfacebook.com/kellibakermusic \n  \n631-473-2400\, please call for details
URL:https://amicirestaurant.org/event/kelli-baker-090421/
LOCATION:Amici Restaurant\, 304 Rt 25A\, Mt Sinai\, NY\, 11766\, United States
ATTACH;FMTTYPE=image/jpeg:https://amicirestaurant.org/wp-content/uploads/2021/07/kelly_baker.jpg
END:VEVENT
BEGIN:VEVENT
DTSTART;TZID=America/New_York:20210910T180000
DTEND;TZID=America/New_York:20210910T213000
DTSTAMP:20260424T014326
CREATED:20210831T222309Z
LAST-MODIFIED:20210831T222309Z
UID:10000045-1631296800-1631309400@amicirestaurant.org
SUMMARY:Gina Mingoia
DESCRIPTION:Gina Mingoia has been performing live around Long Island for the last decade. She began singing alongside her father at age 12 and has been performing ever since. In 2018\, she opened for Brett Eldredge at the Brookhaven Amphitheatre\, and in 2019\, she opened for Michael Ray. Gina has recorded several singles in Nashville. \n  \nInstagram: \ninstagram.com/ginamingoia \nFacebook Page \nfacebook.com/ginamingoiamusic \n 
URL:https://amicirestaurant.org/event/gina-mingoia-091021/
LOCATION:Amici Restaurant\, 304 Rt 25A\, Mt Sinai\, NY\, 11766\, United States
ATTACH;FMTTYPE=image/jpeg:https://amicirestaurant.org/wp-content/uploads/2021/08/gina_mingoia.jpg
END:VEVENT
BEGIN:VEVENT
DTSTART;TZID=America/New_York:20210911T180000
DTEND;TZID=America/New_York:20210911T213000
DTSTAMP:20260424T014326
CREATED:20210831T222707Z
LAST-MODIFIED:20210911T140245Z
UID:10000048-1631383200-1631395800@amicirestaurant.org
SUMMARY:Panic
DESCRIPTION:Panic is a 5 piece Rock / Pop / Dance band \nPanic plays something for everyone: Pop\, Rock\, Top 40\, R&B\, Country and more! From yesterday’s Classics to today’s hottest hits\, we play it ALL in a style you can feel and dance to!   Powerful Female and Male Vocalists\, Thunderous Rhythms\, and Slashing Guitar work along with charisma\, stage presence and showmanship create a live act that is simply fun to see and hear.   Panic is comprised of New York music scene professionals who know how to entertain\, and what people like to hear   panictheband.com \ninstagram.com/Panicband \nfacebook.com/worldofpanicone   \n  \n631-473-2400\, please call for details
URL:https://amicirestaurant.org/event/panic-091121/
LOCATION:Amici Restaurant\, 304 Rt 25A\, Mt Sinai\, NY\, 11766\, United States
ATTACH;FMTTYPE=image/jpeg:https://amicirestaurant.org/wp-content/uploads/2021/04/panic.jpg
END:VEVENT
BEGIN:VEVENT
DTSTART;TZID=America/New_York:20210916T173000
DTEND;TZID=America/New_York:20210916T210000
DTSTAMP:20260424T014326
CREATED:20210810T151604Z
LAST-MODIFIED:20210810T151604Z
UID:10000040-1631813400-1631826000@amicirestaurant.org
SUMMARY:The Psychic Sisters - Group Spirit Reading & Dinner
DESCRIPTION:The Psychic Sisters are back at Amici for one of their sought after group readings. The evening includes dinner. \nPlease call Amici for details to reserve your spot\, 631-473-2400 \n$70pp plus tax & gratuity
URL:https://amicirestaurant.org/event/the-psychic-sisters-group-spirit-reading-dinner/
LOCATION:Amici Restaurant\, 304 Rt 25A\, Mt Sinai\, NY\, 11766\, United States
ATTACH;FMTTYPE=image/jpeg:https://amicirestaurant.org/wp-content/uploads/2021/07/psychic_sisters.jpg
END:VEVENT
BEGIN:VEVENT
DTSTART;TZID=America/New_York:20210917T180000
DTEND;TZID=America/New_York:20210917T213000
DTSTAMP:20260424T014326
CREATED:20210727T165949Z
LAST-MODIFIED:20210831T222344Z
UID:10000035-1631901600-1631914200@amicirestaurant.org
SUMMARY:Paul Mahos in the Backyard at Amici
DESCRIPTION:We’re very excited to have Paul Mahos of New Life Crisis return! \npaul-mahos.com \ninstagram.com/paul_mahos \nfacebook.com/NewLifeCrisis/ \n  \n \n631-473-2400\, please call for details
URL:https://amicirestaurant.org/event/paul-mahos-in-the-backyard-at-amici_091721/
LOCATION:Amici Restaurant\, 304 Rt 25A\, Mt Sinai\, NY\, 11766\, United States
ATTACH;FMTTYPE=image/jpeg:https://amicirestaurant.org/wp-content/uploads/2021/07/paul_mahos.jpg
END:VEVENT
BEGIN:VEVENT
DTSTART;TZID=America/New_York:20210918T180000
DTEND;TZID=America/New_York:20210918T213000
DTSTAMP:20260424T014326
CREATED:20210831T222822Z
LAST-MODIFIED:20210831T222822Z
UID:10000049-1631988000-1632000600@amicirestaurant.org
SUMMARY:Chuck Evans Band
DESCRIPTION:Chuck Evans Band… in the words of one fan\, “it’s a bottomless barrel of musical ear candy”. Fans tell the band\, time and time again\, that they loved dancing\, stomping\, singing along to every song!! \nA great laundry list of songs\, new and old\, that patrons of all ages can enjoy!  Chuck Evans Band Electrifying “ One of a kind” With love. \nhttps://www.facebook.com/chuckevansband \nhttps://www.chuckevans.net \n631-473-2400\, please call for details
URL:https://amicirestaurant.org/event/chuck-evans-band-091821/
LOCATION:Amici Restaurant\, 304 Rt 25A\, Mt Sinai\, NY\, 11766\, United States
ATTACH;FMTTYPE=image/jpeg:https://amicirestaurant.org/wp-content/uploads/2021/07/chuck_evans.jpg
END:VEVENT
BEGIN:VEVENT
DTSTART;TZID=America/New_York:20210924T180000
DTEND;TZID=America/New_York:20210924T213000
DTSTAMP:20260424T014326
CREATED:20210821T223142Z
LAST-MODIFIED:20210831T222848Z
UID:10000042-1632506400-1632519000@amicirestaurant.org
SUMMARY:DNA
DESCRIPTION:DNA (Danny and Alexis) singing all your favorite songs from yesterday and today! From Dean Martin to Garth Brooks and Rosemary Clooney to Meghan Trainor. A great mix of genres for all tastes! \nhttps://instagram.com/dna_vocal_duo \nhttps://www.facebook.com/powervocalduo/  \n 
URL:https://amicirestaurant.org/event/dna-092421/
LOCATION:Amici Restaurant\, 304 Rt 25A\, Mt Sinai\, NY\, 11766\, United States
ATTACH;FMTTYPE=image/jpeg:https://amicirestaurant.org/wp-content/uploads/2021/04/DNA-1.jpg
END:VEVENT
END:VCALENDAR