BEGIN:VCALENDAR
VERSION:2.0
PRODID:-//Amici - ECPv6.14.0//NONSGML v1.0//EN
CALSCALE:GREGORIAN
METHOD:PUBLISH
X-ORIGINAL-URL:https://amicirestaurant.org
X-WR-CALDESC:Events for Amici
REFRESH-INTERVAL;VALUE=DURATION:PT1H
X-Robots-Tag:noindex
X-PUBLISHED-TTL:PT1H
BEGIN:VTIMEZONE
TZID:America/New_York
BEGIN:DAYLIGHT
TZOFFSETFROM:-0500
TZOFFSETTO:-0400
TZNAME:EDT
DTSTART:20220313T070000
END:DAYLIGHT
BEGIN:STANDARD
TZOFFSETFROM:-0400
TZOFFSETTO:-0500
TZNAME:EST
DTSTART:20221106T060000
END:STANDARD
END:VTIMEZONE
BEGIN:VEVENT
DTSTART;TZID=America/New_York:20220304T180000
DTEND;TZID=America/New_York:20220304T210000
DTSTAMP:20260422T200137
CREATED:20220302T225009Z
LAST-MODIFIED:20220302T225009Z
UID:10000095-1646416800-1646427600@amicirestaurant.org
SUMMARY:Vinnie & Linda
DESCRIPTION:Linda – LuLu – and I doing a Duo \n1st Time @ Amici! \n  \nLive Music in the lounge! \n631-473-2400\, please call for details
URL:https://amicirestaurant.org/event/vinnie-linda/
LOCATION:Amici Restaurant\, 304 Rt 25A\, Mt Sinai\, NY\, 11766\, United States
ATTACH;FMTTYPE=image/jpeg:https://amicirestaurant.org/wp-content/uploads/2022/01/vinny_linda.jpg
END:VEVENT
BEGIN:VEVENT
DTSTART;TZID=America/New_York:20220305T180000
DTEND;TZID=America/New_York:20220305T210000
DTSTAMP:20260422T200137
CREATED:20220302T224956Z
LAST-MODIFIED:20220302T224956Z
UID:10000094-1646503200-1646514000@amicirestaurant.org
SUMMARY:Steven Rodriguez
DESCRIPTION:Come see Steven Rodriguez perform live music from all decades! \n631-473-2400\, please call for details
URL:https://amicirestaurant.org/event/steven-rodriguez/
LOCATION:Amici Restaurant\, 304 Rt 25A\, Mt Sinai\, NY\, 11766\, United States
ATTACH;FMTTYPE=image/jpeg:https://amicirestaurant.org/wp-content/uploads/2021/09/steven_rodriguez.jpg
END:VEVENT
BEGIN:VEVENT
DTSTART;TZID=America/New_York:20220307T173000
DTEND;TZID=America/New_York:20220307T210000
DTSTAMP:20260422T200137
CREATED:20220117T184403Z
LAST-MODIFIED:20220117T184419Z
UID:10000083-1646674200-1646686800@amicirestaurant.org
SUMMARY:The Psychic Sisters - Group Spirit Reading & Dinner
DESCRIPTION:The Psychic Sisters are back at Amici for one of their sought after group readings. The evening includes dinner. \nPlease call Amici for details to reserve your spot\, 631-473-2400 \n$70pp plus tax & gratuity
URL:https://amicirestaurant.org/event/the-psychic-sisters-group-spirit-reading-dinner-030722/
LOCATION:Amici Restaurant\, 304 Rt 25A\, Mt Sinai\, NY\, 11766\, United States
ATTACH;FMTTYPE=image/jpeg:https://amicirestaurant.org/wp-content/uploads/2021/07/psychic_sisters.jpg
END:VEVENT
BEGIN:VEVENT
DTSTART;TZID=America/New_York:20220311T180000
DTEND;TZID=America/New_York:20220311T210000
DTSTAMP:20260422T200137
CREATED:20220302T225140Z
LAST-MODIFIED:20220302T225140Z
UID:10000097-1647021600-1647032400@amicirestaurant.org
SUMMARY:Paul Mahos
DESCRIPTION:Paul Mahos live at Amici with special guest Jay Shepard \npaul-mahos.com \ninstagram.com/paul_mahos \nfacebook.com/NewLifeCrisis/ \n  \n \n631-473-2400\, please call for details
URL:https://amicirestaurant.org/event/paul-mahos/
LOCATION:Amici Restaurant\, 304 Rt 25A\, Mt Sinai\, NY\, 11766\, United States
ATTACH;FMTTYPE=image/jpeg:https://amicirestaurant.org/wp-content/uploads/2022/03/paul_mahos4.jpg
END:VEVENT
BEGIN:VEVENT
DTSTART;TZID=America/New_York:20220312T180000
DTEND;TZID=America/New_York:20220312T210000
DTSTAMP:20260422T200137
CREATED:20220302T224941Z
LAST-MODIFIED:20220302T224941Z
UID:10000093-1647108000-1647118800@amicirestaurant.org
SUMMARY:Damaged Goods
DESCRIPTION:Come on down and get damaged with us! \nGreat food \, drinks and open outdoor atmosphere \, so come join us! \n631-473-2400\, please call for details
URL:https://amicirestaurant.org/event/damaged-goods-2/
LOCATION:Amici Restaurant\, 304 Rt 25A\, Mt Sinai\, NY\, 11766\, United States
ATTACH;FMTTYPE=image/jpeg:https://amicirestaurant.org/wp-content/uploads/2021/09/damaged_goods.jpg
END:VEVENT
BEGIN:VEVENT
DTSTART;TZID=America/New_York:20220318T180000
DTEND;TZID=America/New_York:20220318T210000
DTSTAMP:20260422T200137
CREATED:20220302T225025Z
LAST-MODIFIED:20220302T225025Z
UID:10000096-1647626400-1647637200@amicirestaurant.org
SUMMARY:Chuck Evans Band
DESCRIPTION:Chuck Evans Band… in the words of one fan\, “it’s a bottomless barrel of musical ear candy”. Fans tell the band\, time and time again\, that they loved dancing\, stomping\, singing along to every song!! \nA great laundry list of songs\, new and old\, that patrons of all ages can enjoy!  Chuck Evans Band Electrifying “ One of a kind” With love. \nhttps://www.facebook.com/chuckevansband \nhttps://www.chuckevans.net \n631-473-2400\, please call for details
URL:https://amicirestaurant.org/event/chuck-evans-band-2/
LOCATION:Amici Restaurant\, 304 Rt 25A\, Mt Sinai\, NY\, 11766\, United States
ATTACH;FMTTYPE=image/jpeg:https://amicirestaurant.org/wp-content/uploads/2021/07/chuck_evans.jpg
END:VEVENT
BEGIN:VEVENT
DTSTART;TZID=America/New_York:20220319T180000
DTEND;TZID=America/New_York:20220319T210000
DTSTAMP:20260422T200137
CREATED:20220302T225305Z
LAST-MODIFIED:20220310T164545Z
UID:10000098-1647712800-1647723600@amicirestaurant.org
SUMMARY:Wildheart Trio
DESCRIPTION:631-473-2400\, please call for details
URL:https://amicirestaurant.org/event/wildheart-trio/
LOCATION:Amici Restaurant\, 304 Rt 25A\, Mt Sinai\, NY\, 11766\, United States
ATTACH;FMTTYPE=image/jpeg:https://amicirestaurant.org/wp-content/uploads/2022/03/EAC2240D-FF30-429C-A78F-036470959F08.jpeg
END:VEVENT
BEGIN:VEVENT
DTSTART;TZID=America/New_York:20220325T180000
DTEND;TZID=America/New_York:20220325T210000
DTSTAMP:20260422T200137
CREATED:20220302T224920Z
LAST-MODIFIED:20220302T224920Z
UID:10000092-1648231200-1648242000@amicirestaurant.org
SUMMARY:Gina Mingoia
DESCRIPTION:Gina Mingoia has been performing live around Long Island for the last decade. She began singing alongside her father at age 12 and has been performing ever since. In 2018\, she opened for Brett Eldredge at the Brookhaven Amphitheatre\, and in 2019\, she opened for Michael Ray. Gina has recorded several singles in Nashville. \n  \nInstagram: \ninstagram.com/ginamingoia \nFacebook Page \nfacebook.com/ginamingoiamusic \n 
URL:https://amicirestaurant.org/event/gina-mingoia/
LOCATION:Amici Restaurant\, 304 Rt 25A\, Mt Sinai\, NY\, 11766\, United States
ATTACH;FMTTYPE=image/jpeg:https://amicirestaurant.org/wp-content/uploads/2021/08/gina_mingoia.jpg
END:VEVENT
BEGIN:VEVENT
DTSTART;TZID=America/New_York:20220326T180000
DTEND;TZID=America/New_York:20220326T210000
DTSTAMP:20260422T200137
CREATED:20220302T224905Z
LAST-MODIFIED:20220302T224905Z
UID:10000091-1648317600-1648328400@amicirestaurant.org
SUMMARY:DNA
DESCRIPTION:DNA (Danny and Alexis) singing all your favorite songs from yesterday and today! From Dean Martin to Garth Brooks and Rosemary Clooney to Meghan Trainor. A great mix of genres for all tastes! \nhttps://instagram.com/dna_vocal_duo \nhttps://www.facebook.com/powervocalduo/  \n 
URL:https://amicirestaurant.org/event/dna-3/
LOCATION:Amici Restaurant\, 304 Rt 25A\, Mt Sinai\, NY\, 11766\, United States
ATTACH;FMTTYPE=image/jpeg:https://amicirestaurant.org/wp-content/uploads/2021/04/DNA-1.jpg
END:VEVENT
END:VCALENDAR