BEGIN:VCALENDAR
VERSION:2.0
PRODID:-//Amici - ECPv6.14.0//NONSGML v1.0//EN
CALSCALE:GREGORIAN
METHOD:PUBLISH
X-ORIGINAL-URL:https://amicirestaurant.org
X-WR-CALDESC:Events for Amici
REFRESH-INTERVAL;VALUE=DURATION:PT1H
X-Robots-Tag:noindex
X-PUBLISHED-TTL:PT1H
BEGIN:VTIMEZONE
TZID:America/New_York
BEGIN:DAYLIGHT
TZOFFSETFROM:-0500
TZOFFSETTO:-0400
TZNAME:EDT
DTSTART:20230312T070000
END:DAYLIGHT
BEGIN:STANDARD
TZOFFSETFROM:-0400
TZOFFSETTO:-0500
TZNAME:EST
DTSTART:20231105T060000
END:STANDARD
END:VTIMEZONE
BEGIN:VEVENT
DTSTART;TZID=America/New_York:20230105T183000
DTEND;TZID=America/New_York:20230105T203000
DTSTAMP:20260420T222242
CREATED:20221020T161224Z
LAST-MODIFIED:20240104T171846Z
UID:10000176-1672943400-1672950600@amicirestaurant.org
SUMMARY:Trivia Night!
DESCRIPTION:Join us for Trivia Night at Amici! \nStarting at 6:30 \nAppetizer specials
URL:https://amicirestaurant.org/event/trivia-night/2023-01-05/
LOCATION:Amici Restaurant\, 304 Rt 25A\, Mt Sinai\, NY\, 11766\, United States
ATTACH;FMTTYPE=image/jpeg:https://amicirestaurant.org/wp-content/uploads/2022/10/trivia-night.jpg
END:VEVENT
BEGIN:VEVENT
DTSTART;TZID=America/New_York:20230106T180000
DTEND;TZID=America/New_York:20230106T210000
DTSTAMP:20260420T222242
CREATED:20230105T032054Z
LAST-MODIFIED:20230105T032054Z
UID:10000250-1673028000-1673038800@amicirestaurant.org
SUMMARY:DNA
DESCRIPTION:DNA (Danny and Alexis) singing all your favorite songs from yesterday and today! From Dean Martin to Garth Brooks and Rosemary Clooney to Meghan Trainor. A great mix of genres for all tastes! \nhttps://instagram.com/dna_vocal_duo \nhttps://www.facebook.com/powervocalduo/  \n 
URL:https://amicirestaurant.org/event/dna-10/
LOCATION:Amici Restaurant\, 304 Rt 25A\, Mt Sinai\, NY\, 11766\, United States
ATTACH;FMTTYPE=image/jpeg:https://amicirestaurant.org/wp-content/uploads/2021/04/DNA-1.jpg
END:VEVENT
BEGIN:VEVENT
DTSTART;TZID=America/New_York:20230107T180000
DTEND;TZID=America/New_York:20230107T210000
DTSTAMP:20260420T222242
CREATED:20230105T032034Z
LAST-MODIFIED:20230105T032034Z
UID:10000248-1673114400-1673125200@amicirestaurant.org
SUMMARY:Vinny and Lexi
DESCRIPTION:Vinny and Lexi are two new\, aspiring musicians who play a variety of music including pop\, soft rock\, country\, and more. They have played at various venues and are looking forward to performing again showcasing their talent and love for music. You certainly won’t be disappointed listening to the music of this amazing duo. \n631-473-2400\, please call for details
URL:https://amicirestaurant.org/event/vinny-and-lexi-010723/
LOCATION:Amici Restaurant\, 304 Rt 25A\, Mt Sinai\, NY\, 11766\, United States
ATTACH;FMTTYPE=image/jpeg:https://amicirestaurant.org/wp-content/uploads/2023/01/lexi_vinny2.jpg
END:VEVENT
BEGIN:VEVENT
DTSTART;TZID=America/New_York:20230112T183000
DTEND;TZID=America/New_York:20230112T203000
DTSTAMP:20260420T222242
CREATED:20221020T161224Z
LAST-MODIFIED:20240104T171846Z
UID:10000177-1673548200-1673555400@amicirestaurant.org
SUMMARY:Trivia Night!
DESCRIPTION:Join us for Trivia Night at Amici! \nStarting at 6:30 \nAppetizer specials
URL:https://amicirestaurant.org/event/trivia-night/2023-01-12/
LOCATION:Amici Restaurant\, 304 Rt 25A\, Mt Sinai\, NY\, 11766\, United States
ATTACH;FMTTYPE=image/jpeg:https://amicirestaurant.org/wp-content/uploads/2022/10/trivia-night.jpg
END:VEVENT
BEGIN:VEVENT
DTSTART;TZID=America/New_York:20230113T180000
DTEND;TZID=America/New_York:20230113T210000
DTSTAMP:20260420T222242
CREATED:20230105T032112Z
LAST-MODIFIED:20230105T032112Z
UID:10000252-1673632800-1673643600@amicirestaurant.org
SUMMARY:Gina Mingoia
DESCRIPTION:Gina Mingoia has been performing live around Long Island for the last decade. She began singing alongside her father at age 12 and has been performing ever since. In 2018\, she opened for Brett Eldredge at the Brookhaven Amphitheatre\, and in 2019\, she opened for Michael Ray. Gina has recorded several singles in Nashville. \n  \nInstagram: \ninstagram.com/ginamingoia \nFacebook Page \nfacebook.com/ginamingoiamusic \n 
URL:https://amicirestaurant.org/event/gina-mingoia-7/
LOCATION:Amici Restaurant\, 304 Rt 25A\, Mt Sinai\, NY\, 11766\, United States
ATTACH;FMTTYPE=image/jpeg:https://amicirestaurant.org/wp-content/uploads/2021/08/gina_mingoia.jpg
END:VEVENT
BEGIN:VEVENT
DTSTART;TZID=America/New_York:20230114T180000
DTEND;TZID=America/New_York:20230114T210000
DTSTAMP:20260420T222242
CREATED:20230105T032327Z
LAST-MODIFIED:20230105T032327Z
UID:10000253-1673719200-1673730000@amicirestaurant.org
SUMMARY:DNA
DESCRIPTION:DNA (Danny and Alexis) singing all your favorite songs from yesterday and today! From Dean Martin to Garth Brooks and Rosemary Clooney to Meghan Trainor. A great mix of genres for all tastes! \nhttps://instagram.com/dna_vocal_duo \nhttps://www.facebook.com/powervocalduo/  \n 
URL:https://amicirestaurant.org/event/dna-11/
LOCATION:Amici Restaurant\, 304 Rt 25A\, Mt Sinai\, NY\, 11766\, United States
ATTACH;FMTTYPE=image/jpeg:https://amicirestaurant.org/wp-content/uploads/2021/04/DNA-1.jpg
END:VEVENT
BEGIN:VEVENT
DTSTART;TZID=America/New_York:20230119T183000
DTEND;TZID=America/New_York:20230119T203000
DTSTAMP:20260420T222242
CREATED:20221020T161224Z
LAST-MODIFIED:20240104T171846Z
UID:10000178-1674153000-1674160200@amicirestaurant.org
SUMMARY:Trivia Night!
DESCRIPTION:Join us for Trivia Night at Amici! \nStarting at 6:30 \nAppetizer specials
URL:https://amicirestaurant.org/event/trivia-night/2023-01-19/
LOCATION:Amici Restaurant\, 304 Rt 25A\, Mt Sinai\, NY\, 11766\, United States
ATTACH;FMTTYPE=image/jpeg:https://amicirestaurant.org/wp-content/uploads/2022/10/trivia-night.jpg
END:VEVENT
BEGIN:VEVENT
DTSTART;TZID=America/New_York:20230120T180000
DTEND;TZID=America/New_York:20230120T210000
DTSTAMP:20260420T222242
CREATED:20230105T032105Z
LAST-MODIFIED:20230105T032105Z
UID:10000251-1674237600-1674248400@amicirestaurant.org
SUMMARY:Chuck Evans Band
DESCRIPTION:Chuck Evans Band… in the words of one fan\, “it’s a bottomless barrel of musical ear candy”. Fans tell the band\, time and time again\, that they loved dancing\, stomping\, singing along to every song!! \nA great laundry list of songs\, new and old\, that patrons of all ages can enjoy!  Chuck Evans Band Electrifying “ One of a kind” With love. \nhttps://www.facebook.com/chuckevansband \nhttps://www.chuckevans.net \n631-473-2400\, please call for details
URL:https://amicirestaurant.org/event/chuck-evans-band-8/
LOCATION:Amici Restaurant\, 304 Rt 25A\, Mt Sinai\, NY\, 11766\, United States
ATTACH;FMTTYPE=image/jpeg:https://amicirestaurant.org/wp-content/uploads/2021/07/chuck_evans.jpg
END:VEVENT
BEGIN:VEVENT
DTSTART;TZID=America/New_York:20230121T180000
DTEND;TZID=America/New_York:20230121T210000
DTSTAMP:20260420T222242
CREATED:20230109T210438Z
LAST-MODIFIED:20230109T210438Z
UID:10000254-1674324000-1674334800@amicirestaurant.org
SUMMARY:Toni Ann's Soul Sessions
DESCRIPTION:I am so excited to make my debut at Amici! I specialize in performing well know songs from yesterday and today\, guaranteeing ALL will feel moved….from your head to your soul! You will hear everything from Patsy Cline to Stevie Nicks to Melissa Etheridge and so much more! \n631-473-2400\, please call for details
URL:https://amicirestaurant.org/event/toni_ann_012123/
LOCATION:Amici Restaurant\, 304 Rt 25A\, Mt Sinai\, NY\, 11766\, United States
ATTACH;FMTTYPE=image/jpeg:https://amicirestaurant.org/wp-content/uploads/2023/01/toni_ann.jpg
END:VEVENT
BEGIN:VEVENT
DTSTART;TZID=America/New_York:20230126T183000
DTEND;TZID=America/New_York:20230126T203000
DTSTAMP:20260420T222242
CREATED:20221020T161224Z
LAST-MODIFIED:20240104T171846Z
UID:10000179-1674757800-1674765000@amicirestaurant.org
SUMMARY:Trivia Night!
DESCRIPTION:Join us for Trivia Night at Amici! \nStarting at 6:30 \nAppetizer specials
URL:https://amicirestaurant.org/event/trivia-night/2023-01-26/
LOCATION:Amici Restaurant\, 304 Rt 25A\, Mt Sinai\, NY\, 11766\, United States
ATTACH;FMTTYPE=image/jpeg:https://amicirestaurant.org/wp-content/uploads/2022/10/trivia-night.jpg
END:VEVENT
BEGIN:VEVENT
DTSTART;TZID=America/New_York:20230127T180000
DTEND;TZID=America/New_York:20230127T210000
DTSTAMP:20260420T222242
CREATED:20230105T032045Z
LAST-MODIFIED:20230105T032045Z
UID:10000249-1674842400-1674853200@amicirestaurant.org
SUMMARY:Damaged Goods
DESCRIPTION:Come on down and get damaged with us! \nGreat food \, drinks and open outdoor atmosphere \, so come join us! \n631-473-2400\, please call for details
URL:https://amicirestaurant.org/event/damaged-goods-9/
LOCATION:Amici Restaurant\, 304 Rt 25A\, Mt Sinai\, NY\, 11766\, United States
ATTACH;FMTTYPE=image/jpeg:https://amicirestaurant.org/wp-content/uploads/2021/09/damaged_goods.jpg
END:VEVENT
BEGIN:VEVENT
DTSTART;TZID=America/New_York:20230128T180000
DTEND;TZID=America/New_York:20230128T210000
DTSTAMP:20260420T222242
CREATED:20230109T211059Z
LAST-MODIFIED:20230109T211059Z
UID:10000255-1674928800-1674939600@amicirestaurant.org
SUMMARY:Vinnie & Linda\, The VinLin Show
DESCRIPTION:Linda – LuLu – and I doing a Duo \nLive Music in the lounge! \n631-473-2400\, please call for details
URL:https://amicirestaurant.org/event/vinnie-linda-012823/
LOCATION:Amici Restaurant\, 304 Rt 25A\, Mt Sinai\, NY\, 11766\, United States
ATTACH;FMTTYPE=image/jpeg:https://amicirestaurant.org/wp-content/uploads/2022/01/vinny_linda.jpg
END:VEVENT
END:VCALENDAR