BEGIN:VCALENDAR
VERSION:2.0
PRODID:-//Amici - ECPv6.14.0//NONSGML v1.0//EN
CALSCALE:GREGORIAN
METHOD:PUBLISH
X-WR-CALNAME:Amici
X-ORIGINAL-URL:https://amicirestaurant.org
X-WR-CALDESC:Events for Amici
REFRESH-INTERVAL;VALUE=DURATION:PT1H
X-Robots-Tag:noindex
X-PUBLISHED-TTL:PT1H
BEGIN:VTIMEZONE
TZID:America/New_York
BEGIN:DAYLIGHT
TZOFFSETFROM:-0500
TZOFFSETTO:-0400
TZNAME:EDT
DTSTART:20230312T070000
END:DAYLIGHT
BEGIN:STANDARD
TZOFFSETFROM:-0400
TZOFFSETTO:-0500
TZNAME:EST
DTSTART:20231105T060000
END:STANDARD
END:VTIMEZONE
BEGIN:VEVENT
DTSTART;TZID=America/New_York:20230302T183000
DTEND;TZID=America/New_York:20230302T203000
DTSTAMP:20260420T125842
CREATED:20221020T161224Z
LAST-MODIFIED:20240104T171846Z
UID:10000184-1677781800-1677789000@amicirestaurant.org
SUMMARY:Trivia Night!
DESCRIPTION:Join us for Trivia Night at Amici! \nStarting at 6:30 \nAppetizer specials
URL:https://amicirestaurant.org/event/trivia-night/2023-03-02/
LOCATION:Amici Restaurant\, 304 Rt 25A\, Mt Sinai\, NY\, 11766\, United States
ATTACH;FMTTYPE=image/jpeg:https://amicirestaurant.org/wp-content/uploads/2022/10/trivia-night.jpg
END:VEVENT
BEGIN:VEVENT
DTSTART;TZID=America/New_York:20230303T180000
DTEND;TZID=America/New_York:20230303T210000
DTSTAMP:20260420T125843
CREATED:20230227T160531Z
LAST-MODIFIED:20230227T160531Z
UID:10000268-1677866400-1677877200@amicirestaurant.org
SUMMARY:Vinnie & Linda\, The VinLin Show
DESCRIPTION:Linda – LuLu – and I doing a Duo \nLive Music in the lounge! \n631-473-2400\, please call for details
URL:https://amicirestaurant.org/event/vinnie-linda-the-vinlin-show/
LOCATION:Amici Restaurant\, 304 Rt 25A\, Mt Sinai\, NY\, 11766\, United States
ATTACH;FMTTYPE=image/jpeg:https://amicirestaurant.org/wp-content/uploads/2022/01/vinny_linda.jpg
END:VEVENT
BEGIN:VEVENT
DTSTART;TZID=America/New_York:20230304T080000
DTEND;TZID=America/New_York:20230304T170000
DTSTAMP:20260420T125843
CREATED:20230227T161154Z
LAST-MODIFIED:20230227T161154Z
UID:10000274-1677916800-1677949200@amicirestaurant.org
SUMMARY:Matt Bruno
DESCRIPTION:Matt plays a mix of Acoustic Classic Rock music from the 60’s to the 90’s and beyond – everything from Pearl Jam to Tom Petty to The Eagles.  Armed with a set list of 200+ songs\, Matt takes requests from the list all night and acts as a human jukebox! \n  \nhttps://www.instagram.com/mattbrunolive/ \nhttps://www.facebook.com/matthew.bruno.37 \n 
URL:https://amicirestaurant.org/event/matt-bruno/
LOCATION:Amici Restaurant\, 304 Rt 25A\, Mt Sinai\, NY\, 11766\, United States
ATTACH;FMTTYPE=image/jpeg:https://amicirestaurant.org/wp-content/uploads/2023/02/matt_bruno.jpg
END:VEVENT
BEGIN:VEVENT
DTSTART;TZID=America/New_York:20230309T183000
DTEND;TZID=America/New_York:20230309T203000
DTSTAMP:20260420T125843
CREATED:20221020T161224Z
LAST-MODIFIED:20240104T171846Z
UID:10000185-1678386600-1678393800@amicirestaurant.org
SUMMARY:Trivia Night!
DESCRIPTION:Join us for Trivia Night at Amici! \nStarting at 6:30 \nAppetizer specials
URL:https://amicirestaurant.org/event/trivia-night/2023-03-09/
LOCATION:Amici Restaurant\, 304 Rt 25A\, Mt Sinai\, NY\, 11766\, United States
ATTACH;FMTTYPE=image/jpeg:https://amicirestaurant.org/wp-content/uploads/2022/10/trivia-night.jpg
END:VEVENT
BEGIN:VEVENT
DTSTART;TZID=America/New_York:20230310T180000
DTEND;TZID=America/New_York:20230310T210000
DTSTAMP:20260420T125843
CREATED:20230227T160453Z
LAST-MODIFIED:20230227T160453Z
UID:10000265-1678471200-1678482000@amicirestaurant.org
SUMMARY:Solo Joe Boomer Band
DESCRIPTION:THE SOLO JOE “BOOMER BAND”! \nTons of Classic Rock\, Mellow Rock\, Outlaw Country\, Big Band\, Swing\, Grunge\, Dance…All the hits\, all the time! “Everything\, from Sinatra to Nirvana”\, 40’s through 2021! A diverse solo performer that sounds like a full band without any of the excessive volume issues that can sometimes destroy a performance in smaller venues. \nBoasting a state of the art sound system and a catalogue of over 1000 songs chosen from widely varying genres\, Solo Joe is a long time favorite at Country Clubs\, Casinos\, PAC’s\,  High end restaurants\, Corporate/Municipal events as well as many other types of live music venues in the Northeast\, across the USA and around the world. \nAs a veteran of the United States Army elite 82nd Airborne division\, Solo Joe has had the  privilege of having  toured internationally w/Navy Entertainment (Sigonella NAS 2\, Navy Base at Naples Italy\, Guantanamo Bay Cuba\, Abu Dhabi UAE). He’s entertained 1000’s of American armed service people around the globe for the past 30 years. \nHaving fulfilled  multiple contracts as lounge entertainment with various major cruise lines and casinos globally\, his act is highly polished\, personable and engaging. Always taking requests and playing dedications  he’s performed everything from “The Wheels On The Bus go ‘round and ‘round” for toddlers at family friendly events to “Born to be wild” and “This Life” at Sturgis bike week for cast members from  “Sons of Anarchy”. \nHearing his occasional between song banter and anecdotal humor\, it quickly becomes evident that he thoroughly enjoys his job as much as the audience enjoys his performance. \nSolo Joe has been a featured performer at Orlando FL Walt Disney World’s EPCOT Theme park on the American Garden Stage for 8 years in a row performing week-long runs with the “Sounds Like Summer” concert series. \nWhen you see a Solo Joe Show\, you’ll feel as though you’re sitting in your living room listening to the original artist performing some of your favorite tunes just the way you remember hearing them! \n631-473-2400\, please call for details
URL:https://amicirestaurant.org/event/solo-joe-boomer-band-6/
LOCATION:Amici Restaurant\, 304 Rt 25A\, Mt Sinai\, NY\, 11766\, United States
ATTACH;FMTTYPE=image/jpeg:https://amicirestaurant.org/wp-content/uploads/2021/10/solo_joe.jpg
END:VEVENT
BEGIN:VEVENT
DTSTART;TZID=America/New_York:20230311T180000
DTEND;TZID=America/New_York:20230311T210000
DTSTAMP:20260420T125843
CREATED:20230227T160506Z
LAST-MODIFIED:20230227T160506Z
UID:10000266-1678557600-1678568400@amicirestaurant.org
SUMMARY:DNA
DESCRIPTION:DNA (Danny and Alexis) singing all your favorite songs from yesterday and today! From Dean Martin to Garth Brooks and Rosemary Clooney to Meghan Trainor. A great mix of genres for all tastes! \nhttps://instagram.com/dna_vocal_duo \nhttps://www.facebook.com/powervocalduo/  \n 
URL:https://amicirestaurant.org/event/dna-14/
LOCATION:Amici Restaurant\, 304 Rt 25A\, Mt Sinai\, NY\, 11766\, United States
ATTACH;FMTTYPE=image/jpeg:https://amicirestaurant.org/wp-content/uploads/2021/04/DNA-1.jpg
END:VEVENT
BEGIN:VEVENT
DTSTART;TZID=America/New_York:20230316T183000
DTEND;TZID=America/New_York:20230316T203000
DTSTAMP:20260420T125843
CREATED:20221020T161224Z
LAST-MODIFIED:20240104T171846Z
UID:10000186-1678991400-1678998600@amicirestaurant.org
SUMMARY:Trivia Night!
DESCRIPTION:Join us for Trivia Night at Amici! \nStarting at 6:30 \nAppetizer specials
URL:https://amicirestaurant.org/event/trivia-night/2023-03-16/
LOCATION:Amici Restaurant\, 304 Rt 25A\, Mt Sinai\, NY\, 11766\, United States
ATTACH;FMTTYPE=image/jpeg:https://amicirestaurant.org/wp-content/uploads/2022/10/trivia-night.jpg
END:VEVENT
BEGIN:VEVENT
DTSTART;TZID=America/New_York:20230317T180000
DTEND;TZID=America/New_York:20230317T210000
DTSTAMP:20260420T125843
CREATED:20230227T160615Z
LAST-MODIFIED:20230227T160615Z
UID:10000272-1679076000-1679086800@amicirestaurant.org
SUMMARY:Vinny and Lexi
DESCRIPTION:Vinny and Lexi are two new\, aspiring musicians who play a variety of music including pop\, soft rock\, country\, and more. They have played at various venues and are looking forward to performing again showcasing their talent and love for music. You certainly won’t be disappointed listening to the music of this amazing duo \n631-473-2400\, please call for details
URL:https://amicirestaurant.org/event/vinny-and-lexi-2/
LOCATION:Amici Restaurant\, 304 Rt 25A\, Mt Sinai\, NY\, 11766\, United States
ATTACH;FMTTYPE=image/jpeg:https://amicirestaurant.org/wp-content/uploads/2021/10/lexi_vinny.jpg
END:VEVENT
BEGIN:VEVENT
DTSTART;TZID=America/New_York:20230318T180000
DTEND;TZID=America/New_York:20230318T210000
DTSTAMP:20260420T125843
CREATED:20230227T160604Z
LAST-MODIFIED:20230227T160604Z
UID:10000271-1679162400-1679173200@amicirestaurant.org
SUMMARY:Steven Rodriguez
DESCRIPTION:Come see Steven Rodriguez perform live music from all decades! \n631-473-2400\, please call for details
URL:https://amicirestaurant.org/event/steven-rodriguez-9/
LOCATION:Amici Restaurant\, 304 Rt 25A\, Mt Sinai\, NY\, 11766\, United States
ATTACH;FMTTYPE=image/jpeg:https://amicirestaurant.org/wp-content/uploads/2021/09/steven_rodriguez.jpg
END:VEVENT
BEGIN:VEVENT
DTSTART;TZID=America/New_York:20230323T183000
DTEND;TZID=America/New_York:20230323T203000
DTSTAMP:20260420T125843
CREATED:20221020T161224Z
LAST-MODIFIED:20240104T171846Z
UID:10000187-1679596200-1679603400@amicirestaurant.org
SUMMARY:Trivia Night!
DESCRIPTION:Join us for Trivia Night at Amici! \nStarting at 6:30 \nAppetizer specials
URL:https://amicirestaurant.org/event/trivia-night/2023-03-23/
LOCATION:Amici Restaurant\, 304 Rt 25A\, Mt Sinai\, NY\, 11766\, United States
ATTACH;FMTTYPE=image/jpeg:https://amicirestaurant.org/wp-content/uploads/2022/10/trivia-night.jpg
END:VEVENT
BEGIN:VEVENT
DTSTART;TZID=America/New_York:20230324T180000
DTEND;TZID=America/New_York:20230324T210000
DTSTAMP:20260420T125843
CREATED:20230227T160517Z
LAST-MODIFIED:20230227T160517Z
UID:10000267-1679680800-1679691600@amicirestaurant.org
SUMMARY:DNA
DESCRIPTION:DNA (Danny and Alexis) singing all your favorite songs from yesterday and today! From Dean Martin to Garth Brooks and Rosemary Clooney to Meghan Trainor. A great mix of genres for all tastes! \nhttps://instagram.com/dna_vocal_duo \nhttps://www.facebook.com/powervocalduo/  \n 
URL:https://amicirestaurant.org/event/dna-15/
LOCATION:Amici Restaurant\, 304 Rt 25A\, Mt Sinai\, NY\, 11766\, United States
ATTACH;FMTTYPE=image/jpeg:https://amicirestaurant.org/wp-content/uploads/2021/04/DNA-1.jpg
END:VEVENT
BEGIN:VEVENT
DTSTART;TZID=America/New_York:20230325T180000
DTEND;TZID=America/New_York:20230325T210000
DTSTAMP:20260420T125843
CREATED:20230227T160541Z
LAST-MODIFIED:20230227T160541Z
UID:10000269-1679767200-1679778000@amicirestaurant.org
SUMMARY:Vinnie & Linda\, The VinLin Show
DESCRIPTION:Linda – LuLu – and I doing a Duo \nLive Music in the lounge! \n631-473-2400\, please call for details
URL:https://amicirestaurant.org/event/vinnie-linda-the-vinlin-show-2/
LOCATION:Amici Restaurant\, 304 Rt 25A\, Mt Sinai\, NY\, 11766\, United States
ATTACH;FMTTYPE=image/jpeg:https://amicirestaurant.org/wp-content/uploads/2022/01/vinny_linda.jpg
END:VEVENT
BEGIN:VEVENT
DTSTART;TZID=America/New_York:20230330T183000
DTEND;TZID=America/New_York:20230330T203000
DTSTAMP:20260420T125843
CREATED:20221020T161224Z
LAST-MODIFIED:20240104T171846Z
UID:10000188-1680201000-1680208200@amicirestaurant.org
SUMMARY:Trivia Night!
DESCRIPTION:Join us for Trivia Night at Amici! \nStarting at 6:30 \nAppetizer specials
URL:https://amicirestaurant.org/event/trivia-night/2023-03-30/
LOCATION:Amici Restaurant\, 304 Rt 25A\, Mt Sinai\, NY\, 11766\, United States
ATTACH;FMTTYPE=image/jpeg:https://amicirestaurant.org/wp-content/uploads/2022/10/trivia-night.jpg
END:VEVENT
BEGIN:VEVENT
DTSTART;TZID=America/New_York:20230331T180000
DTEND;TZID=America/New_York:20230331T210000
DTSTAMP:20260420T125843
CREATED:20230227T160553Z
LAST-MODIFIED:20230227T160553Z
UID:10000270-1680285600-1680296400@amicirestaurant.org
SUMMARY:Chuck Evans Band
DESCRIPTION:Chuck Evans Band… in the words of one fan\, “it’s a bottomless barrel of musical ear candy”. Fans tell the band\, time and time again\, that they loved dancing\, stomping\, singing along to every song!! \nA great laundry list of songs\, new and old\, that patrons of all ages can enjoy!  Chuck Evans Band Electrifying “ One of a kind” With love. \nhttps://www.facebook.com/chuckevansband \nhttps://www.chuckevans.net \n631-473-2400\, please call for details
URL:https://amicirestaurant.org/event/chuck-evans-band-10/
LOCATION:Amici Restaurant\, 304 Rt 25A\, Mt Sinai\, NY\, 11766\, United States
ATTACH;FMTTYPE=image/jpeg:https://amicirestaurant.org/wp-content/uploads/2021/07/chuck_evans.jpg
END:VEVENT
END:VCALENDAR