BEGIN:VCALENDAR
VERSION:2.0
PRODID:-//Amici - ECPv6.14.0//NONSGML v1.0//EN
CALSCALE:GREGORIAN
METHOD:PUBLISH
X-ORIGINAL-URL:https://amicirestaurant.org
X-WR-CALDESC:Events for Amici
REFRESH-INTERVAL;VALUE=DURATION:PT1H
X-Robots-Tag:noindex
X-PUBLISHED-TTL:PT1H
BEGIN:VTIMEZONE
TZID:America/New_York
BEGIN:DAYLIGHT
TZOFFSETFROM:-0500
TZOFFSETTO:-0400
TZNAME:EDT
DTSTART:20230312T070000
END:DAYLIGHT
BEGIN:STANDARD
TZOFFSETFROM:-0400
TZOFFSETTO:-0500
TZNAME:EST
DTSTART:20231105T060000
END:STANDARD
END:VTIMEZONE
BEGIN:VEVENT
DTSTART;TZID=America/New_York:20230504T183000
DTEND;TZID=America/New_York:20230504T203000
DTSTAMP:20260420T035934
CREATED:20221020T161224Z
LAST-MODIFIED:20240104T171846Z
UID:10000193-1683225000-1683232200@amicirestaurant.org
SUMMARY:Trivia Night!
DESCRIPTION:Join us for Trivia Night at Amici! \nStarting at 6:30 \nAppetizer specials
URL:https://amicirestaurant.org/event/trivia-night/2023-05-04/
LOCATION:Amici Restaurant\, 304 Rt 25A\, Mt Sinai\, NY\, 11766\, United States
ATTACH;FMTTYPE=image/jpeg:https://amicirestaurant.org/wp-content/uploads/2022/10/trivia-night.jpg
END:VEVENT
BEGIN:VEVENT
DTSTART;TZID=America/New_York:20230505T080000
DTEND;TZID=America/New_York:20230505T170000
DTSTAMP:20260420T035934
CREATED:20230503T191527Z
LAST-MODIFIED:20230503T191527Z
UID:10000290-1683273600-1683306000@amicirestaurant.org
SUMMARY:Matt Bruno
DESCRIPTION:Matt plays a mix of Acoustic Classic Rock music from the 60’s to the 90’s and beyond – everything from Pearl Jam to Tom Petty to The Eagles.  Armed with a set list of 200+ songs\, Matt takes requests from the list all night and acts as a human jukebox! \n  \nhttps://www.instagram.com/mattbrunolive/ \nhttps://www.facebook.com/matthew.bruno.37 \n 
URL:https://amicirestaurant.org/event/matt-bruno-2/
LOCATION:Amici Restaurant\, 304 Rt 25A\, Mt Sinai\, NY\, 11766\, United States
ATTACH;FMTTYPE=image/jpeg:https://amicirestaurant.org/wp-content/uploads/2023/02/matt_bruno.jpg
END:VEVENT
BEGIN:VEVENT
DTSTART;TZID=America/New_York:20230506T180000
DTEND;TZID=America/New_York:20230506T210000
DTSTAMP:20260420T035934
CREATED:20230503T191519Z
LAST-MODIFIED:20230503T191519Z
UID:10000289-1683396000-1683406800@amicirestaurant.org
SUMMARY:Damaged Goods
DESCRIPTION:Come on down and get damaged with us! \nGreat food and drinks\, so come join us! \n631-473-2400\, please call for details
URL:https://amicirestaurant.org/event/damaged-goods-12/
LOCATION:Amici Restaurant\, 304 Rt 25A\, Mt Sinai\, NY\, 11766\, United States
ATTACH;FMTTYPE=image/jpeg:https://amicirestaurant.org/wp-content/uploads/2021/09/damaged_goods.jpg
END:VEVENT
BEGIN:VEVENT
DTSTART;TZID=America/New_York:20230511T183000
DTEND;TZID=America/New_York:20230511T203000
DTSTAMP:20260420T035934
CREATED:20221020T161224Z
LAST-MODIFIED:20240104T171846Z
UID:10000194-1683829800-1683837000@amicirestaurant.org
SUMMARY:Trivia Night!
DESCRIPTION:Join us for Trivia Night at Amici! \nStarting at 6:30 \nAppetizer specials
URL:https://amicirestaurant.org/event/trivia-night/2023-05-11/
LOCATION:Amici Restaurant\, 304 Rt 25A\, Mt Sinai\, NY\, 11766\, United States
ATTACH;FMTTYPE=image/jpeg:https://amicirestaurant.org/wp-content/uploads/2022/10/trivia-night.jpg
END:VEVENT
BEGIN:VEVENT
DTSTART;TZID=America/New_York:20230512T180000
DTEND;TZID=America/New_York:20230512T210000
DTSTAMP:20260420T035934
CREATED:20230503T191511Z
LAST-MODIFIED:20230503T191511Z
UID:10000288-1683914400-1683925200@amicirestaurant.org
SUMMARY:Vinnie & Linda\, The VinLin Show
DESCRIPTION:Linda – LuLu – and I doing a Duo \nLive Music in the lounge! \n631-473-2400\, please call for details
URL:https://amicirestaurant.org/event/vinnie-linda-the-vinlin-show-4/
LOCATION:Amici Restaurant\, 304 Rt 25A\, Mt Sinai\, NY\, 11766\, United States
ATTACH;FMTTYPE=image/jpeg:https://amicirestaurant.org/wp-content/uploads/2022/01/vinny_linda.jpg
END:VEVENT
BEGIN:VEVENT
DTSTART;TZID=America/New_York:20230513T180000
DTEND;TZID=America/New_York:20230513T210000
DTSTAMP:20260420T035934
CREATED:20230503T191456Z
LAST-MODIFIED:20230503T191456Z
UID:10000286-1684000800-1684011600@amicirestaurant.org
SUMMARY:DNA
DESCRIPTION:DNA (Danny and Alexis) singing all your favorite songs from yesterday and today! From Dean Martin to Garth Brooks and Rosemary Clooney to Meghan Trainor. A great mix of genres for all tastes! \nhttps://instagram.com/dna_vocal_duo \nhttps://www.facebook.com/powervocalduo/  \n 
URL:https://amicirestaurant.org/event/dna-18/
LOCATION:Amici Restaurant\, 304 Rt 25A\, Mt Sinai\, NY\, 11766\, United States
ATTACH;FMTTYPE=image/jpeg:https://amicirestaurant.org/wp-content/uploads/2021/04/DNA-1.jpg
END:VEVENT
BEGIN:VEVENT
DTSTART;TZID=America/New_York:20230518T183000
DTEND;TZID=America/New_York:20230518T203000
DTSTAMP:20260420T035934
CREATED:20221020T161224Z
LAST-MODIFIED:20240104T171846Z
UID:10000195-1684434600-1684441800@amicirestaurant.org
SUMMARY:Trivia Night!
DESCRIPTION:Join us for Trivia Night at Amici! \nStarting at 6:30 \nAppetizer specials
URL:https://amicirestaurant.org/event/trivia-night/2023-05-18/
LOCATION:Amici Restaurant\, 304 Rt 25A\, Mt Sinai\, NY\, 11766\, United States
ATTACH;FMTTYPE=image/jpeg:https://amicirestaurant.org/wp-content/uploads/2022/10/trivia-night.jpg
END:VEVENT
BEGIN:VEVENT
DTSTART;TZID=America/New_York:20230519T180000
DTEND;TZID=America/New_York:20230519T210000
DTSTAMP:20260420T035934
CREATED:20230503T191446Z
LAST-MODIFIED:20230503T191446Z
UID:10000285-1684519200-1684530000@amicirestaurant.org
SUMMARY:Steven Rodriguez
DESCRIPTION:Come see Steven Rodriguez perform live music from all decades! \n631-473-2400\, please call for details
URL:https://amicirestaurant.org/event/steven-rodriguez-11/
LOCATION:Amici Restaurant\, 304 Rt 25A\, Mt Sinai\, NY\, 11766\, United States
ATTACH;FMTTYPE=image/jpeg:https://amicirestaurant.org/wp-content/uploads/2021/09/steven_rodriguez.jpg
END:VEVENT
BEGIN:VEVENT
DTSTART;TZID=America/New_York:20230520T180000
DTEND;TZID=America/New_York:20230520T210000
DTSTAMP:20260420T035934
CREATED:20230503T191503Z
LAST-MODIFIED:20230503T191503Z
UID:10000287-1684605600-1684616400@amicirestaurant.org
SUMMARY:DNA
DESCRIPTION:DNA (Danny and Alexis) singing all your favorite songs from yesterday and today! From Dean Martin to Garth Brooks and Rosemary Clooney to Meghan Trainor. A great mix of genres for all tastes! \nhttps://instagram.com/dna_vocal_duo \nhttps://www.facebook.com/powervocalduo/  \n 
URL:https://amicirestaurant.org/event/dna-19/
LOCATION:Amici Restaurant\, 304 Rt 25A\, Mt Sinai\, NY\, 11766\, United States
ATTACH;FMTTYPE=image/jpeg:https://amicirestaurant.org/wp-content/uploads/2021/04/DNA-1.jpg
END:VEVENT
BEGIN:VEVENT
DTSTART;TZID=America/New_York:20230525T183000
DTEND;TZID=America/New_York:20230525T203000
DTSTAMP:20260420T035934
CREATED:20221020T161224Z
LAST-MODIFIED:20240104T171846Z
UID:10000196-1685039400-1685046600@amicirestaurant.org
SUMMARY:Trivia Night!
DESCRIPTION:Join us for Trivia Night at Amici! \nStarting at 6:30 \nAppetizer specials
URL:https://amicirestaurant.org/event/trivia-night/2023-05-25/
LOCATION:Amici Restaurant\, 304 Rt 25A\, Mt Sinai\, NY\, 11766\, United States
ATTACH;FMTTYPE=image/jpeg:https://amicirestaurant.org/wp-content/uploads/2022/10/trivia-night.jpg
END:VEVENT
BEGIN:VEVENT
DTSTART;TZID=America/New_York:20230526T180000
DTEND;TZID=America/New_York:20230526T210000
DTSTAMP:20260420T035934
CREATED:20230503T191537Z
LAST-MODIFIED:20230503T191537Z
UID:10000291-1685124000-1685134800@amicirestaurant.org
SUMMARY:Acoustic Soul
DESCRIPTION:Acoustic Soul consists of acclaimed lead vocalist Thomas Doscher and versatile guitarist Rob Wisotzky. \nTogether\, they have performed at some of the finest venues in Long Island including featured performances on the North Fork Winery circuit. Acoustic Soul specializes in classic rock but also has an extensive song list covering many genres. They are sure to provide an entertaining and lively evening! \n631-473-2400\, please call for details
URL:https://amicirestaurant.org/event/acoustic-soul-9/
LOCATION:Amici Restaurant\, 304 Rt 25A\, Mt Sinai\, NY\, 11766\, United States
ATTACH;FMTTYPE=image/jpeg:https://amicirestaurant.org/wp-content/uploads/2022/03/acoustic_soul.jpg
END:VEVENT
BEGIN:VEVENT
DTSTART;TZID=America/New_York:20230527T180000
DTEND;TZID=America/New_York:20230527T210000
DTSTAMP:20260420T035934
CREATED:20230503T191604Z
LAST-MODIFIED:20230503T191604Z
UID:10000292-1685210400-1685221200@amicirestaurant.org
SUMMARY:Live Music
DESCRIPTION:Join us for live music!
URL:https://amicirestaurant.org/event/live-music/
LOCATION:Amici Restaurant\, 304 Rt 25A\, Mt Sinai\, NY\, 11766\, United States
ATTACH;FMTTYPE=image/jpeg:https://amicirestaurant.org/wp-content/uploads/2021/09/amici_generic.jpg
END:VEVENT
END:VCALENDAR