BEGIN:VCALENDAR
VERSION:2.0
PRODID:-//Amici - ECPv6.14.0//NONSGML v1.0//EN
CALSCALE:GREGORIAN
METHOD:PUBLISH
X-ORIGINAL-URL:https://amicirestaurant.org
X-WR-CALDESC:Events for Amici
REFRESH-INTERVAL;VALUE=DURATION:PT1H
X-Robots-Tag:noindex
X-PUBLISHED-TTL:PT1H
BEGIN:VTIMEZONE
TZID:America/New_York
BEGIN:DAYLIGHT
TZOFFSETFROM:-0500
TZOFFSETTO:-0400
TZNAME:EDT
DTSTART:20230312T070000
END:DAYLIGHT
BEGIN:STANDARD
TZOFFSETFROM:-0400
TZOFFSETTO:-0500
TZNAME:EST
DTSTART:20231105T060000
END:STANDARD
END:VTIMEZONE
BEGIN:VEVENT
DTSTART;TZID=America/New_York:20231201T180000
DTEND;TZID=America/New_York:20231201T210000
DTSTAMP:20260419T154215
CREATED:20231121T161306Z
LAST-MODIFIED:20231121T161306Z
UID:10000359-1701453600-1701464400@amicirestaurant.org
SUMMARY:Steven Rodriguez
DESCRIPTION:Come see Steven Rodriguez perform live music from all decades! \n631-473-2400\, please call for details
URL:https://amicirestaurant.org/event/steven-rodriguez-15/
LOCATION:Amici Restaurant\, 304 Rt 25A\, Mt Sinai\, NY\, 11766\, United States
ATTACH;FMTTYPE=image/jpeg:https://amicirestaurant.org/wp-content/uploads/2021/09/steven_rodriguez.jpg
END:VEVENT
BEGIN:VEVENT
DTSTART;TZID=America/New_York:20231202T180000
DTEND;TZID=America/New_York:20231202T210000
DTSTAMP:20260419T154215
CREATED:20231121T161243Z
LAST-MODIFIED:20231121T161243Z
UID:10000356-1701540000-1701550800@amicirestaurant.org
SUMMARY:Solo Joe Boomer Band
DESCRIPTION:THE SOLO JOE “BOOMER BAND”! \nTons of Classic Rock\, Mellow Rock\, Outlaw Country\, Big Band\, Swing\, Grunge\, Dance…All the hits\, all the time! “Everything\, from Sinatra to Nirvana”\, 40’s through 2021! A diverse solo performer that sounds like a full band without any of the excessive volume issues that can sometimes destroy a performance in smaller venues. \nBoasting a state of the art sound system and a catalogue of over 1000 songs chosen from widely varying genres\, Solo Joe is a long time favorite at Country Clubs\, Casinos\, PAC’s\,  High end restaurants\, Corporate/Municipal events as well as many other types of live music venues in the Northeast\, across the USA and around the world. \nAs a veteran of the United States Army elite 82nd Airborne division\, Solo Joe has had the  privilege of having  toured internationally w/Navy Entertainment (Sigonella NAS 2\, Navy Base at Naples Italy\, Guantanamo Bay Cuba\, Abu Dhabi UAE). He’s entertained 1000’s of American armed service people around the globe for the past 30 years. \nHaving fulfilled  multiple contracts as lounge entertainment with various major cruise lines and casinos globally\, his act is highly polished\, personable and engaging. Always taking requests and playing dedications  he’s performed everything from “The Wheels On The Bus go ‘round and ‘round” for toddlers at family friendly events to “Born to be wild” and “This Life” at Sturgis bike week for cast members from  “Sons of Anarchy”. \nHearing his occasional between song banter and anecdotal humor\, it quickly becomes evident that he thoroughly enjoys his job as much as the audience enjoys his performance. \nSolo Joe has been a featured performer at Orlando FL Walt Disney World’s EPCOT Theme park on the American Garden Stage for 8 years in a row performing week-long runs with the “Sounds Like Summer” concert series. \nWhen you see a Solo Joe Show\, you’ll feel as though you’re sitting in your living room listening to the original artist performing some of your favorite tunes just the way you remember hearing them! \n631-473-2400\, please call for details
URL:https://amicirestaurant.org/event/solo-joe-boomer-band-10/
LOCATION:Amici Restaurant\, 304 Rt 25A\, Mt Sinai\, NY\, 11766\, United States
ATTACH;FMTTYPE=image/jpeg:https://amicirestaurant.org/wp-content/uploads/2021/10/solo_joe.jpg
END:VEVENT
BEGIN:VEVENT
DTSTART;TZID=America/New_York:20231207T183000
DTEND;TZID=America/New_York:20231207T203000
DTSTAMP:20260419T154215
CREATED:20221020T161224Z
LAST-MODIFIED:20240104T171846Z
UID:10000224-1701973800-1701981000@amicirestaurant.org
SUMMARY:Trivia Night!
DESCRIPTION:Join us for Trivia Night at Amici! \nStarting at 6:30 \nAppetizer specials
URL:https://amicirestaurant.org/event/trivia-night/2023-12-07/
LOCATION:Amici Restaurant\, 304 Rt 25A\, Mt Sinai\, NY\, 11766\, United States
ATTACH;FMTTYPE=image/jpeg:https://amicirestaurant.org/wp-content/uploads/2022/10/trivia-night.jpg
END:VEVENT
BEGIN:VEVENT
DTSTART;TZID=America/New_York:20231208T180000
DTEND;TZID=America/New_York:20231208T210000
DTSTAMP:20260419T154215
CREATED:20231121T161251Z
LAST-MODIFIED:20231121T161251Z
UID:10000357-1702058400-1702069200@amicirestaurant.org
SUMMARY:Acoustic Soul
DESCRIPTION:Acoustic Soul consists of acclaimed lead vocalist Thomas Doscher and versatile guitarist Rob Wisotzky. \nTogether\, they have performed at some of the finest venues in Long Island including featured performances on the North Fork Winery circuit. Acoustic Soul specializes in classic rock but also has an extensive song list covering many genres. They are sure to provide an entertaining and lively evening! \n631-473-2400\, please call for details
URL:https://amicirestaurant.org/event/acoustic-soul-11/
LOCATION:Amici Restaurant\, 304 Rt 25A\, Mt Sinai\, NY\, 11766\, United States
ATTACH;FMTTYPE=image/jpeg:https://amicirestaurant.org/wp-content/uploads/2022/03/acoustic_soul.jpg
END:VEVENT
BEGIN:VEVENT
DTSTART;TZID=America/New_York:20231209T180000
DTEND;TZID=America/New_York:20231209T210000
DTSTAMP:20260419T154215
CREATED:20231121T161219Z
LAST-MODIFIED:20231121T161219Z
UID:10000354-1702144800-1702155600@amicirestaurant.org
SUMMARY:Toni Ann's Soul Sessions
DESCRIPTION:I am so excited to make my debut at Amici! I specialize in performing well know songs from yesterday and today\, guaranteeing ALL will feel moved….from your head to your soul! You will hear everything from Patsy Cline to Stevie Nicks to Melissa Etheridge and so much more! \n631-473-2400\, please call for details
URL:https://amicirestaurant.org/event/toni-anns-soul-sessions-9/
LOCATION:Amici Restaurant\, 304 Rt 25A\, Mt Sinai\, NY\, 11766\, United States
ATTACH;FMTTYPE=image/jpeg:https://amicirestaurant.org/wp-content/uploads/2023/01/toni_ann.jpg
END:VEVENT
BEGIN:VEVENT
DTSTART;TZID=America/New_York:20231214T183000
DTEND;TZID=America/New_York:20231214T203000
DTSTAMP:20260419T154215
CREATED:20221020T161224Z
LAST-MODIFIED:20240104T171846Z
UID:10000225-1702578600-1702585800@amicirestaurant.org
SUMMARY:Trivia Night!
DESCRIPTION:Join us for Trivia Night at Amici! \nStarting at 6:30 \nAppetizer specials
URL:https://amicirestaurant.org/event/trivia-night/2023-12-14/
LOCATION:Amici Restaurant\, 304 Rt 25A\, Mt Sinai\, NY\, 11766\, United States
ATTACH;FMTTYPE=image/jpeg:https://amicirestaurant.org/wp-content/uploads/2022/10/trivia-night.jpg
END:VEVENT
BEGIN:VEVENT
DTSTART;TZID=America/New_York:20231215T180000
DTEND;TZID=America/New_York:20231215T210000
DTSTAMP:20260419T154215
CREATED:20231121T161234Z
LAST-MODIFIED:20231121T161234Z
UID:10000355-1702663200-1702674000@amicirestaurant.org
SUMMARY:Vinnie & Linda\, The VinLin Show
DESCRIPTION:Linda – LuLu – and I doing a Duo \nLive Music in the lounge! \n631-473-2400\, please call for details
URL:https://amicirestaurant.org/event/vinnie-linda-the-vinlin-show-6/
LOCATION:Amici Restaurant\, 304 Rt 25A\, Mt Sinai\, NY\, 11766\, United States
ATTACH;FMTTYPE=image/jpeg:https://amicirestaurant.org/wp-content/uploads/2022/01/vinny_linda.jpg
END:VEVENT
BEGIN:VEVENT
DTSTART;TZID=America/New_York:20231216T180000
DTEND;TZID=America/New_York:20231216T210000
DTSTAMP:20260419T154215
CREATED:20231121T161203Z
LAST-MODIFIED:20231121T161203Z
UID:10000352-1702749600-1702760400@amicirestaurant.org
SUMMARY:DNA
DESCRIPTION:DNA (Danny and Alexis) singing all your favorite songs from yesterday and today! From Dean Martin to Garth Brooks and Rosemary Clooney to Meghan Trainor. A great mix of genres for all tastes! \nhttps://instagram.com/dna_vocal_duo \nhttps://www.facebook.com/powervocalduo/  \n 
URL:https://amicirestaurant.org/event/dna-33/
LOCATION:Amici Restaurant\, 304 Rt 25A\, Mt Sinai\, NY\, 11766\, United States
ATTACH;FMTTYPE=image/jpeg:https://amicirestaurant.org/wp-content/uploads/2021/04/DNA-1.jpg
END:VEVENT
BEGIN:VEVENT
DTSTART;TZID=America/New_York:20231221T183000
DTEND;TZID=America/New_York:20231221T203000
DTSTAMP:20260419T154215
CREATED:20221020T161224Z
LAST-MODIFIED:20240104T171846Z
UID:10000226-1703183400-1703190600@amicirestaurant.org
SUMMARY:Trivia Night!
DESCRIPTION:Join us for Trivia Night at Amici! \nStarting at 6:30 \nAppetizer specials
URL:https://amicirestaurant.org/event/trivia-night/2023-12-21/
LOCATION:Amici Restaurant\, 304 Rt 25A\, Mt Sinai\, NY\, 11766\, United States
ATTACH;FMTTYPE=image/jpeg:https://amicirestaurant.org/wp-content/uploads/2022/10/trivia-night.jpg
END:VEVENT
BEGIN:VEVENT
DTSTART;TZID=America/New_York:20231222T180000
DTEND;TZID=America/New_York:20231222T210000
DTSTAMP:20260419T154215
CREATED:20231121T161258Z
LAST-MODIFIED:20231121T161258Z
UID:10000358-1703268000-1703278800@amicirestaurant.org
SUMMARY:Damaged Goods
DESCRIPTION:Come on down and get damaged with us! \nGreat food and drinks\, so come join us! \n631-473-2400\, please call for details
URL:https://amicirestaurant.org/event/damaged-goods-17/
LOCATION:Amici Restaurant\, 304 Rt 25A\, Mt Sinai\, NY\, 11766\, United States
ATTACH;FMTTYPE=image/jpeg:https://amicirestaurant.org/wp-content/uploads/2021/09/damaged_goods.jpg
END:VEVENT
BEGIN:VEVENT
DTSTART;TZID=America/New_York:20231223T180000
DTEND;TZID=America/New_York:20231223T210000
DTSTAMP:20260419T154215
CREATED:20231121T161145Z
LAST-MODIFIED:20231121T161145Z
UID:10000350-1703354400-1703365200@amicirestaurant.org
SUMMARY:Carolyn Benson in the Bar!
DESCRIPTION:Carolyn Benson\, a versatile songstress\, dazzles audiences with her dynamic renditions of Broadway classics\, nostalgic hits from the 60s\, 70s\, and 80s\, and electrifying disco covers. As the frontwoman of a celebrated Linda Ronstadt tribute band\, Carolyn’s captivating performances breathe new life into timeless tunes\, ensuring a memorable experience for music lovers of all ages \nhttps://www.facebook.com/CarolynBensonOfficial \nhttps://carolynbenson.us
URL:https://amicirestaurant.org/event/carolyn-benson-in-the-bar-4/
LOCATION:Amici Restaurant\, 304 Rt 25A\, Mt Sinai\, NY\, 11766\, United States
ATTACH;FMTTYPE=image/jpeg:https://amicirestaurant.org/wp-content/uploads/2023/11/carolyn_benson.jpg
END:VEVENT
BEGIN:VEVENT
DTSTART;TZID=America/New_York:20231228T183000
DTEND;TZID=America/New_York:20231228T203000
DTSTAMP:20260419T154215
CREATED:20221020T161224Z
LAST-MODIFIED:20240104T171846Z
UID:10000227-1703788200-1703795400@amicirestaurant.org
SUMMARY:Trivia Night!
DESCRIPTION:Join us for Trivia Night at Amici! \nStarting at 6:30 \nAppetizer specials
URL:https://amicirestaurant.org/event/trivia-night/2023-12-28/
LOCATION:Amici Restaurant\, 304 Rt 25A\, Mt Sinai\, NY\, 11766\, United States
ATTACH;FMTTYPE=image/jpeg:https://amicirestaurant.org/wp-content/uploads/2022/10/trivia-night.jpg
END:VEVENT
BEGIN:VEVENT
DTSTART;TZID=America/New_York:20231229T180000
DTEND;TZID=America/New_York:20231229T210000
DTSTAMP:20260419T154215
CREATED:20231121T161155Z
LAST-MODIFIED:20231121T161155Z
UID:10000351-1703872800-1703883600@amicirestaurant.org
SUMMARY:Vinny and Lexi
DESCRIPTION:Vinny and Lexi are two new\, aspiring musicians who play a variety of music including pop\, soft rock\, country\, and more. They have played at various venues and are looking forward to performing again showcasing their talent and love for music. You certainly won’t be disappointed listening to the music of this amazing duo \n631-473-2400\, please call for details
URL:https://amicirestaurant.org/event/vinny-and-lexi-8/
LOCATION:Amici Restaurant\, 304 Rt 25A\, Mt Sinai\, NY\, 11766\, United States
ATTACH;FMTTYPE=image/jpeg:https://amicirestaurant.org/wp-content/uploads/2023/10/lexi_vinny2.jpg
END:VEVENT
BEGIN:VEVENT
DTSTART;TZID=America/New_York:20231230T180000
DTEND;TZID=America/New_York:20231230T210000
DTSTAMP:20260419T154215
CREATED:20231121T161211Z
LAST-MODIFIED:20231121T161211Z
UID:10000353-1703959200-1703970000@amicirestaurant.org
SUMMARY:DNA
DESCRIPTION:DNA (Danny and Alexis) singing all your favorite songs from yesterday and today! From Dean Martin to Garth Brooks and Rosemary Clooney to Meghan Trainor. A great mix of genres for all tastes! \nhttps://instagram.com/dna_vocal_duo \nhttps://www.facebook.com/powervocalduo/  \n 
URL:https://amicirestaurant.org/event/dna-34/
LOCATION:Amici Restaurant\, 304 Rt 25A\, Mt Sinai\, NY\, 11766\, United States
ATTACH;FMTTYPE=image/jpeg:https://amicirestaurant.org/wp-content/uploads/2021/04/DNA-1.jpg
END:VEVENT
END:VCALENDAR