BEGIN:VCALENDAR
VERSION:2.0
PRODID:-//Amici - ECPv6.14.0//NONSGML v1.0//EN
CALSCALE:GREGORIAN
METHOD:PUBLISH
X-ORIGINAL-URL:https://amicirestaurant.org
X-WR-CALDESC:Events for Amici
REFRESH-INTERVAL;VALUE=DURATION:PT1H
X-Robots-Tag:noindex
X-PUBLISHED-TTL:PT1H
BEGIN:VTIMEZONE
TZID:America/New_York
BEGIN:DAYLIGHT
TZOFFSETFROM:-0500
TZOFFSETTO:-0400
TZNAME:EDT
DTSTART:20240310T070000
END:DAYLIGHT
BEGIN:STANDARD
TZOFFSETFROM:-0400
TZOFFSETTO:-0500
TZNAME:EST
DTSTART:20241103T060000
END:STANDARD
END:VTIMEZONE
BEGIN:VEVENT
DTSTART;TZID=America/New_York:20241003T183000
DTEND;TZID=America/New_York:20241003T203000
DTSTAMP:20260420T143644
CREATED:20221020T161224Z
LAST-MODIFIED:20240104T171846Z
UID:10000399-1727980200-1727987400@amicirestaurant.org
SUMMARY:Trivia Night!
DESCRIPTION:Join us for Trivia Night at Amici! \nStarting at 6:30 \nAppetizer specials
URL:https://amicirestaurant.org/event/trivia-night/2024-10-03/
LOCATION:Amici Restaurant\, 304 Rt 25A\, Mt Sinai\, NY\, 11766\, United States
ATTACH;FMTTYPE=image/jpeg:https://amicirestaurant.org/wp-content/uploads/2022/10/trivia-night.jpg
END:VEVENT
BEGIN:VEVENT
DTSTART;TZID=America/New_York:20241004T180000
DTEND;TZID=America/New_York:20241004T210000
DTSTAMP:20260420T143644
CREATED:20241001T162117Z
LAST-MODIFIED:20241001T162117Z
UID:10000610-1728064800-1728075600@amicirestaurant.org
SUMMARY:Vinny and Lexi
DESCRIPTION:Vinny and Lexi are two new\, aspiring musicians who play a variety of music including pop\, soft rock\, country\, and more. They have played at various venues and are looking forward to performing again showcasing their talent and love for music. You certainly won’t be disappointed listening to the music of this amazing duo \n631-473-2400\, please call for details
URL:https://amicirestaurant.org/event/vinny-and-lexi-16/
LOCATION:Amici Restaurant\, 304 Rt 25A\, Mt Sinai\, NY\, 11766\, United States
ATTACH;FMTTYPE=image/jpeg:https://amicirestaurant.org/wp-content/uploads/2023/10/lexi_vinny2.jpg
END:VEVENT
BEGIN:VEVENT
DTSTART;TZID=America/New_York:20241005T180000
DTEND;TZID=America/New_York:20241005T213000
DTSTAMP:20260420T143644
CREATED:20240910T132040Z
LAST-MODIFIED:20240911T032048Z
UID:10000608-1728151200-1728163800@amicirestaurant.org
SUMMARY:The Chain - A Fleetwood Mac Experience
DESCRIPTION:Come on down to hear the very best of Fleetwood Mac and Stevie Nicks \nFacebook Page \nwww.facebook.com/thechainlongisland \nWebsite \nthechainlongisland.wordpress.com \n631-473-2400\, please call for details
URL:https://amicirestaurant.org/event/the-chain-a-fleetwood-mac-experience-3/
LOCATION:Amici Restaurant\, 304 Rt 25A\, Mt Sinai\, NY\, 11766\, United States
ATTACH;FMTTYPE=image/jpeg:https://amicirestaurant.org/wp-content/uploads/2024/09/the_chain2.jpg
END:VEVENT
BEGIN:VEVENT
DTSTART;TZID=America/New_York:20241010T183000
DTEND;TZID=America/New_York:20241010T203000
DTSTAMP:20260420T143644
CREATED:20221020T161224Z
LAST-MODIFIED:20240104T171846Z
UID:10000400-1728585000-1728592200@amicirestaurant.org
SUMMARY:Trivia Night!
DESCRIPTION:Join us for Trivia Night at Amici! \nStarting at 6:30 \nAppetizer specials
URL:https://amicirestaurant.org/event/trivia-night/2024-10-10/
LOCATION:Amici Restaurant\, 304 Rt 25A\, Mt Sinai\, NY\, 11766\, United States
ATTACH;FMTTYPE=image/jpeg:https://amicirestaurant.org/wp-content/uploads/2022/10/trivia-night.jpg
END:VEVENT
BEGIN:VEVENT
DTSTART;TZID=America/New_York:20241011T180000
DTEND;TZID=America/New_York:20241011T210000
DTSTAMP:20260420T143644
CREATED:20241001T162343Z
LAST-MODIFIED:20241001T162343Z
UID:10000616-1728669600-1728680400@amicirestaurant.org
SUMMARY:Original Copy
DESCRIPTION:Dynamic Duo covering all your favorite “feel good” songs!!! \n  \nFacebook:https://www.facebook.com/originalcopyduo \n 
URL:https://amicirestaurant.org/event/original-copy/
LOCATION:Amici Restaurant\, 304 Rt 25A\, Mt Sinai\, NY\, 11766\, United States
ATTACH;FMTTYPE=image/jpeg:https://amicirestaurant.org/wp-content/uploads/2024/10/original-copy.jpg
END:VEVENT
BEGIN:VEVENT
DTSTART;TZID=America/New_York:20241012T180000
DTEND;TZID=America/New_York:20241012T210000
DTSTAMP:20260420T143644
CREATED:20241001T162122Z
LAST-MODIFIED:20241001T162122Z
UID:10000611-1728756000-1728766800@amicirestaurant.org
SUMMARY:DNA
DESCRIPTION:DNA (Danny and Alexis) singing all your favorite songs from yesterday and today! From Dean Martin to Garth Brooks and Rosemary Clooney to Meghan Trainor. A great mix of genres for all tastes! \nhttps://instagram.com/dna_vocal_duo \nhttps://www.facebook.com/powervocalduo/  \n 
URL:https://amicirestaurant.org/event/dna-53/
LOCATION:Amici Restaurant\, 304 Rt 25A\, Mt Sinai\, NY\, 11766\, United States
ATTACH;FMTTYPE=image/jpeg:https://amicirestaurant.org/wp-content/uploads/2021/04/DNA-1.jpg
END:VEVENT
BEGIN:VEVENT
DTSTART;TZID=America/New_York:20241017T183000
DTEND;TZID=America/New_York:20241017T203000
DTSTAMP:20260420T143644
CREATED:20221020T161224Z
LAST-MODIFIED:20240104T171846Z
UID:10000401-1729189800-1729197000@amicirestaurant.org
SUMMARY:Trivia Night!
DESCRIPTION:Join us for Trivia Night at Amici! \nStarting at 6:30 \nAppetizer specials
URL:https://amicirestaurant.org/event/trivia-night/2024-10-17/
LOCATION:Amici Restaurant\, 304 Rt 25A\, Mt Sinai\, NY\, 11766\, United States
ATTACH;FMTTYPE=image/jpeg:https://amicirestaurant.org/wp-content/uploads/2022/10/trivia-night.jpg
END:VEVENT
BEGIN:VEVENT
DTSTART;TZID=America/New_York:20241018T180000
DTEND;TZID=America/New_York:20241018T210000
DTSTAMP:20260420T143644
CREATED:20241018T132557Z
LAST-MODIFIED:20241018T132557Z
UID:10000617-1729274400-1729285200@amicirestaurant.org
SUMMARY:Vinnie & Linda\, The VinLin Show
DESCRIPTION:Linda – LuLu – and I doing a Duo \nLive Music in the lounge! \n631-473-2400\, please call for details
URL:https://amicirestaurant.org/event/vinnie-linda-the-vinlin-show-15/
LOCATION:Amici Restaurant\, 304 Rt 25A\, Mt Sinai\, NY\, 11766\, United States
ATTACH;FMTTYPE=image/jpeg:https://amicirestaurant.org/wp-content/uploads/2022/01/vinny_linda.jpg
END:VEVENT
BEGIN:VEVENT
DTSTART;TZID=America/New_York:20241019T180000
DTEND;TZID=America/New_York:20241019T210000
DTSTAMP:20260420T143644
CREATED:20241001T162144Z
LAST-MODIFIED:20241001T162144Z
UID:10000614-1729360800-1729371600@amicirestaurant.org
SUMMARY:Emy McB
DESCRIPTION:Emy McB plays an acoustic set of recognizable covers from all genres & generations with her own folky\, mellow twist. \nhttps://www.facebook.com/emy.mcb/ \n  \n  \n631-473-2400\, please call for details
URL:https://amicirestaurant.org/event/emy-mcb-2/
LOCATION:Amici Restaurant\, 304 Rt 25A\, Mt Sinai\, NY\, 11766\, United States
ATTACH;FMTTYPE=image/jpeg:https://amicirestaurant.org/wp-content/uploads/2024/08/emy-mcb.jpg
END:VEVENT
BEGIN:VEVENT
DTSTART;TZID=America/New_York:20241024T183000
DTEND;TZID=America/New_York:20241024T203000
DTSTAMP:20260420T143644
CREATED:20221020T161224Z
LAST-MODIFIED:20240104T171846Z
UID:10000402-1729794600-1729801800@amicirestaurant.org
SUMMARY:Trivia Night!
DESCRIPTION:Join us for Trivia Night at Amici! \nStarting at 6:30 \nAppetizer specials
URL:https://amicirestaurant.org/event/trivia-night/2024-10-24/
LOCATION:Amici Restaurant\, 304 Rt 25A\, Mt Sinai\, NY\, 11766\, United States
ATTACH;FMTTYPE=image/jpeg:https://amicirestaurant.org/wp-content/uploads/2022/10/trivia-night.jpg
END:VEVENT
BEGIN:VEVENT
DTSTART;TZID=America/New_York:20241025T180000
DTEND;TZID=America/New_York:20241025T210000
DTSTAMP:20260420T143644
CREATED:20241001T162137Z
LAST-MODIFIED:20241001T162137Z
UID:10000613-1729879200-1729890000@amicirestaurant.org
SUMMARY:MTM Acoustic
DESCRIPTION:Featuring your favorite trio MTM Acoustic \nLive music by MTM acoustic \n  \nhttps://instagram.com/mtmacoustic
URL:https://amicirestaurant.org/event/mtm-acoustic-7/
LOCATION:Amici Restaurant\, 304 Rt 25A\, Mt Sinai\, NY\, 11766\, United States
ATTACH;FMTTYPE=image/jpeg:https://amicirestaurant.org/wp-content/uploads/2023/08/MTM.jpg
END:VEVENT
BEGIN:VEVENT
DTSTART;TZID=America/New_York:20241026T180000
DTEND;TZID=America/New_York:20241026T210000
DTSTAMP:20260420T143644
CREATED:20241001T162127Z
LAST-MODIFIED:20241001T162127Z
UID:10000612-1729965600-1729976400@amicirestaurant.org
SUMMARY:DNA
DESCRIPTION:DNA (Danny and Alexis) singing all your favorite songs from yesterday and today! From Dean Martin to Garth Brooks and Rosemary Clooney to Meghan Trainor. A great mix of genres for all tastes! \nhttps://instagram.com/dna_vocal_duo \nhttps://www.facebook.com/powervocalduo/  \n 
URL:https://amicirestaurant.org/event/dna-54/
LOCATION:Amici Restaurant\, 304 Rt 25A\, Mt Sinai\, NY\, 11766\, United States
ATTACH;FMTTYPE=image/jpeg:https://amicirestaurant.org/wp-content/uploads/2021/04/DNA-1.jpg
END:VEVENT
BEGIN:VEVENT
DTSTART;TZID=America/New_York:20241031T183000
DTEND;TZID=America/New_York:20241031T203000
DTSTAMP:20260420T143644
CREATED:20221020T161224Z
LAST-MODIFIED:20240104T171846Z
UID:10000403-1730399400-1730406600@amicirestaurant.org
SUMMARY:Trivia Night!
DESCRIPTION:Join us for Trivia Night at Amici! \nStarting at 6:30 \nAppetizer specials
URL:https://amicirestaurant.org/event/trivia-night/2024-10-31/
LOCATION:Amici Restaurant\, 304 Rt 25A\, Mt Sinai\, NY\, 11766\, United States
ATTACH;FMTTYPE=image/jpeg:https://amicirestaurant.org/wp-content/uploads/2022/10/trivia-night.jpg
END:VEVENT
END:VCALENDAR