BEGIN:VCALENDAR
VERSION:2.0
PRODID:-//Amici - ECPv6.14.0//NONSGML v1.0//EN
CALSCALE:GREGORIAN
METHOD:PUBLISH
X-ORIGINAL-URL:https://amicirestaurant.org
X-WR-CALDESC:Events for Amici
REFRESH-INTERVAL;VALUE=DURATION:PT1H
X-Robots-Tag:noindex
X-PUBLISHED-TTL:PT1H
BEGIN:VTIMEZONE
TZID:America/New_York
BEGIN:DAYLIGHT
TZOFFSETFROM:-0500
TZOFFSETTO:-0400
TZNAME:EDT
DTSTART:20240310T070000
END:DAYLIGHT
BEGIN:STANDARD
TZOFFSETFROM:-0400
TZOFFSETTO:-0500
TZNAME:EST
DTSTART:20241103T060000
END:STANDARD
END:VTIMEZONE
BEGIN:VEVENT
DTSTART;TZID=America/New_York:20241205T183000
DTEND;TZID=America/New_York:20241205T203000
DTSTAMP:20260420T205652
CREATED:20221020T161224Z
LAST-MODIFIED:20240104T171846Z
UID:10000408-1733423400-1733430600@amicirestaurant.org
SUMMARY:Trivia Night!
DESCRIPTION:Join us for Trivia Night at Amici! \nStarting at 6:30 \nAppetizer specials
URL:https://amicirestaurant.org/event/trivia-night/2024-12-05/
LOCATION:Amici Restaurant\, 304 Rt 25A\, Mt Sinai\, NY\, 11766\, United States
ATTACH;FMTTYPE=image/jpeg:https://amicirestaurant.org/wp-content/uploads/2022/10/trivia-night.jpg
END:VEVENT
BEGIN:VEVENT
DTSTART;TZID=America/New_York:20241206T180000
DTEND;TZID=America/New_York:20241206T210000
DTSTAMP:20260420T205652
CREATED:20241204T180313Z
LAST-MODIFIED:20241204T180313Z
UID:10000629-1733508000-1733518800@amicirestaurant.org
SUMMARY:DNA
DESCRIPTION:DNA (Danny and Alexis) singing all your favorite songs from yesterday and today! From Dean Martin to Garth Brooks and Rosemary Clooney to Meghan Trainor. A great mix of genres for all tastes! \nhttps://instagram.com/dna_vocal_duo \nhttps://www.facebook.com/powervocalduo/  \n 
URL:https://amicirestaurant.org/event/dna-57/
LOCATION:Amici Restaurant\, 304 Rt 25A\, Mt Sinai\, NY\, 11766\, United States
ATTACH;FMTTYPE=image/jpeg:https://amicirestaurant.org/wp-content/uploads/2021/04/DNA-1.jpg
END:VEVENT
BEGIN:VEVENT
DTSTART;TZID=America/New_York:20241207T180000
DTEND;TZID=America/New_York:20241207T210000
DTSTAMP:20260420T205652
CREATED:20241204T180347Z
LAST-MODIFIED:20241204T180347Z
UID:10000632-1733594400-1733605200@amicirestaurant.org
SUMMARY:Vinny and Lexi
DESCRIPTION:Vinny and Lexi are two new\, aspiring musicians who play a variety of music including pop\, soft rock\, country\, and more. They have played at various venues and are looking forward to performing again showcasing their talent and love for music. You certainly won’t be disappointed listening to the music of this amazing duo \n631-473-2400\, please call for details
URL:https://amicirestaurant.org/event/vinny-and-lexi-18/
LOCATION:Amici Restaurant\, 304 Rt 25A\, Mt Sinai\, NY\, 11766\, United States
ATTACH;FMTTYPE=image/jpeg:https://amicirestaurant.org/wp-content/uploads/2023/10/lexi_vinny2.jpg
END:VEVENT
BEGIN:VEVENT
DTSTART;TZID=America/New_York:20241212T183000
DTEND;TZID=America/New_York:20241212T203000
DTSTAMP:20260420T205652
CREATED:20221020T161224Z
LAST-MODIFIED:20240104T171846Z
UID:10000409-1734028200-1734035400@amicirestaurant.org
SUMMARY:Trivia Night!
DESCRIPTION:Join us for Trivia Night at Amici! \nStarting at 6:30 \nAppetizer specials
URL:https://amicirestaurant.org/event/trivia-night/2024-12-12/
LOCATION:Amici Restaurant\, 304 Rt 25A\, Mt Sinai\, NY\, 11766\, United States
ATTACH;FMTTYPE=image/jpeg:https://amicirestaurant.org/wp-content/uploads/2022/10/trivia-night.jpg
END:VEVENT
BEGIN:VEVENT
DTSTART;TZID=America/New_York:20241213T180000
DTEND;TZID=America/New_York:20241213T210000
DTSTAMP:20260420T205652
CREATED:20241204T180305Z
LAST-MODIFIED:20241204T180305Z
UID:10000628-1734112800-1734123600@amicirestaurant.org
SUMMARY:Solo Joe Boomer Band
DESCRIPTION:THE SOLO JOE “BOOMER BAND”! \nTons of Classic Rock\, Mellow Rock\, Outlaw Country\, Big Band\, Swing\, Grunge\, Dance…All the hits\, all the time! “Everything\, from Sinatra to Nirvana”\, 40’s through 2021! A diverse solo performer that sounds like a full band without any of the excessive volume issues that can sometimes destroy a performance in smaller venues. \nBoasting a state of the art sound system and a catalogue of over 1000 songs chosen from widely varying genres\, Solo Joe is a long time favorite at Country Clubs\, Casinos\, PAC’s\,  High end restaurants\, Corporate/Municipal events as well as many other types of live music venues in the Northeast\, across the USA and around the world. \nAs a veteran of the United States Army elite 82nd Airborne division\, Solo Joe has had the  privilege of having  toured internationally w/Navy Entertainment (Sigonella NAS 2\, Navy Base at Naples Italy\, Guantanamo Bay Cuba\, Abu Dhabi UAE). He’s entertained 1000’s of American armed service people around the globe for the past 30 years. \nHaving fulfilled  multiple contracts as lounge entertainment with various major cruise lines and casinos globally\, his act is highly polished\, personable and engaging. Always taking requests and playing dedications  he’s performed everything from “The Wheels On The Bus go ‘round and ‘round” for toddlers at family friendly events to “Born to be wild” and “This Life” at Sturgis bike week for cast members from  “Sons of Anarchy”. \nHearing his occasional between song banter and anecdotal humor\, it quickly becomes evident that he thoroughly enjoys his job as much as the audience enjoys his performance. \nSolo Joe has been a featured performer at Orlando FL Walt Disney World’s EPCOT Theme park on the American Garden Stage for 8 years in a row performing week-long runs with the “Sounds Like Summer” concert series. \nWhen you see a Solo Joe Show\, you’ll feel as though you’re sitting in your living room listening to the original artist performing some of your favorite tunes just the way you remember hearing them! \n631-473-2400\, please call for details
URL:https://amicirestaurant.org/event/solo-joe-boomer-band-14/
LOCATION:Amici Restaurant\, 304 Rt 25A\, Mt Sinai\, NY\, 11766\, United States
ATTACH;FMTTYPE=image/jpeg:https://amicirestaurant.org/wp-content/uploads/2021/10/solo_joe.jpg
END:VEVENT
BEGIN:VEVENT
DTSTART;TZID=America/New_York:20241214T180000
DTEND;TZID=America/New_York:20241214T220000
DTSTAMP:20260420T205652
CREATED:20241204T180340Z
LAST-MODIFIED:20241204T180340Z
UID:10000631-1734199200-1734213600@amicirestaurant.org
SUMMARY:Cactus & the Kia
DESCRIPTION:We are not your typical duo. We offer a wireless and interactive experience for our audience\, and our music selection is sure to take you back in time to different moments of your life. Our genres consist of indie\, folk\, classic rock\, country\, 80’s etc\, and our instruments include two vocals\, acoustic guitar\, electric violin\, harmonica\, various ukuleles\, and some light percussion. We are truly passionate about what we do and we love to play music that makes people feel different emotions. Come enjoy our unique show! \n\n\nwww.instagram.com/cactusandthekia \n\n631-473-2400\, please call for details
URL:https://amicirestaurant.org/event/cactus-the-kia-2/
LOCATION:Amici Restaurant\, 304 Rt 25A\, Mt Sinai\, NY\, 11766\, United States
ATTACH;FMTTYPE=image/jpeg:https://amicirestaurant.org/wp-content/uploads/2024/07/catus-kia.jpg
END:VEVENT
BEGIN:VEVENT
DTSTART;TZID=America/New_York:20241219T183000
DTEND;TZID=America/New_York:20241219T203000
DTSTAMP:20260420T205652
CREATED:20221020T161224Z
LAST-MODIFIED:20240104T171846Z
UID:10000410-1734633000-1734640200@amicirestaurant.org
SUMMARY:Trivia Night!
DESCRIPTION:Join us for Trivia Night at Amici! \nStarting at 6:30 \nAppetizer specials
URL:https://amicirestaurant.org/event/trivia-night/2024-12-19/
LOCATION:Amici Restaurant\, 304 Rt 25A\, Mt Sinai\, NY\, 11766\, United States
ATTACH;FMTTYPE=image/jpeg:https://amicirestaurant.org/wp-content/uploads/2022/10/trivia-night.jpg
END:VEVENT
BEGIN:VEVENT
DTSTART;TZID=America/New_York:20241220T180000
DTEND;TZID=America/New_York:20241220T210000
DTSTAMP:20260420T205652
CREATED:20241204T180401Z
LAST-MODIFIED:20241204T180401Z
UID:10000634-1734717600-1734728400@amicirestaurant.org
SUMMARY:MTM Acoustic
DESCRIPTION:Featuring your favorite trio MTM Acoustic \nLive music by MTM acoustic \n  \nhttps://instagram.com/mtmacoustic
URL:https://amicirestaurant.org/event/mtm-acoustic-8/
LOCATION:Amici Restaurant\, 304 Rt 25A\, Mt Sinai\, NY\, 11766\, United States
ATTACH;FMTTYPE=image/jpeg:https://amicirestaurant.org/wp-content/uploads/2023/08/MTM.jpg
END:VEVENT
BEGIN:VEVENT
DTSTART;TZID=America/New_York:20241221T180000
DTEND;TZID=America/New_York:20241221T210000
DTSTAMP:20260420T205652
CREATED:20241204T180332Z
LAST-MODIFIED:20241204T180332Z
UID:10000630-1734804000-1734814800@amicirestaurant.org
SUMMARY:DNA
DESCRIPTION:DNA (Danny and Alexis) singing all your favorite songs from yesterday and today! From Dean Martin to Garth Brooks and Rosemary Clooney to Meghan Trainor. A great mix of genres for all tastes! \nhttps://instagram.com/dna_vocal_duo \nhttps://www.facebook.com/powervocalduo/  \n 
URL:https://amicirestaurant.org/event/dna-58/
LOCATION:Amici Restaurant\, 304 Rt 25A\, Mt Sinai\, NY\, 11766\, United States
ATTACH;FMTTYPE=image/jpeg:https://amicirestaurant.org/wp-content/uploads/2021/04/DNA-1.jpg
END:VEVENT
BEGIN:VEVENT
DTSTART;TZID=America/New_York:20241226T183000
DTEND;TZID=America/New_York:20241226T203000
DTSTAMP:20260420T205652
CREATED:20221020T161224Z
LAST-MODIFIED:20240104T171846Z
UID:10000411-1735237800-1735245000@amicirestaurant.org
SUMMARY:Trivia Night!
DESCRIPTION:Join us for Trivia Night at Amici! \nStarting at 6:30 \nAppetizer specials
URL:https://amicirestaurant.org/event/trivia-night/2024-12-26/
LOCATION:Amici Restaurant\, 304 Rt 25A\, Mt Sinai\, NY\, 11766\, United States
ATTACH;FMTTYPE=image/jpeg:https://amicirestaurant.org/wp-content/uploads/2022/10/trivia-night.jpg
END:VEVENT
BEGIN:VEVENT
DTSTART;TZID=America/New_York:20241227T180000
DTEND;TZID=America/New_York:20241227T210000
DTSTAMP:20260420T205652
CREATED:20241204T180414Z
LAST-MODIFIED:20241204T180414Z
UID:10000635-1735322400-1735333200@amicirestaurant.org
SUMMARY:MaryAnne and The Man
DESCRIPTION:Join MaryAnne and The Man for a night of classic rock acoustic favorites featuring a wide variety of artists!
URL:https://amicirestaurant.org/event/maryanne-and-the-man-5/
LOCATION:Amici Restaurant\, 304 Rt 25A\, Mt Sinai\, NY\, 11766\, United States
ATTACH;FMTTYPE=image/jpeg:https://amicirestaurant.org/wp-content/uploads/2024/02/maryanne-and-the-man1.jpg
END:VEVENT
BEGIN:VEVENT
DTSTART;TZID=America/New_York:20241228T180000
DTEND;TZID=America/New_York:20241228T210000
DTSTAMP:20260420T205652
CREATED:20241204T180355Z
LAST-MODIFIED:20241204T180355Z
UID:10000633-1735408800-1735419600@amicirestaurant.org
SUMMARY:Damaged Goods
DESCRIPTION:Come on down and get damaged with us! \nGreat food and drinks\, so come join us! \n631-473-2400\, please call for details
URL:https://amicirestaurant.org/event/damaged-goods-24/
LOCATION:Amici Restaurant\, 304 Rt 25A\, Mt Sinai\, NY\, 11766\, United States
ATTACH;FMTTYPE=image/jpeg:https://amicirestaurant.org/wp-content/uploads/2021/09/damaged_goods.jpg
END:VEVENT
END:VCALENDAR