BEGIN:VCALENDAR
VERSION:2.0
PRODID:-//Amici - ECPv6.14.0//NONSGML v1.0//EN
CALSCALE:GREGORIAN
METHOD:PUBLISH
X-WR-CALNAME:Amici
X-ORIGINAL-URL:https://amicirestaurant.org
X-WR-CALDESC:Events for Amici
REFRESH-INTERVAL;VALUE=DURATION:PT1H
X-Robots-Tag:noindex
X-PUBLISHED-TTL:PT1H
BEGIN:VTIMEZONE
TZID:America/New_York
BEGIN:DAYLIGHT
TZOFFSETFROM:-0500
TZOFFSETTO:-0400
TZNAME:EDT
DTSTART:20210314T070000
END:DAYLIGHT
BEGIN:STANDARD
TZOFFSETFROM:-0400
TZOFFSETTO:-0500
TZNAME:EST
DTSTART:20211107T060000
END:STANDARD
END:VTIMEZONE
BEGIN:VEVENT
DTSTART;TZID=America/New_York:20210514T180000
DTEND;TZID=America/New_York:20210514T220000
DTSTAMP:20260423T065132
CREATED:20210426T165245Z
LAST-MODIFIED:20210426T165245Z
UID:10000011-1621015200-1621029600@amicirestaurant.org
SUMMARY:The Mutant Kings
DESCRIPTION:The Mutant Kings play the best rock and roll hits from the 50’s\, 60’s and 70’s. \nHear your favorite songs plus a few originals. \nCome have a great time listening to us play decades of ROCK! \nfacebook.com/TheMutantKings \n  \nIn accordance with current NYS capacity rules and hoping to make it a fair and safe experience for all\, we will have two seatings for guests joining us to see the bands in the Backyard on Fridays and Saturdays. \nFirst seating starts between 5PM & 6PM\, with music playing from 6:15 – 7:30 \nSecond seating starts between 7:45 & 8:15\, with music playing from 8:30 – 9:45 \nReservations are required – 631-473-2400\, please call for details
URL:https://amicirestaurant.org/event/the-mutant-kings/
LOCATION:Amici Restaurant\, 304 Rt 25A\, Mt Sinai\, NY\, 11766\, United States
ATTACH;FMTTYPE=image/jpeg:https://amicirestaurant.org/wp-content/uploads/2021/04/the_mutant_kings.jpg
END:VEVENT
BEGIN:VEVENT
DTSTART;TZID=America/New_York:20210508T180000
DTEND;TZID=America/New_York:20210508T220000
DTSTAMP:20260423T065132
CREATED:20210426T163651Z
LAST-MODIFIED:20210426T163651Z
UID:10000009-1620496800-1620511200@amicirestaurant.org
SUMMARY:Nicolls Road
DESCRIPTION:The East Coast’s Premiere Cover Band. \nPlaying all the Throwbacks and Top Hits from your favorite artists! \nWe dare you not to sing along \n  \nwww.facebook.com/nicollsroad \nwww.instagram.com/nicollsroad \n  \nIn accordance with current NYS capacity rules and hoping to make it a fair and safe experience for all\, we will have two seatings for guests joining us to see the bands in the Backyard on Fridays and Saturdays. \nFirst seating starts between 5PM & 6PM\, with music playing from 6:15 – 7:30 \nSecond seating starts between 7:45 & 8:15\, with music playing from 8:30 – 9:45 \nReservations are required – 631-473-2400\, please call for details
URL:https://amicirestaurant.org/event/nicolls-road/
LOCATION:Amici Restaurant\, 304 Rt 25A\, Mt Sinai\, NY\, 11766\, United States
ATTACH;FMTTYPE=image/jpeg:https://amicirestaurant.org/wp-content/uploads/2021/04/nicolls_road.jpg
END:VEVENT
BEGIN:VEVENT
DTSTART;TZID=America/New_York:20210507T180000
DTEND;TZID=America/New_York:20210507T220000
DTSTAMP:20260423T065132
CREATED:20210426T162732Z
LAST-MODIFIED:20210426T163946Z
UID:10000008-1620410400-1620424800@amicirestaurant.org
SUMMARY:DNA
DESCRIPTION:DNA (Danny and Alexis) singing all your favorite songs from yesterday and today! \nFrom Dean Martin to Garth Brooks and Rosemary Clooney to Meghan Trainor. A great mix of genres for all tastes! \nhttps://instagram.com/dna_vocal_duo \nhttps://www.facebook.com/powervocalduo/ \n  \nIn accordance with current NYS capacity rules and hoping to make it a fair and safe experience for all\, we will have two seatings for guests joining us to see the bands in the Backyard on Fridays and Saturdays. \nFirst seating starts between 5PM & 6PM\, with music playing from 6:15 – 7:30 \nSecond seating starts between 7:45 & 8:15\, with music playing from 8:30 – 9:45 \nReservations are required – 631-473-2400\, please call for details
URL:https://amicirestaurant.org/event/dna/
LOCATION:Amici Restaurant\, 304 Rt 25A\, Mt Sinai\, NY\, 11766\, United States
ATTACH;FMTTYPE=image/jpeg:https://amicirestaurant.org/wp-content/uploads/2021/04/DNA-1.jpg
END:VEVENT
BEGIN:VEVENT
DTSTART;TZID=America/New_York:20210501T180000
DTEND;TZID=America/New_York:20210501T220000
DTSTAMP:20260423T065132
CREATED:20210426T162014Z
LAST-MODIFIED:20210426T162054Z
UID:10000007-1619892000-1619906400@amicirestaurant.org
SUMMARY:Chuck Evans Band
DESCRIPTION:Chuck Evans Band… in the words of one fan\, “it’s a bottomless barrel of musical ear candy”. Fans tell the band\, time and time again\, that they loved dancing\, stomping\, singing along to every song!! \nA great laundry list of songs\, new and old\, that patrons of all ages can enjoy!  Chuck Evans Band Electrifying “ One of a kind” With love. \nhttps://www.facebook.com/chuckevansband \nhttps://www.chuckevans.net \n  \nIn accordance with current NYS capacity rules and hoping to make it a fair and safe experience for all\, we will have two seatings for guests joining us to see the bands in the Backyard on Fridays and Saturdays. \nFirst seating starts between 5PM & 6PM\, with music playing from 6:15 – 7:30 \nSecond seating starts between 7:45 & 8:15\, with music playing from 8:30 – 9:45 \nReservations are required – 631-473-2400\, please call for details
URL:https://amicirestaurant.org/event/chuck-evans-band/
LOCATION:Amici Restaurant\, 304 Rt 25A\, Mt Sinai\, NY\, 11766\, United States
ATTACH;FMTTYPE=image/jpeg:https://amicirestaurant.org/wp-content/uploads/2021/04/chuck_evans.jpg
END:VEVENT
BEGIN:VEVENT
DTSTART;TZID=America/New_York:20210430T180000
DTEND;TZID=America/New_York:20210430T220000
DTSTAMP:20260423T065132
CREATED:20210323T211047Z
LAST-MODIFIED:20210413T175931Z
UID:10000003-1619805600-1619820000@amicirestaurant.org
SUMMARY:The Vibe
DESCRIPTION:The Vibe is a high-energy band covering your favorite dance and party music from 70’s disco\, Motown\, 80’s pop/dance\, 90’s rock and current Top 40 hits. \n  \nhttp://instagram.com/thevibeny \nhttps://www.facebook.com/TheVibeNY/ \n  \nIn accordance with current NYS capacity rules and hoping to make it a fair and safe experience for all\, we will have two seatings for guests joining us to see the bands in the Backyard on Fridays and Saturdays.\n\nFirst seating starts between 5PM & 6PM\, with music playing from 6:15 – 7:30\n\nSecond seating starts between 7:45 & 8:15\, with music playing from 8:30 – 9:45\n\nReservations are required – 631-473-2400\, please call for details
URL:https://amicirestaurant.org/event/the-vibe/
LOCATION:Amici Restaurant\, 304 Rt 25A\, Mt Sinai\, NY\, 11766\, United States
ATTACH;FMTTYPE=image/jpeg:https://amicirestaurant.org/wp-content/uploads/2021/03/the-vibe-4-30-21.jpg
END:VEVENT
BEGIN:VEVENT
DTSTART;TZID=America/New_York:20210424T180000
DTEND;TZID=America/New_York:20210424T220000
DTSTAMP:20260423T065132
CREATED:20210323T203124Z
LAST-MODIFIED:20210413T175920Z
UID:10000001-1619287200-1619301600@amicirestaurant.org
SUMMARY:Panic
DESCRIPTION:Panic is a 5 piece Rock / Pop / Dance band  Panic plays something for everyone: Pop\, Rock\, Top 40\, R&B\, Country and more! From yesterday’s Classics to today’s hottest hits\, we play it ALL in a style you can feel and dance to! \n  \nPowerful Female and Male Vocalists\, Thunderous Rhythms\, and Slashing Guitar work along with charisma\, stage presence and showmanship create a live act that is simply fun to see and hear. \n  \nPanic is comprised of New York music scene professionals who know how to entertain\, and what people like to hear \n  \npanictheband.com \ninstagram.com/Panicband \nfacebook.com/worldofpanicone \n  \nIn accordance with current NYS capacity rules and hoping to make it a fair and safe experience for all\, we will have two seatings for guests joining us to see the bands in the Backyard on Fridays and Saturdays.\n\nFirst seating starts between 5PM & 6PM\, with music playing from 6:15 – 7:30\n\nSecond seating starts between 7:45 & 8:15\, with music playing from 8:30 – 9:45\n\nReservations are required – 631-473-2400\, please call for details
URL:https://amicirestaurant.org/event/panic/
LOCATION:Amici Restaurant\, 304 Rt 25A\, Mt Sinai\, NY\, 11766\, United States
ATTACH;FMTTYPE=image/jpeg:https://amicirestaurant.org/wp-content/uploads/2021/03/panic-4-24.jpg
END:VEVENT
BEGIN:VEVENT
DTSTART;TZID=America/New_York:20210423T180000
DTEND;TZID=America/New_York:20210423T220000
DTSTAMP:20260423T065132
CREATED:20210323T205814Z
LAST-MODIFIED:20210413T175907Z
UID:10000005-1619200800-1619215200@amicirestaurant.org
SUMMARY:UrbanAcoustic
DESCRIPTION:UrbanAcoustic has captured something quite distinct by combining an unplugged feel with a full band sound. \n  \nStrong musicianship\, positive energy\, a diverse repertoire\, and an authentic sound. We don’t just stand there and play great music… We have such a great time doing what we do\, it’s felt by everyone in the room.  We make the connection to the crowd and we all have a blast!! \n  \nwww.UrbanAcoustic.com \ninstagram.com/joeaugustgentile \nfacebook.com/UrbanAcousticLI \n  \nIn accordance with current NYS capacity rules and hoping to make it a fair and safe experience for all\, we will have two seatings for guests joining us to see the bands in the Backyard on Fridays and Saturdays.\n\nFirst seating starts between 5PM & 6PM\, with music playing from 6:15 – 7:30\n\nSecond seating starts between 7:45 & 8:15\, with music playing from 8:30 – 9:45\n\nReservations are required – 631-473-2400\, please call for details
URL:https://amicirestaurant.org/event/urbanacoustic/
LOCATION:Amici Restaurant\, 304 Rt 25A\, Mt Sinai\, NY\, 11766\, United States
ATTACH;FMTTYPE=image/jpeg:https://amicirestaurant.org/wp-content/uploads/2021/03/urban-acoustic.jpg
END:VEVENT
BEGIN:VEVENT
DTSTART;TZID=America/New_York:20210417T180000
DTEND;TZID=America/New_York:20210417T220000
DTSTAMP:20260423T065132
CREATED:20210323T205146Z
LAST-MODIFIED:20210413T175856Z
UID:10000004-1618682400-1618696800@amicirestaurant.org
SUMMARY:Mean Machine
DESCRIPTION:Mean Machine is the tri-state area’s most “over the top” party rock cover band. \n  \nBest described as explosive\, alive and exciting\, they deliver an audience interactive live performance second to none. With big guitars\, hard-hitting drums\, and boundless energy they can create a true concert & party vibe in any club\, big or small. Their show has caught the attention of both the staff and patrons of live music venues in the New England area & way beyond. \n  \nFind out what the buzz is about; make a date with Mean Machine now! \n  \nhttps://www.machinelive.com/ \nhttps://www.instagram.com/meanmachinebandny/ \nhttps://www.facebook.com/meanmachinelive \n\nIn accordance with current NYS capacity rules and hoping to make it a fair and safe experience for all\, we will have two seatings for guests joining us to see the bands in the Backyard on Fridays and Saturdays.\n\nFirst seating starts between 5PM & 6PM\, with music playing from 6:15 – 7:30\n\nSecond seating starts between 7:45 & 8:15\, with music playing from 8:30 – 9:45\n\nReservations are required – 631-473-2400\, please call for details
URL:https://amicirestaurant.org/event/mean-machine/
LOCATION:Amici Restaurant\, 304 Rt 25A\, Mt Sinai\, NY\, 11766\, United States
ATTACH;FMTTYPE=image/jpeg:https://amicirestaurant.org/wp-content/uploads/2021/03/mean-machine-logo.jpg
END:VEVENT
BEGIN:VEVENT
DTSTART;TZID=America/New_York:20210416T180000
DTEND;TZID=America/New_York:20210416T220000
DTSTAMP:20260423T065132
CREATED:20210324T165437Z
LAST-MODIFIED:20210416T160156Z
UID:10000006-1618596000-1618610400@amicirestaurant.org
SUMMARY:POSTPONED :(  Paul Mahos returns for the Season Opener in the Backyard at Amici
DESCRIPTION:We’re very excited to have Paul Mahos of New Life Crisis return but weather tonight just isn’t cooperating. \npaul-mahos.com \ninstagram.com/paul_mahos \nfacebook.com/NewLifeCrisis/ \n  \n \nIn accordance with current NYS capacity rules and hoping to make it a fair and safe experience for all\, we will have two seatings for guests joining us to see the bands in the Backyard on Fridays and Saturdays.\n\nFirst seating starts between 5PM & 6PM\, with music playing from 6:15 – 7:30\n\nSecond seating starts between 7:45 & 8:15\, with music playing from 8:30 – 9:45\n\nReservations are required – 631-473-2400\, please call for details
URL:https://amicirestaurant.org/event/paul-mahos-returns-for-the-season-opener-in-the-backyard-at-amici/
LOCATION:Amici Restaurant\, 304 Rt 25A\, Mt Sinai\, NY\, 11766\, United States
ATTACH;FMTTYPE=image/jpeg:https://amicirestaurant.org/wp-content/uploads/2021/03/paul-041621.jpg
END:VEVENT
END:VCALENDAR