BEGIN:VCALENDAR
VERSION:2.0
PRODID:-//Amici - ECPv6.14.0//NONSGML v1.0//EN
CALSCALE:GREGORIAN
METHOD:PUBLISH
X-WR-CALNAME:Amici
X-ORIGINAL-URL:https://amicirestaurant.org
X-WR-CALDESC:Events for Amici
REFRESH-INTERVAL;VALUE=DURATION:PT1H
X-Robots-Tag:noindex
X-PUBLISHED-TTL:PT1H
BEGIN:VTIMEZONE
TZID:America/New_York
BEGIN:DAYLIGHT
TZOFFSETFROM:-0500
TZOFFSETTO:-0400
TZNAME:EDT
DTSTART:20230312T070000
END:DAYLIGHT
BEGIN:STANDARD
TZOFFSETFROM:-0400
TZOFFSETTO:-0500
TZNAME:EST
DTSTART:20231105T060000
END:STANDARD
END:VTIMEZONE
BEGIN:VEVENT
DTSTART;TZID=America/New_York:20230831T183000
DTEND;TZID=America/New_York:20230831T203000
DTSTAMP:20260419T224512
CREATED:20221020T161224Z
LAST-MODIFIED:20240104T171846Z
UID:10000210-1693506600-1693513800@amicirestaurant.org
SUMMARY:Trivia Night!
DESCRIPTION:Join us for Trivia Night at Amici! \nStarting at 6:30 \nAppetizer specials
URL:https://amicirestaurant.org/event/trivia-night/2023-08-31/
LOCATION:Amici Restaurant\, 304 Rt 25A\, Mt Sinai\, NY\, 11766\, United States
ATTACH;FMTTYPE=image/jpeg:https://amicirestaurant.org/wp-content/uploads/2022/10/trivia-night.jpg
END:VEVENT
BEGIN:VEVENT
DTSTART;TZID=America/New_York:20230826T180000
DTEND;TZID=America/New_York:20230826T210000
DTSTAMP:20260419T224512
CREATED:20230802T214610Z
LAST-MODIFIED:20230802T214610Z
UID:10000320-1693072800-1693083600@amicirestaurant.org
SUMMARY:Gina Mingoia
DESCRIPTION:Gina Mingoia has been performing live around Long Island for the last decade. She began singing alongside her father at age 12 and has been performing ever since. In 2018\, she opened for Brett Eldredge at the Brookhaven Amphitheatre\, and in 2019\, she opened for Michael Ray. Gina has recorded several singles in Nashville. \n  \nInstagram: \ninstagram.com/ginamingoia \nFacebook Page \nfacebook.com/ginamingoiamusic \n 
URL:https://amicirestaurant.org/event/gina-mingoia-10/
LOCATION:Amici Restaurant\, 304 Rt 25A\, Mt Sinai\, NY\, 11766\, United States
ATTACH;FMTTYPE=image/jpeg:https://amicirestaurant.org/wp-content/uploads/2021/08/gina_mingoia.jpg
END:VEVENT
BEGIN:VEVENT
DTSTART;TZID=America/New_York:20230824T183000
DTEND;TZID=America/New_York:20230824T203000
DTSTAMP:20260419T224512
CREATED:20221020T161224Z
LAST-MODIFIED:20240104T171846Z
UID:10000209-1692901800-1692909000@amicirestaurant.org
SUMMARY:Trivia Night!
DESCRIPTION:Join us for Trivia Night at Amici! \nStarting at 6:30 \nAppetizer specials
URL:https://amicirestaurant.org/event/trivia-night/2023-08-24/
LOCATION:Amici Restaurant\, 304 Rt 25A\, Mt Sinai\, NY\, 11766\, United States
ATTACH;FMTTYPE=image/jpeg:https://amicirestaurant.org/wp-content/uploads/2022/10/trivia-night.jpg
END:VEVENT
BEGIN:VEVENT
DTSTART;TZID=America/New_York:20230819T180000
DTEND;TZID=America/New_York:20230819T210000
DTSTAMP:20260419T224512
CREATED:20230802T214621Z
LAST-MODIFIED:20230802T214621Z
UID:10000315-1692468000-1692478800@amicirestaurant.org
SUMMARY:Steven Rodriguez
DESCRIPTION:Come see Steven Rodriguez perform live music from all decades! \n631-473-2400\, please call for details
URL:https://amicirestaurant.org/event/steven-rodriguez-14/
LOCATION:Amici Restaurant\, 304 Rt 25A\, Mt Sinai\, NY\, 11766\, United States
ATTACH;FMTTYPE=image/jpeg:https://amicirestaurant.org/wp-content/uploads/2021/09/steven_rodriguez.jpg
END:VEVENT
BEGIN:VEVENT
DTSTART;TZID=America/New_York:20230818T180000
DTEND;TZID=America/New_York:20230818T210000
DTSTAMP:20260419T224512
CREATED:20230802T214902Z
LAST-MODIFIED:20230802T214902Z
UID:10000322-1692381600-1692392400@amicirestaurant.org
SUMMARY:MTM Acoustic
DESCRIPTION:Featuring your favorite trio MTM Acoustic \nLive music by MTM acoustic \n  \nhttps://instagram.com/mtmacoustic
URL:https://amicirestaurant.org/event/mtm-acoustic/
LOCATION:Amici Restaurant\, 304 Rt 25A\, Mt Sinai\, NY\, 11766\, United States
ATTACH;FMTTYPE=image/jpeg:https://amicirestaurant.org/wp-content/uploads/2023/08/MTM.jpg
END:VEVENT
BEGIN:VEVENT
DTSTART;TZID=America/New_York:20230817T183000
DTEND;TZID=America/New_York:20230817T203000
DTSTAMP:20260419T224512
CREATED:20221020T161224Z
LAST-MODIFIED:20240104T171846Z
UID:10000208-1692297000-1692304200@amicirestaurant.org
SUMMARY:Trivia Night!
DESCRIPTION:Join us for Trivia Night at Amici! \nStarting at 6:30 \nAppetizer specials
URL:https://amicirestaurant.org/event/trivia-night/2023-08-17/
LOCATION:Amici Restaurant\, 304 Rt 25A\, Mt Sinai\, NY\, 11766\, United States
ATTACH;FMTTYPE=image/jpeg:https://amicirestaurant.org/wp-content/uploads/2022/10/trivia-night.jpg
END:VEVENT
BEGIN:VEVENT
DTSTART;TZID=America/New_York:20230812T180000
DTEND;TZID=America/New_York:20230812T210000
DTSTAMP:20260419T224512
CREATED:20230802T214637Z
LAST-MODIFIED:20230802T214637Z
UID:10000317-1691863200-1691874000@amicirestaurant.org
SUMMARY:DNA
DESCRIPTION:DNA (Danny and Alexis) singing all your favorite songs from yesterday and today! From Dean Martin to Garth Brooks and Rosemary Clooney to Meghan Trainor. A great mix of genres for all tastes! \nhttps://instagram.com/dna_vocal_duo \nhttps://www.facebook.com/powervocalduo/  \n 
URL:https://amicirestaurant.org/event/dna-25/
LOCATION:Amici Restaurant\, 304 Rt 25A\, Mt Sinai\, NY\, 11766\, United States
ATTACH;FMTTYPE=image/jpeg:https://amicirestaurant.org/wp-content/uploads/2021/04/DNA-1.jpg
END:VEVENT
BEGIN:VEVENT
DTSTART;TZID=America/New_York:20230811T180000
DTEND;TZID=America/New_York:20230811T210000
DTSTAMP:20260419T224512
CREATED:20230802T214648Z
LAST-MODIFIED:20230802T214648Z
UID:10000318-1691776800-1691787600@amicirestaurant.org
SUMMARY:Vinny and Lexi
DESCRIPTION:Vinny and Lexi are two new\, aspiring musicians who play a variety of music including pop\, soft rock\, country\, and more. They have played at various venues and are looking forward to performing again showcasing their talent and love for music. You certainly won’t be disappointed listening to the music of this amazing duo \n631-473-2400\, please call for details
URL:https://amicirestaurant.org/event/vinny-and-lexi-5/
LOCATION:Amici Restaurant\, 304 Rt 25A\, Mt Sinai\, NY\, 11766\, United States
ATTACH;FMTTYPE=image/jpeg:https://amicirestaurant.org/wp-content/uploads/2021/10/lexi_vinny.jpg
END:VEVENT
BEGIN:VEVENT
DTSTART;TZID=America/New_York:20230810T183000
DTEND;TZID=America/New_York:20230810T203000
DTSTAMP:20260419T224512
CREATED:20221020T161224Z
LAST-MODIFIED:20240104T171846Z
UID:10000207-1691692200-1691699400@amicirestaurant.org
SUMMARY:Trivia Night!
DESCRIPTION:Join us for Trivia Night at Amici! \nStarting at 6:30 \nAppetizer specials
URL:https://amicirestaurant.org/event/trivia-night/2023-08-10/
LOCATION:Amici Restaurant\, 304 Rt 25A\, Mt Sinai\, NY\, 11766\, United States
ATTACH;FMTTYPE=image/jpeg:https://amicirestaurant.org/wp-content/uploads/2022/10/trivia-night.jpg
END:VEVENT
BEGIN:VEVENT
DTSTART;TZID=America/New_York:20230805T180000
DTEND;TZID=America/New_York:20230805T210000
DTSTAMP:20260419T224512
CREATED:20230802T214801Z
LAST-MODIFIED:20230802T214805Z
UID:10000321-1691258400-1691269200@amicirestaurant.org
SUMMARY:The Front Porch Rockers
DESCRIPTION:Glenn Jochum\, of Laurel NY and Steve Leighton\, of Stony Brook NY\, revisit the hits and album cuts primarily from the 1960s through the 1980s with reverence and passion.
URL:https://amicirestaurant.org/event/the-front-porch-rockers/
LOCATION:Amici Restaurant\, 304 Rt 25A\, Mt Sinai\, NY\, 11766\, United States
ATTACH;FMTTYPE=image/jpeg:https://amicirestaurant.org/wp-content/uploads/2023/08/front-porch.jpg
END:VEVENT
BEGIN:VEVENT
DTSTART;TZID=America/New_York:20230804T180000
DTEND;TZID=America/New_York:20230804T210000
DTSTAMP:20260419T224512
CREATED:20230802T214628Z
LAST-MODIFIED:20230802T214628Z
UID:10000316-1691172000-1691182800@amicirestaurant.org
SUMMARY:DNA
DESCRIPTION:DNA (Danny and Alexis) singing all your favorite songs from yesterday and today! From Dean Martin to Garth Brooks and Rosemary Clooney to Meghan Trainor. A great mix of genres for all tastes! \nhttps://instagram.com/dna_vocal_duo \nhttps://www.facebook.com/powervocalduo/  \n 
URL:https://amicirestaurant.org/event/dna-24/
LOCATION:Amici Restaurant\, 304 Rt 25A\, Mt Sinai\, NY\, 11766\, United States
ATTACH;FMTTYPE=image/jpeg:https://amicirestaurant.org/wp-content/uploads/2021/04/DNA-1.jpg
END:VEVENT
BEGIN:VEVENT
DTSTART;TZID=America/New_York:20230803T183000
DTEND;TZID=America/New_York:20230803T203000
DTSTAMP:20260419T224512
CREATED:20221020T161224Z
LAST-MODIFIED:20240104T171846Z
UID:10000206-1691087400-1691094600@amicirestaurant.org
SUMMARY:Trivia Night!
DESCRIPTION:Join us for Trivia Night at Amici! \nStarting at 6:30 \nAppetizer specials
URL:https://amicirestaurant.org/event/trivia-night/2023-08-03/
LOCATION:Amici Restaurant\, 304 Rt 25A\, Mt Sinai\, NY\, 11766\, United States
ATTACH;FMTTYPE=image/jpeg:https://amicirestaurant.org/wp-content/uploads/2022/10/trivia-night.jpg
END:VEVENT
BEGIN:VEVENT
DTSTART;TZID=America/New_York:20230729T180000
DTEND;TZID=America/New_York:20230729T213000
DTSTAMP:20260419T224512
CREATED:20230629T222325Z
LAST-MODIFIED:20230729T164041Z
UID:10000311-1690653600-1690666200@amicirestaurant.org
SUMMARY:The Chain - A Fleetwood Mac Experience
DESCRIPTION:Come on down to hear the very best of Fleetwood Mac and Stevie Nicks \nFacebook Page \nwww.facebook.com/thechainlongisland \nWebsite \nthechainlongislsnd.wordpress.com \n631-473-2400\, please call for details
URL:https://amicirestaurant.org/event/the-chain-a-fleetwood-mac-experience/
LOCATION:Amici Restaurant\, 304 Rt 25A\, Mt Sinai\, NY\, 11766\, United States
ATTACH;FMTTYPE=image/jpeg:https://amicirestaurant.org/wp-content/uploads/2021/07/the_chain.jpg
END:VEVENT
BEGIN:VEVENT
DTSTART;TZID=America/New_York:20230729T180000
DTEND;TZID=America/New_York:20230729T210000
DTSTAMP:20260419T224512
CREATED:20230729T164133Z
LAST-MODIFIED:20230729T164133Z
UID:10000314-1690653600-1690664400@amicirestaurant.org
SUMMARY:Carolyn Benson in the Bar!
DESCRIPTION:Join us for music!
URL:https://amicirestaurant.org/event/carolyn-benson-in-the-bar/
LOCATION:Amici Restaurant\, 304 Rt 25A\, Mt Sinai\, NY\, 11766\, United States
ATTACH;FMTTYPE=image/jpeg:https://amicirestaurant.org/wp-content/uploads/2021/09/amici_generic.jpg
END:VEVENT
BEGIN:VEVENT
DTSTART;TZID=America/New_York:20230728T180000
DTEND;TZID=America/New_York:20230728T210000
DTSTAMP:20260419T224512
CREATED:20230629T222153Z
LAST-MODIFIED:20230629T222153Z
UID:10000309-1690567200-1690578000@amicirestaurant.org
SUMMARY:Damaged Goods
DESCRIPTION:Come on down and get damaged with us! \nGreat food and drinks\, so come join us! \n631-473-2400\, please call for details
URL:https://amicirestaurant.org/event/damaged-goods-14/
LOCATION:Amici Restaurant\, 304 Rt 25A\, Mt Sinai\, NY\, 11766\, United States
ATTACH;FMTTYPE=image/jpeg:https://amicirestaurant.org/wp-content/uploads/2021/09/damaged_goods.jpg
END:VEVENT
BEGIN:VEVENT
DTSTART;TZID=America/New_York:20230727T183000
DTEND;TZID=America/New_York:20230727T203000
DTSTAMP:20260419T224512
CREATED:20221020T161224Z
LAST-MODIFIED:20240104T171846Z
UID:10000205-1690482600-1690489800@amicirestaurant.org
SUMMARY:Trivia Night!
DESCRIPTION:Join us for Trivia Night at Amici! \nStarting at 6:30 \nAppetizer specials
URL:https://amicirestaurant.org/event/trivia-night/2023-07-27/
LOCATION:Amici Restaurant\, 304 Rt 25A\, Mt Sinai\, NY\, 11766\, United States
ATTACH;FMTTYPE=image/jpeg:https://amicirestaurant.org/wp-content/uploads/2022/10/trivia-night.jpg
END:VEVENT
BEGIN:VEVENT
DTSTART;TZID=America/New_York:20230722T180000
DTEND;TZID=America/New_York:20230722T210000
DTSTAMP:20260419T224512
CREATED:20230629T222133Z
LAST-MODIFIED:20230629T222133Z
UID:10000307-1690048800-1690059600@amicirestaurant.org
SUMMARY:Steven Rodriguez
DESCRIPTION:Come see Steven Rodriguez perform live music from all decades! \n631-473-2400\, please call for details
URL:https://amicirestaurant.org/event/steven-rodriguez-13/
LOCATION:Amici Restaurant\, 304 Rt 25A\, Mt Sinai\, NY\, 11766\, United States
ATTACH;FMTTYPE=image/jpeg:https://amicirestaurant.org/wp-content/uploads/2021/09/steven_rodriguez.jpg
END:VEVENT
BEGIN:VEVENT
DTSTART;TZID=America/New_York:20230721T180000
DTEND;TZID=America/New_York:20230721T210000
DTSTAMP:20260419T224512
CREATED:20230629T222404Z
LAST-MODIFIED:20230629T222404Z
UID:10000312-1689962400-1689973200@amicirestaurant.org
SUMMARY:DNA
DESCRIPTION:DNA (Danny and Alexis) singing all your favorite songs from yesterday and today! From Dean Martin to Garth Brooks and Rosemary Clooney to Meghan Trainor. A great mix of genres for all tastes! \nhttps://instagram.com/dna_vocal_duo \nhttps://www.facebook.com/powervocalduo/  \n 
URL:https://amicirestaurant.org/event/dna-23/
LOCATION:Amici Restaurant\, 304 Rt 25A\, Mt Sinai\, NY\, 11766\, United States
ATTACH;FMTTYPE=image/jpeg:https://amicirestaurant.org/wp-content/uploads/2021/04/DNA-1.jpg
END:VEVENT
BEGIN:VEVENT
DTSTART;TZID=America/New_York:20230720T183000
DTEND;TZID=America/New_York:20230720T203000
DTSTAMP:20260419T224512
CREATED:20221020T161224Z
LAST-MODIFIED:20240104T171846Z
UID:10000204-1689877800-1689885000@amicirestaurant.org
SUMMARY:Trivia Night!
DESCRIPTION:Join us for Trivia Night at Amici! \nStarting at 6:30 \nAppetizer specials
URL:https://amicirestaurant.org/event/trivia-night/2023-07-20/
LOCATION:Amici Restaurant\, 304 Rt 25A\, Mt Sinai\, NY\, 11766\, United States
ATTACH;FMTTYPE=image/jpeg:https://amicirestaurant.org/wp-content/uploads/2022/10/trivia-night.jpg
END:VEVENT
BEGIN:VEVENT
DTSTART;TZID=America/New_York:20230715T180000
DTEND;TZID=America/New_York:20230715T210000
DTSTAMP:20260419T224512
CREATED:20230629T222030Z
LAST-MODIFIED:20230629T222030Z
UID:10000304-1689444000-1689454800@amicirestaurant.org
SUMMARY:DNA
DESCRIPTION:DNA (Danny and Alexis) singing all your favorite songs from yesterday and today! From Dean Martin to Garth Brooks and Rosemary Clooney to Meghan Trainor. A great mix of genres for all tastes! \nhttps://instagram.com/dna_vocal_duo \nhttps://www.facebook.com/powervocalduo/  \n 
URL:https://amicirestaurant.org/event/dna-22/
LOCATION:Amici Restaurant\, 304 Rt 25A\, Mt Sinai\, NY\, 11766\, United States
ATTACH;FMTTYPE=image/jpeg:https://amicirestaurant.org/wp-content/uploads/2021/04/DNA-1.jpg
END:VEVENT
BEGIN:VEVENT
DTSTART;TZID=America/New_York:20230714T180000
DTEND;TZID=America/New_York:20230714T210000
DTSTAMP:20260419T224512
CREATED:20230629T222144Z
LAST-MODIFIED:20230629T222144Z
UID:10000308-1689357600-1689368400@amicirestaurant.org
SUMMARY:Vinny and Lexi
DESCRIPTION:Vinny and Lexi are two new\, aspiring musicians who play a variety of music including pop\, soft rock\, country\, and more. They have played at various venues and are looking forward to performing again showcasing their talent and love for music. You certainly won’t be disappointed listening to the music of this amazing duo \n631-473-2400\, please call for details
URL:https://amicirestaurant.org/event/vinny-and-lexi-4/
LOCATION:Amici Restaurant\, 304 Rt 25A\, Mt Sinai\, NY\, 11766\, United States
ATTACH;FMTTYPE=image/jpeg:https://amicirestaurant.org/wp-content/uploads/2021/10/lexi_vinny.jpg
END:VEVENT
BEGIN:VEVENT
DTSTART;TZID=America/New_York:20230713T183000
DTEND;TZID=America/New_York:20230713T203000
DTSTAMP:20260419T224512
CREATED:20221020T161224Z
LAST-MODIFIED:20240104T171846Z
UID:10000203-1689273000-1689280200@amicirestaurant.org
SUMMARY:Trivia Night!
DESCRIPTION:Join us for Trivia Night at Amici! \nStarting at 6:30 \nAppetizer specials
URL:https://amicirestaurant.org/event/trivia-night/2023-07-13/
LOCATION:Amici Restaurant\, 304 Rt 25A\, Mt Sinai\, NY\, 11766\, United States
ATTACH;FMTTYPE=image/jpeg:https://amicirestaurant.org/wp-content/uploads/2022/10/trivia-night.jpg
END:VEVENT
BEGIN:VEVENT
DTSTART;TZID=America/New_York:20230708T180000
DTEND;TZID=America/New_York:20230708T210000
DTSTAMP:20260419T224512
CREATED:20230629T222045Z
LAST-MODIFIED:20230629T222045Z
UID:10000305-1688839200-1688850000@amicirestaurant.org
SUMMARY:Toni Ann's Soul Sessions
DESCRIPTION:I am so excited to make my debut at Amici! I specialize in performing well know songs from yesterday and today\, guaranteeing ALL will feel moved….from your head to your soul! You will hear everything from Patsy Cline to Stevie Nicks to Melissa Etheridge and so much more! \n631-473-2400\, please call for details
URL:https://amicirestaurant.org/event/toni-anns-soul-sessions-4/
LOCATION:Amici Restaurant\, 304 Rt 25A\, Mt Sinai\, NY\, 11766\, United States
ATTACH;FMTTYPE=image/jpeg:https://amicirestaurant.org/wp-content/uploads/2023/01/toni_ann.jpg
END:VEVENT
BEGIN:VEVENT
DTSTART;TZID=America/New_York:20230707T180000
DTEND;TZID=America/New_York:20230707T210000
DTSTAMP:20260419T224512
CREATED:20230629T222120Z
LAST-MODIFIED:20230629T222120Z
UID:10000306-1688752800-1688763600@amicirestaurant.org
SUMMARY:DJ Matty Ice Playing Your Requests
DESCRIPTION:Join us for music!
URL:https://amicirestaurant.org/event/dj-matty-ice-playing-your-requests/
LOCATION:Amici Restaurant\, 304 Rt 25A\, Mt Sinai\, NY\, 11766\, United States
ATTACH;FMTTYPE=image/jpeg:https://amicirestaurant.org/wp-content/uploads/2021/09/amici_generic.jpg
END:VEVENT
BEGIN:VEVENT
DTSTART;TZID=America/New_York:20230706T183000
DTEND;TZID=America/New_York:20230706T203000
DTSTAMP:20260419T224512
CREATED:20221020T161224Z
LAST-MODIFIED:20240104T171846Z
UID:10000202-1688668200-1688675400@amicirestaurant.org
SUMMARY:Trivia Night!
DESCRIPTION:Join us for Trivia Night at Amici! \nStarting at 6:30 \nAppetizer specials
URL:https://amicirestaurant.org/event/trivia-night/2023-07-06/
LOCATION:Amici Restaurant\, 304 Rt 25A\, Mt Sinai\, NY\, 11766\, United States
ATTACH;FMTTYPE=image/jpeg:https://amicirestaurant.org/wp-content/uploads/2022/10/trivia-night.jpg
END:VEVENT
BEGIN:VEVENT
DTSTART;TZID=America/New_York:20230701T180000
DTEND;TZID=America/New_York:20230701T210000
DTSTAMP:20260419T224512
CREATED:20230629T222215Z
LAST-MODIFIED:20230629T222215Z
UID:10000310-1688234400-1688245200@amicirestaurant.org
SUMMARY:Matt Bruno
DESCRIPTION:Matt plays a mix of Acoustic Classic Rock music from the 60’s to the 90’s and beyond – everything from Pearl Jam to Tom Petty to The Eagles.  Armed with a set list of 200+ songs\, Matt takes requests from the list all night and acts as a human jukebox! \n  \nhttps://www.instagram.com/mattbrunolive/ \nhttps://www.facebook.com/matthew.bruno.37 \n 
URL:https://amicirestaurant.org/event/matt-bruno-3/
LOCATION:Amici Restaurant\, 304 Rt 25A\, Mt Sinai\, NY\, 11766\, United States
ATTACH;FMTTYPE=image/jpeg:https://amicirestaurant.org/wp-content/uploads/2023/02/matt_bruno.jpg
END:VEVENT
BEGIN:VEVENT
DTSTART;TZID=America/New_York:20230630T180000
DTEND;TZID=America/New_York:20230630T210000
DTSTAMP:20260419T224512
CREATED:20230630T022643Z
LAST-MODIFIED:20230630T022643Z
UID:10000313-1688148000-1688158800@amicirestaurant.org
SUMMARY:Toni Ann's Soul Sessions
DESCRIPTION:I am so excited to make my debut at Amici! I specialize in performing well know songs from yesterday and today\, guaranteeing ALL will feel moved….from your head to your soul! You will hear everything from Patsy Cline to Stevie Nicks to Melissa Etheridge and so much more! \n631-473-2400\, please call for details
URL:https://amicirestaurant.org/event/toni-anns-soul-sessions-5/
LOCATION:Amici Restaurant\, 304 Rt 25A\, Mt Sinai\, NY\, 11766\, United States
ATTACH;FMTTYPE=image/jpeg:https://amicirestaurant.org/wp-content/uploads/2023/01/toni_ann.jpg
END:VEVENT
BEGIN:VEVENT
DTSTART;TZID=America/New_York:20230629T183000
DTEND;TZID=America/New_York:20230629T203000
DTSTAMP:20260419T224512
CREATED:20221020T161224Z
LAST-MODIFIED:20240104T171846Z
UID:10000201-1688063400-1688070600@amicirestaurant.org
SUMMARY:Trivia Night!
DESCRIPTION:Join us for Trivia Night at Amici! \nStarting at 6:30 \nAppetizer specials
URL:https://amicirestaurant.org/event/trivia-night/2023-06-29/
LOCATION:Amici Restaurant\, 304 Rt 25A\, Mt Sinai\, NY\, 11766\, United States
ATTACH;FMTTYPE=image/jpeg:https://amicirestaurant.org/wp-content/uploads/2022/10/trivia-night.jpg
END:VEVENT
BEGIN:VEVENT
DTSTART;TZID=America/New_York:20230624T180000
DTEND;TZID=America/New_York:20230624T210000
DTSTAMP:20260419T224512
CREATED:20230530T204933Z
LAST-MODIFIED:20230530T204933Z
UID:10000294-1687629600-1687640400@amicirestaurant.org
SUMMARY:DNA
DESCRIPTION:DNA (Danny and Alexis) singing all your favorite songs from yesterday and today! From Dean Martin to Garth Brooks and Rosemary Clooney to Meghan Trainor. A great mix of genres for all tastes! \nhttps://instagram.com/dna_vocal_duo \nhttps://www.facebook.com/powervocalduo/  \n 
URL:https://amicirestaurant.org/event/dna-21/
LOCATION:Amici Restaurant\, 304 Rt 25A\, Mt Sinai\, NY\, 11766\, United States
ATTACH;FMTTYPE=image/jpeg:https://amicirestaurant.org/wp-content/uploads/2021/04/DNA-1.jpg
END:VEVENT
BEGIN:VEVENT
DTSTART;TZID=America/New_York:20230623T180000
DTEND;TZID=America/New_York:20230623T210000
DTSTAMP:20260419T224512
CREATED:20230530T205018Z
LAST-MODIFIED:20230530T205018Z
UID:10000297-1687543200-1687554000@amicirestaurant.org
SUMMARY:Toni Ann's Soul Sessions
DESCRIPTION:I am so excited to make my debut at Amici! I specialize in performing well know songs from yesterday and today\, guaranteeing ALL will feel moved….from your head to your soul! You will hear everything from Patsy Cline to Stevie Nicks to Melissa Etheridge and so much more! \n631-473-2400\, please call for details
URL:https://amicirestaurant.org/event/toni-anns-soul-sessions-3/
LOCATION:Amici Restaurant\, 304 Rt 25A\, Mt Sinai\, NY\, 11766\, United States
ATTACH;FMTTYPE=image/jpeg:https://amicirestaurant.org/wp-content/uploads/2023/01/toni_ann.jpg
END:VEVENT
END:VCALENDAR