BEGIN:VCALENDAR
VERSION:2.0
PRODID:-//Amici - ECPv6.14.0//NONSGML v1.0//EN
CALSCALE:GREGORIAN
METHOD:PUBLISH
X-ORIGINAL-URL:https://amicirestaurant.org
X-WR-CALDESC:Events for Amici
REFRESH-INTERVAL;VALUE=DURATION:PT1H
X-Robots-Tag:noindex
X-PUBLISHED-TTL:PT1H
BEGIN:VTIMEZONE
TZID:America/New_York
BEGIN:DAYLIGHT
TZOFFSETFROM:-0500
TZOFFSETTO:-0400
TZNAME:EDT
DTSTART:20230312T070000
END:DAYLIGHT
BEGIN:STANDARD
TZOFFSETFROM:-0400
TZOFFSETTO:-0500
TZNAME:EST
DTSTART:20231105T060000
END:STANDARD
BEGIN:DAYLIGHT
TZOFFSETFROM:-0500
TZOFFSETTO:-0400
TZNAME:EDT
DTSTART:20240310T070000
END:DAYLIGHT
BEGIN:STANDARD
TZOFFSETFROM:-0400
TZOFFSETTO:-0500
TZNAME:EST
DTSTART:20241103T060000
END:STANDARD
END:VTIMEZONE
BEGIN:VEVENT
DTSTART;TZID=America/New_York:20231228T183000
DTEND;TZID=America/New_York:20231228T203000
DTSTAMP:20260419T202225
CREATED:20221020T161224Z
LAST-MODIFIED:20240104T171846Z
UID:10000227-1703788200-1703795400@amicirestaurant.org
SUMMARY:Trivia Night!
DESCRIPTION:Join us for Trivia Night at Amici! \nStarting at 6:30 \nAppetizer specials
URL:https://amicirestaurant.org/event/trivia-night/2023-12-28/
LOCATION:Amici Restaurant\, 304 Rt 25A\, Mt Sinai\, NY\, 11766\, United States
ATTACH;FMTTYPE=image/jpeg:https://amicirestaurant.org/wp-content/uploads/2022/10/trivia-night.jpg
END:VEVENT
BEGIN:VEVENT
DTSTART;TZID=America/New_York:20231229T180000
DTEND;TZID=America/New_York:20231229T210000
DTSTAMP:20260419T202225
CREATED:20231121T161155Z
LAST-MODIFIED:20231121T161155Z
UID:10000351-1703872800-1703883600@amicirestaurant.org
SUMMARY:Vinny and Lexi
DESCRIPTION:Vinny and Lexi are two new\, aspiring musicians who play a variety of music including pop\, soft rock\, country\, and more. They have played at various venues and are looking forward to performing again showcasing their talent and love for music. You certainly won’t be disappointed listening to the music of this amazing duo \n631-473-2400\, please call for details
URL:https://amicirestaurant.org/event/vinny-and-lexi-8/
LOCATION:Amici Restaurant\, 304 Rt 25A\, Mt Sinai\, NY\, 11766\, United States
ATTACH;FMTTYPE=image/jpeg:https://amicirestaurant.org/wp-content/uploads/2023/10/lexi_vinny2.jpg
END:VEVENT
BEGIN:VEVENT
DTSTART;TZID=America/New_York:20231230T180000
DTEND;TZID=America/New_York:20231230T210000
DTSTAMP:20260419T202225
CREATED:20231121T161211Z
LAST-MODIFIED:20231121T161211Z
UID:10000353-1703959200-1703970000@amicirestaurant.org
SUMMARY:DNA
DESCRIPTION:DNA (Danny and Alexis) singing all your favorite songs from yesterday and today! From Dean Martin to Garth Brooks and Rosemary Clooney to Meghan Trainor. A great mix of genres for all tastes! \nhttps://instagram.com/dna_vocal_duo \nhttps://www.facebook.com/powervocalduo/  \n 
URL:https://amicirestaurant.org/event/dna-34/
LOCATION:Amici Restaurant\, 304 Rt 25A\, Mt Sinai\, NY\, 11766\, United States
ATTACH;FMTTYPE=image/jpeg:https://amicirestaurant.org/wp-content/uploads/2021/04/DNA-1.jpg
END:VEVENT
BEGIN:VEVENT
DTSTART;TZID=America/New_York:20240104T183000
DTEND;TZID=America/New_York:20240104T203000
DTSTAMP:20260419T202225
CREATED:20221020T161224Z
LAST-MODIFIED:20240104T171846Z
UID:10000360-1704393000-1704400200@amicirestaurant.org
SUMMARY:Trivia Night!
DESCRIPTION:Join us for Trivia Night at Amici! \nStarting at 6:30 \nAppetizer specials
URL:https://amicirestaurant.org/event/trivia-night/2024-01-04/
LOCATION:Amici Restaurant\, 304 Rt 25A\, Mt Sinai\, NY\, 11766\, United States
ATTACH;FMTTYPE=image/jpeg:https://amicirestaurant.org/wp-content/uploads/2022/10/trivia-night.jpg
END:VEVENT
BEGIN:VEVENT
DTSTART;TZID=America/New_York:20240105T180000
DTEND;TZID=America/New_York:20240105T210000
DTSTAMP:20260419T202225
CREATED:20240104T172001Z
LAST-MODIFIED:20240104T172001Z
UID:10000413-1704477600-1704488400@amicirestaurant.org
SUMMARY:Toni Ann's Soul Sessions
DESCRIPTION:I am so excited to make my debut at Amici! I specialize in performing well know songs from yesterday and today\, guaranteeing ALL will feel moved….from your head to your soul! You will hear everything from Patsy Cline to Stevie Nicks to Melissa Etheridge and so much more! \n631-473-2400\, please call for details
URL:https://amicirestaurant.org/event/toni-anns-soul-sessions-10/
LOCATION:Amici Restaurant\, 304 Rt 25A\, Mt Sinai\, NY\, 11766\, United States
ATTACH;FMTTYPE=image/jpeg:https://amicirestaurant.org/wp-content/uploads/2023/01/toni_ann.jpg
END:VEVENT
BEGIN:VEVENT
DTSTART;TZID=America/New_York:20240106T180000
DTEND;TZID=America/New_York:20240106T210000
DTSTAMP:20260419T202225
CREATED:20240104T172008Z
LAST-MODIFIED:20240104T172008Z
UID:10000414-1704564000-1704574800@amicirestaurant.org
SUMMARY:Damaged Goods
DESCRIPTION:Come on down and get damaged with us! \nGreat food and drinks\, so come join us! \n631-473-2400\, please call for details
URL:https://amicirestaurant.org/event/damaged-goods-18/
LOCATION:Amici Restaurant\, 304 Rt 25A\, Mt Sinai\, NY\, 11766\, United States
ATTACH;FMTTYPE=image/jpeg:https://amicirestaurant.org/wp-content/uploads/2021/09/damaged_goods.jpg
END:VEVENT
BEGIN:VEVENT
DTSTART;TZID=America/New_York:20240111T183000
DTEND;TZID=America/New_York:20240111T203000
DTSTAMP:20260419T202225
CREATED:20221020T161224Z
LAST-MODIFIED:20240104T171846Z
UID:10000361-1704997800-1705005000@amicirestaurant.org
SUMMARY:Trivia Night!
DESCRIPTION:Join us for Trivia Night at Amici! \nStarting at 6:30 \nAppetizer specials
URL:https://amicirestaurant.org/event/trivia-night/2024-01-11/
LOCATION:Amici Restaurant\, 304 Rt 25A\, Mt Sinai\, NY\, 11766\, United States
ATTACH;FMTTYPE=image/jpeg:https://amicirestaurant.org/wp-content/uploads/2022/10/trivia-night.jpg
END:VEVENT
BEGIN:VEVENT
DTSTART;TZID=America/New_York:20240112T180000
DTEND;TZID=America/New_York:20240112T210000
DTSTAMP:20260419T202225
CREATED:20240104T172015Z
LAST-MODIFIED:20240104T172015Z
UID:10000415-1705082400-1705093200@amicirestaurant.org
SUMMARY:Vinnie & Linda\, The VinLin Show
DESCRIPTION:Linda – LuLu – and I doing a Duo \nLive Music in the lounge! \n631-473-2400\, please call for details
URL:https://amicirestaurant.org/event/vinnie-linda-the-vinlin-show-7/
LOCATION:Amici Restaurant\, 304 Rt 25A\, Mt Sinai\, NY\, 11766\, United States
ATTACH;FMTTYPE=image/jpeg:https://amicirestaurant.org/wp-content/uploads/2022/01/vinny_linda.jpg
END:VEVENT
BEGIN:VEVENT
DTSTART;TZID=America/New_York:20240113T180000
DTEND;TZID=America/New_York:20240113T210000
DTSTAMP:20260419T202225
CREATED:20240104T172023Z
LAST-MODIFIED:20240104T172023Z
UID:10000416-1705168800-1705179600@amicirestaurant.org
SUMMARY:DNA
DESCRIPTION:DNA (Danny and Alexis) singing all your favorite songs from yesterday and today! From Dean Martin to Garth Brooks and Rosemary Clooney to Meghan Trainor. A great mix of genres for all tastes! \nhttps://instagram.com/dna_vocal_duo \nhttps://www.facebook.com/powervocalduo/  \n 
URL:https://amicirestaurant.org/event/dna-35/
LOCATION:Amici Restaurant\, 304 Rt 25A\, Mt Sinai\, NY\, 11766\, United States
ATTACH;FMTTYPE=image/jpeg:https://amicirestaurant.org/wp-content/uploads/2021/04/DNA-1.jpg
END:VEVENT
BEGIN:VEVENT
DTSTART;TZID=America/New_York:20240118T183000
DTEND;TZID=America/New_York:20240118T203000
DTSTAMP:20260419T202225
CREATED:20221020T161224Z
LAST-MODIFIED:20240104T171846Z
UID:10000362-1705602600-1705609800@amicirestaurant.org
SUMMARY:Trivia Night!
DESCRIPTION:Join us for Trivia Night at Amici! \nStarting at 6:30 \nAppetizer specials
URL:https://amicirestaurant.org/event/trivia-night/2024-01-18/
LOCATION:Amici Restaurant\, 304 Rt 25A\, Mt Sinai\, NY\, 11766\, United States
ATTACH;FMTTYPE=image/jpeg:https://amicirestaurant.org/wp-content/uploads/2022/10/trivia-night.jpg
END:VEVENT
BEGIN:VEVENT
DTSTART;TZID=America/New_York:20240119T180000
DTEND;TZID=America/New_York:20240119T210000
DTSTAMP:20260419T202225
CREATED:20240104T172118Z
LAST-MODIFIED:20240104T172118Z
UID:10000419-1705687200-1705698000@amicirestaurant.org
SUMMARY:Gina Mingoia
DESCRIPTION:Gina Mingoia has been performing live around Long Island for the last decade. She began singing alongside her father at age 12 and has been performing ever since. In 2018\, she opened for Brett Eldredge at the Brookhaven Amphitheatre\, and in 2019\, she opened for Michael Ray. Gina has recorded several singles in Nashville. \n  \nInstagram: \ninstagram.com/ginamingoia \nFacebook Page \nfacebook.com/ginamingoiamusic \n 
URL:https://amicirestaurant.org/event/gina-mingoia-13/
LOCATION:Amici Restaurant\, 304 Rt 25A\, Mt Sinai\, NY\, 11766\, United States
ATTACH;FMTTYPE=image/jpeg:https://amicirestaurant.org/wp-content/uploads/2021/08/gina_mingoia.jpg
END:VEVENT
BEGIN:VEVENT
DTSTART;TZID=America/New_York:20240120T180000
DTEND;TZID=America/New_York:20240120T210000
DTSTAMP:20260419T202225
CREATED:20240104T172041Z
LAST-MODIFIED:20240104T172041Z
UID:10000418-1705773600-1705784400@amicirestaurant.org
SUMMARY:Carolyn Benson in the Bar!
DESCRIPTION:Carolyn Benson\, a versatile songstress\, dazzles audiences with her dynamic renditions of Broadway classics\, nostalgic hits from the 60s\, 70s\, and 80s\, and electrifying disco covers. As the frontwoman of a celebrated Linda Ronstadt tribute band\, Carolyn’s captivating performances breathe new life into timeless tunes\, ensuring a memorable experience for music lovers of all ages \nhttps://www.facebook.com/CarolynBensonOfficial \nhttps://carolynbenson.us
URL:https://amicirestaurant.org/event/carolyn-benson-in-the-bar-5/
LOCATION:Amici Restaurant\, 304 Rt 25A\, Mt Sinai\, NY\, 11766\, United States
ATTACH;FMTTYPE=image/jpeg:https://amicirestaurant.org/wp-content/uploads/2023/11/carolyn_benson.jpg
END:VEVENT
BEGIN:VEVENT
DTSTART;TZID=America/New_York:20240125T183000
DTEND;TZID=America/New_York:20240125T203000
DTSTAMP:20260419T202225
CREATED:20221020T161224Z
LAST-MODIFIED:20240104T171846Z
UID:10000363-1706207400-1706214600@amicirestaurant.org
SUMMARY:Trivia Night!
DESCRIPTION:Join us for Trivia Night at Amici! \nStarting at 6:30 \nAppetizer specials
URL:https://amicirestaurant.org/event/trivia-night/2024-01-25/
LOCATION:Amici Restaurant\, 304 Rt 25A\, Mt Sinai\, NY\, 11766\, United States
ATTACH;FMTTYPE=image/jpeg:https://amicirestaurant.org/wp-content/uploads/2022/10/trivia-night.jpg
END:VEVENT
BEGIN:VEVENT
DTSTART;TZID=America/New_York:20240126T180000
DTEND;TZID=America/New_York:20240126T210000
DTSTAMP:20260419T202225
CREATED:20240104T172102Z
LAST-MODIFIED:20240104T172102Z
UID:10000412-1706292000-1706302800@amicirestaurant.org
SUMMARY:Vinny and Lexi
DESCRIPTION:Vinny and Lexi are two new\, aspiring musicians who play a variety of music including pop\, soft rock\, country\, and more. They have played at various venues and are looking forward to performing again showcasing their talent and love for music. You certainly won’t be disappointed listening to the music of this amazing duo \n631-473-2400\, please call for details
URL:https://amicirestaurant.org/event/vinny-and-lexi-9/
LOCATION:Amici Restaurant\, 304 Rt 25A\, Mt Sinai\, NY\, 11766\, United States
ATTACH;FMTTYPE=image/jpeg:https://amicirestaurant.org/wp-content/uploads/2023/10/lexi_vinny2.jpg
END:VEVENT
BEGIN:VEVENT
DTSTART;TZID=America/New_York:20240127T180000
DTEND;TZID=America/New_York:20240127T210000
DTSTAMP:20260419T202225
CREATED:20240104T172031Z
LAST-MODIFIED:20240104T172031Z
UID:10000417-1706378400-1706389200@amicirestaurant.org
SUMMARY:DNA
DESCRIPTION:DNA (Danny and Alexis) singing all your favorite songs from yesterday and today! From Dean Martin to Garth Brooks and Rosemary Clooney to Meghan Trainor. A great mix of genres for all tastes! \nhttps://instagram.com/dna_vocal_duo \nhttps://www.facebook.com/powervocalduo/  \n 
URL:https://amicirestaurant.org/event/dna-36/
LOCATION:Amici Restaurant\, 304 Rt 25A\, Mt Sinai\, NY\, 11766\, United States
ATTACH;FMTTYPE=image/jpeg:https://amicirestaurant.org/wp-content/uploads/2021/04/DNA-1.jpg
END:VEVENT
BEGIN:VEVENT
DTSTART;TZID=America/New_York:20240201T183000
DTEND;TZID=America/New_York:20240201T203000
DTSTAMP:20260419T202225
CREATED:20221020T161224Z
LAST-MODIFIED:20240104T171846Z
UID:10000364-1706812200-1706819400@amicirestaurant.org
SUMMARY:Trivia Night!
DESCRIPTION:Join us for Trivia Night at Amici! \nStarting at 6:30 \nAppetizer specials
URL:https://amicirestaurant.org/event/trivia-night/2024-02-01/
LOCATION:Amici Restaurant\, 304 Rt 25A\, Mt Sinai\, NY\, 11766\, United States
ATTACH;FMTTYPE=image/jpeg:https://amicirestaurant.org/wp-content/uploads/2022/10/trivia-night.jpg
END:VEVENT
BEGIN:VEVENT
DTSTART;TZID=America/New_York:20240202T180000
DTEND;TZID=America/New_York:20240202T210000
DTSTAMP:20260419T202225
CREATED:20240129T035649Z
LAST-MODIFIED:20240129T035649Z
UID:10000426-1706896800-1706907600@amicirestaurant.org
SUMMARY:Solo Joe Boomer Band
DESCRIPTION:THE SOLO JOE “BOOMER BAND”! \nTons of Classic Rock\, Mellow Rock\, Outlaw Country\, Big Band\, Swing\, Grunge\, Dance…All the hits\, all the time! “Everything\, from Sinatra to Nirvana”\, 40’s through 2021! A diverse solo performer that sounds like a full band without any of the excessive volume issues that can sometimes destroy a performance in smaller venues. \nBoasting a state of the art sound system and a catalogue of over 1000 songs chosen from widely varying genres\, Solo Joe is a long time favorite at Country Clubs\, Casinos\, PAC’s\,  High end restaurants\, Corporate/Municipal events as well as many other types of live music venues in the Northeast\, across the USA and around the world. \nAs a veteran of the United States Army elite 82nd Airborne division\, Solo Joe has had the  privilege of having  toured internationally w/Navy Entertainment (Sigonella NAS 2\, Navy Base at Naples Italy\, Guantanamo Bay Cuba\, Abu Dhabi UAE). He’s entertained 1000’s of American armed service people around the globe for the past 30 years. \nHaving fulfilled  multiple contracts as lounge entertainment with various major cruise lines and casinos globally\, his act is highly polished\, personable and engaging. Always taking requests and playing dedications  he’s performed everything from “The Wheels On The Bus go ‘round and ‘round” for toddlers at family friendly events to “Born to be wild” and “This Life” at Sturgis bike week for cast members from  “Sons of Anarchy”. \nHearing his occasional between song banter and anecdotal humor\, it quickly becomes evident that he thoroughly enjoys his job as much as the audience enjoys his performance. \nSolo Joe has been a featured performer at Orlando FL Walt Disney World’s EPCOT Theme park on the American Garden Stage for 8 years in a row performing week-long runs with the “Sounds Like Summer” concert series. \nWhen you see a Solo Joe Show\, you’ll feel as though you’re sitting in your living room listening to the original artist performing some of your favorite tunes just the way you remember hearing them! \n631-473-2400\, please call for details
URL:https://amicirestaurant.org/event/solo-joe-boomer-band-11/
LOCATION:Amici Restaurant\, 304 Rt 25A\, Mt Sinai\, NY\, 11766\, United States
ATTACH;FMTTYPE=image/jpeg:https://amicirestaurant.org/wp-content/uploads/2021/10/solo_joe.jpg
END:VEVENT
BEGIN:VEVENT
DTSTART;TZID=America/New_York:20240203T180000
DTEND;TZID=America/New_York:20240203T210000
DTSTAMP:20260419T202225
CREATED:20240129T035639Z
LAST-MODIFIED:20240129T035639Z
UID:10000425-1706983200-1706994000@amicirestaurant.org
SUMMARY:Toni Ann's Soul Sessions
DESCRIPTION:I am so excited to make my debut at Amici! I specialize in performing well know songs from yesterday and today\, guaranteeing ALL will feel moved….from your head to your soul! You will hear everything from Patsy Cline to Stevie Nicks to Melissa Etheridge and so much more! \n631-473-2400\, please call for details
URL:https://amicirestaurant.org/event/toni-anns-soul-sessions-11/
LOCATION:Amici Restaurant\, 304 Rt 25A\, Mt Sinai\, NY\, 11766\, United States
ATTACH;FMTTYPE=image/jpeg:https://amicirestaurant.org/wp-content/uploads/2023/01/toni_ann.jpg
END:VEVENT
BEGIN:VEVENT
DTSTART;TZID=America/New_York:20240208T183000
DTEND;TZID=America/New_York:20240208T203000
DTSTAMP:20260419T202225
CREATED:20221020T161224Z
LAST-MODIFIED:20240104T171846Z
UID:10000365-1707417000-1707424200@amicirestaurant.org
SUMMARY:Trivia Night!
DESCRIPTION:Join us for Trivia Night at Amici! \nStarting at 6:30 \nAppetizer specials
URL:https://amicirestaurant.org/event/trivia-night/2024-02-08/
LOCATION:Amici Restaurant\, 304 Rt 25A\, Mt Sinai\, NY\, 11766\, United States
ATTACH;FMTTYPE=image/jpeg:https://amicirestaurant.org/wp-content/uploads/2022/10/trivia-night.jpg
END:VEVENT
BEGIN:VEVENT
DTSTART;TZID=America/New_York:20240209T180000
DTEND;TZID=America/New_York:20240209T210000
DTSTAMP:20260419T202225
CREATED:20240129T035614Z
LAST-MODIFIED:20240129T035614Z
UID:10000422-1707501600-1707512400@amicirestaurant.org
SUMMARY:Vinny and Lexi
DESCRIPTION:Vinny and Lexi are two new\, aspiring musicians who play a variety of music including pop\, soft rock\, country\, and more. They have played at various venues and are looking forward to performing again showcasing their talent and love for music. You certainly won’t be disappointed listening to the music of this amazing duo \n631-473-2400\, please call for details
URL:https://amicirestaurant.org/event/vinny-and-lexi-10/
LOCATION:Amici Restaurant\, 304 Rt 25A\, Mt Sinai\, NY\, 11766\, United States
ATTACH;FMTTYPE=image/jpeg:https://amicirestaurant.org/wp-content/uploads/2023/10/lexi_vinny2.jpg
END:VEVENT
BEGIN:VEVENT
DTSTART;TZID=America/New_York:20240210T180000
DTEND;TZID=America/New_York:20240210T210000
DTSTAMP:20260419T202225
CREATED:20240129T035656Z
LAST-MODIFIED:20240129T035656Z
UID:10000427-1707588000-1707598800@amicirestaurant.org
SUMMARY:Steven Rodriguez
DESCRIPTION:Come see Steven Rodriguez perform live music from all decades! \n631-473-2400\, please call for details
URL:https://amicirestaurant.org/event/steven-rodriguez-16/
LOCATION:Amici Restaurant\, 304 Rt 25A\, Mt Sinai\, NY\, 11766\, United States
ATTACH;FMTTYPE=image/jpeg:https://amicirestaurant.org/wp-content/uploads/2021/09/steven_rodriguez.jpg
END:VEVENT
BEGIN:VEVENT
DTSTART;TZID=America/New_York:20240215T183000
DTEND;TZID=America/New_York:20240215T203000
DTSTAMP:20260419T202225
CREATED:20221020T161224Z
LAST-MODIFIED:20240104T171846Z
UID:10000366-1708021800-1708029000@amicirestaurant.org
SUMMARY:Trivia Night!
DESCRIPTION:Join us for Trivia Night at Amici! \nStarting at 6:30 \nAppetizer specials
URL:https://amicirestaurant.org/event/trivia-night/2024-02-15/
LOCATION:Amici Restaurant\, 304 Rt 25A\, Mt Sinai\, NY\, 11766\, United States
ATTACH;FMTTYPE=image/jpeg:https://amicirestaurant.org/wp-content/uploads/2022/10/trivia-night.jpg
END:VEVENT
BEGIN:VEVENT
DTSTART;TZID=America/New_York:20240216T180000
DTEND;TZID=America/New_York:20240216T210000
DTSTAMP:20260419T202225
CREATED:20240129T035559Z
LAST-MODIFIED:20240129T035559Z
UID:10000420-1708106400-1708117200@amicirestaurant.org
SUMMARY:DNA
DESCRIPTION:DNA (Danny and Alexis) singing all your favorite songs from yesterday and today! From Dean Martin to Garth Brooks and Rosemary Clooney to Meghan Trainor. A great mix of genres for all tastes! \nhttps://instagram.com/dna_vocal_duo \nhttps://www.facebook.com/powervocalduo/  \n 
URL:https://amicirestaurant.org/event/dna-37/
LOCATION:Amici Restaurant\, 304 Rt 25A\, Mt Sinai\, NY\, 11766\, United States
ATTACH;FMTTYPE=image/jpeg:https://amicirestaurant.org/wp-content/uploads/2021/04/DNA-1.jpg
END:VEVENT
BEGIN:VEVENT
DTSTART;TZID=America/New_York:20240217T180000
DTEND;TZID=America/New_York:20240217T210000
DTSTAMP:20260419T202225
CREATED:20240129T035621Z
LAST-MODIFIED:20240129T035621Z
UID:10000423-1708192800-1708203600@amicirestaurant.org
SUMMARY:Carolyn Benson in the Bar!
DESCRIPTION:Carolyn Benson\, a versatile songstress\, dazzles audiences with her dynamic renditions of Broadway classics\, nostalgic hits from the 60s\, 70s\, and 80s\, and electrifying disco covers. As the frontwoman of a celebrated Linda Ronstadt tribute band\, Carolyn’s captivating performances breathe new life into timeless tunes\, ensuring a memorable experience for music lovers of all ages \nhttps://www.facebook.com/CarolynBensonOfficial \nhttps://carolynbenson.us
URL:https://amicirestaurant.org/event/carolyn-benson-in-the-bar-6/
LOCATION:Amici Restaurant\, 304 Rt 25A\, Mt Sinai\, NY\, 11766\, United States
ATTACH;FMTTYPE=image/jpeg:https://amicirestaurant.org/wp-content/uploads/2023/11/carolyn_benson.jpg
END:VEVENT
BEGIN:VEVENT
DTSTART;TZID=America/New_York:20240222T183000
DTEND;TZID=America/New_York:20240222T203000
DTSTAMP:20260419T202225
CREATED:20221020T161224Z
LAST-MODIFIED:20240104T171846Z
UID:10000367-1708626600-1708633800@amicirestaurant.org
SUMMARY:Trivia Night!
DESCRIPTION:Join us for Trivia Night at Amici! \nStarting at 6:30 \nAppetizer specials
URL:https://amicirestaurant.org/event/trivia-night/2024-02-22/
LOCATION:Amici Restaurant\, 304 Rt 25A\, Mt Sinai\, NY\, 11766\, United States
ATTACH;FMTTYPE=image/jpeg:https://amicirestaurant.org/wp-content/uploads/2022/10/trivia-night.jpg
END:VEVENT
BEGIN:VEVENT
DTSTART;TZID=America/New_York:20240223T180000
DTEND;TZID=America/New_York:20240223T210000
DTSTAMP:20260419T202225
CREATED:20240129T035631Z
LAST-MODIFIED:20240129T035631Z
UID:10000424-1708711200-1708722000@amicirestaurant.org
SUMMARY:Vinnie & Linda\, The VinLin Show
DESCRIPTION:Linda – LuLu – and I doing a Duo \nLive Music in the lounge! \n631-473-2400\, please call for details
URL:https://amicirestaurant.org/event/vinnie-linda-the-vinlin-show-8/
LOCATION:Amici Restaurant\, 304 Rt 25A\, Mt Sinai\, NY\, 11766\, United States
ATTACH;FMTTYPE=image/jpeg:https://amicirestaurant.org/wp-content/uploads/2022/01/vinny_linda.jpg
END:VEVENT
BEGIN:VEVENT
DTSTART;TZID=America/New_York:20240224T180000
DTEND;TZID=America/New_York:20240224T210000
DTSTAMP:20260419T202225
CREATED:20240129T035606Z
LAST-MODIFIED:20240129T035606Z
UID:10000421-1708797600-1708808400@amicirestaurant.org
SUMMARY:DNA
DESCRIPTION:DNA (Danny and Alexis) singing all your favorite songs from yesterday and today! From Dean Martin to Garth Brooks and Rosemary Clooney to Meghan Trainor. A great mix of genres for all tastes! \nhttps://instagram.com/dna_vocal_duo \nhttps://www.facebook.com/powervocalduo/  \n 
URL:https://amicirestaurant.org/event/dna-38/
LOCATION:Amici Restaurant\, 304 Rt 25A\, Mt Sinai\, NY\, 11766\, United States
ATTACH;FMTTYPE=image/jpeg:https://amicirestaurant.org/wp-content/uploads/2021/04/DNA-1.jpg
END:VEVENT
BEGIN:VEVENT
DTSTART;TZID=America/New_York:20240229T183000
DTEND;TZID=America/New_York:20240229T203000
DTSTAMP:20260419T202225
CREATED:20221020T161224Z
LAST-MODIFIED:20240104T171846Z
UID:10000368-1709231400-1709238600@amicirestaurant.org
SUMMARY:Trivia Night!
DESCRIPTION:Join us for Trivia Night at Amici! \nStarting at 6:30 \nAppetizer specials
URL:https://amicirestaurant.org/event/trivia-night/2024-02-29/
LOCATION:Amici Restaurant\, 304 Rt 25A\, Mt Sinai\, NY\, 11766\, United States
ATTACH;FMTTYPE=image/jpeg:https://amicirestaurant.org/wp-content/uploads/2022/10/trivia-night.jpg
END:VEVENT
BEGIN:VEVENT
DTSTART;TZID=America/New_York:20240301T180000
DTEND;TZID=America/New_York:20240301T210000
DTSTAMP:20260419T202225
CREATED:20240226T154101Z
LAST-MODIFIED:20240226T154101Z
UID:10000437-1709316000-1709326800@amicirestaurant.org
SUMMARY:MaryAnne and The Man
DESCRIPTION:Join MaryAnne and The Man for a night of classic rock acoustic favorites featuring a wide variety of artists!
URL:https://amicirestaurant.org/event/maryanne-and-the-man/
LOCATION:Amici Restaurant\, 304 Rt 25A\, Mt Sinai\, NY\, 11766\, United States
ATTACH;FMTTYPE=image/jpeg:https://amicirestaurant.org/wp-content/uploads/2024/02/maryanne-and-the-man1.jpg
END:VEVENT
BEGIN:VEVENT
DTSTART;TZID=America/New_York:20240302T180000
DTEND;TZID=America/New_York:20240302T210000
DTSTAMP:20260419T202225
CREATED:20240226T153503Z
LAST-MODIFIED:20240226T153503Z
UID:10000428-1709402400-1709413200@amicirestaurant.org
SUMMARY:Vinny and Lexi
DESCRIPTION:Vinny and Lexi are two new\, aspiring musicians who play a variety of music including pop\, soft rock\, country\, and more. They have played at various venues and are looking forward to performing again showcasing their talent and love for music. You certainly won’t be disappointed listening to the music of this amazing duo \n631-473-2400\, please call for details
URL:https://amicirestaurant.org/event/vinny-and-lexi-11/
LOCATION:Amici Restaurant\, 304 Rt 25A\, Mt Sinai\, NY\, 11766\, United States
ATTACH;FMTTYPE=image/jpeg:https://amicirestaurant.org/wp-content/uploads/2023/10/lexi_vinny2.jpg
END:VEVENT
END:VCALENDAR